{"text_format":"1","workbook":"xlsx","n_sheets":27,"sheets":["KEW-HQ","Maklumat Umum","Maklumat Tuntutan","All_months","Claim_page2_All_months","FebXX","Apr23","Claim_page1_FebXX","Claim_page1_Apr23","May23","Claim_page1_May23","Jun23","Claim_page1_Jun23","Jul23","Claim_page1_Jul23","Aug23","Claim_page1_Aug23","Sep23","Claim_page1_Sep23","Oct23","Claim_page1_Oct23","Nov23","Claim_page1_Nov23","Dec23","Claim_page1_Dec23","Jan24","Claim_page1_Jan24"],"not_rendered":{"charts":0,"images":0,"macros":1,"external_links":0,"defined_names":35,"comments":0,"pivot_tables":0},"unopened":[],"bounds":{"document_bytes":16777216,"sheet_cells":100000,"rows_first":2000,"rows_last":500,"rows_between":2000,"halvings":0,"cell_chars":16384,"cell_head_chars":4096},"cells_cut":0,"cells_raw":0,"read":"whole","date_system":"1900"}

{"sheet":"KEW-HQ","index":0,"n_rows":31,"n_cols":18,"rows_kept":31,"cut":false,"hidden":true,"merged":[[12,7,12,10],[12,11,12,12]]}
[]
["FORMAT LAPORAN TUNTUTAN  "]
["Nota : Jumlah tuntutan merujuk kepada rekod Pendaftaran Perantis"]
[]
["CADANGAN TARIKH PEMBAYARAN DIMASUKKAN KE DALAM AKAUN PB "]
[]
["TARIKH CUTOFF KEMASKINI LAPORAN TUNTUTAN OLEH JPK WILAYAH KEPADA JPK HQ  :  5HB "]
["DOKUMEN DISIMPAN OLEH JPK WILAYAH : INVOIS & LAPORAN KEHADIRAN"]
[]
["TARIKH KEWANGAN JPK TERIMA LAPORAN TUNTUTAN DR UPS : 10 HB "]
["Format Laporan Tuntutan IBU PEJABAT KEPADA SEKSYEN KEWANGAN KPSM"]
[]
[null,null,null,null,null,null,null,"BILANGAN TUNTUTAN",null,null,null,"TUNTUTAN"]
["BIL","KOD PB","NAMA PB","NAMA BANK ","NO AKAUN BANK","No Batch","Tempoh Latihan (bulan)",1,2,3,4,"APRIL","MEI","Jun","AMAUN BAYARAN ","AMAUN TIDAK LAYAK DIBAYAR","Bilangan KUOTA perantis DILULUSKAN","BILANGAN PERANTIS DIDAFTARKAN"]
[null,null,"ABC",null,null,"AA",2,null,null,null,null,null,null,null,{"$f":"#REF!*#REF!","v":{"$error":"#REF!"}},400,25,20]
[null,null,null,null,null,null,4,null,null,null,null,null,null,null,null,1000]
[null,null,null,null,null,null,6]
[null,null,null,null,null,null,8]
[]
[]
[]
[]
[]
[]
[]
[]
[]
[null,null,null,"En Zul akan berikan template JPA"]
[null,null,null,"Perakuan Pej Wilayah"]
[null,null,null,"Arahan bayaran BPK kpd SK"]
[null,null,null,"Minit Mesyuarat Yang merujuk kpd Kelulusan Kuota"]

{"sheet":"Maklumat Umum","index":1,"n_rows":1001,"n_cols":8,"rows_kept":1001,"cut":false,"hidden":false,"merged":[[37,5,40,6],[32,5,35,6],[19,5,29,6],[30,5,31,6],[17,5,18,6],[15,0,15,3],[9,5,12,6],[3,0,3,3],[17,0,21,0],[17,1,21,1],[17,3,21,3],[6,0,6,3],[10,2,10,3],[12,2,12,3],[13,2,13,3],[17,2,21,2],[7,5,8,6],[8,2,8,3],[11,2,11,3],[7,2,7,3],[9,2,9,3]]}
["Excel ini telah diprogramkan menggunakan Macros. Pastikan anda enable macros. Jika anda tidak pasti, klik  butang berikut untuk melihat cara enable macros"]
[]
[]
["Masukkan maklumat asas pada ruangan kuning"]
[]
[null,null,{"$f":"COUNTA(C8:D14)","v":1}]
["MAKLUMAT KURSUS"]
["NAMA PUSAT LATIHAN",null,null,null,null,"Cara Penggunaan Borang Kehadiran"]
["KOD PUSAT LATIHAN"]
["NAMA PROGRAM",null,null,null,null,"Borang Kehadiran (sheet kuning) adalah mengikut no pengambilan. Gunakan borang berasingan bagi no pengambilan berlainan",null,1]
["NO PENGAMBILAN",null,null,null,null,null,null,2]
["TEMPOH LATIHAN DILULUSKAN (BULAN)",null,null,null,null,null,null,3]
["TARIKH MULA LATIHAN",null,null,null,null,null,null,4]
["TARIKH TAMAT LATIHAN",null,"2024-01-26",null,null,null,null,5]
[null,null,null,null,null,null,null,6]
["MAKLUMAT PERANTIS & SYARIKAT",null,null,null,null,null,null,7]
[null,{"$f":"COUNTA(B23:B122)","v":0},{"$f":"COUNTA(C23:C122)","v":0},{"$f":"COUNTA(D23:D122)","v":0},null,null,null,8]
["Bil","Nama Perantis\n\nAsingkan perantis mengikut syarikat","No Kad \nPengenalan","Nama Syarikat Kerjasama",null,"Cara Penggunaan Borang Tuntutan Insentif",null,9]
[null,null,null,null,null,null,null,10]
[null,null,null,null,null,"Borang Permohonan Tuntutan Insentif (sheet merah), Pusat Latihan boleh membuat tuntutan insentif melalui 2 cara:\n\nCara 1:  Tuntutan mengikut no pengambilan. Gunakan sheet merah dan sheet biru jika anda memilih cara 1.\n\nCara 2: Kumpulkan tuntutan semua no pengambilan dalam satu borang tuntutan. Untuk cara 2, jangan guna sheet merah dalam fail ini tetapi gunakan Borang Tuntutan Insentif Semua Pengambilan menggunakan file excel \"Tuntutan_Semua_Pengambilan.xlsx\"\n\nSetiap kali tuntutan dibuat (2 bulan sekali), pilih salah satu (1) cara sahaja.",null,11]
[null,null,null,null,null,null,null,12]
[null,null,null,null,null,null,null,13]
[1,null,null,null,{"$f":"IF(AND(COUNTA(B23:B27)>0,D23=\"\"),\"error\",\"\")","v":""},null,null,14]
[2,null,null,null,null,null,null,15]
[3,null,null,null,null,null,null,16]
[4,null,null,null,null,null,null,17]
[5,null,null,null,null,null,null,18]
[6,null,null,null,{"$f":"IF(AND(COUNTA(B28:B32)>0,D28=\"\"),\"error\",\"\")","v":""},null,null,19]
[7,null,null,null,null,null,null,20]
[8,null,null,null,null,null,null,21]
[9,null,null,null,null,"DOKUMEN TUNTUTAN",null,22]
[10,null,null,null,null,null,null,23]
[11,null,null,null,{"$f":"IF(AND(COUNTA(B33:B37)>0,D33=\"\"),\"error\",\"\")","v":""},"3 dokumen SAHAJA yang perlu dihantar ke Pejabat Wilayah JPK\n\n1.  Claim_page1_(nama_bulan) - sheet merah\n2.  Claim_page2_All_months - sheet biru\n3.  Laporan kehadiran  mengikut bulan - sheet kuning",null,24]
[12]
[13]
[14]
[15]
[16,null,null,null,{"$f":"IF(AND(COUNTA(B38:B42)>0,D38=\"\"),\"error\",\"\")","v":""},"Jangan tukar (save as) file type fail ini selain *.xls. Penukaran file type kepada .xlsx contohnya akan menyebabkan coding terhapus dan fail tidak akan berfungsi seperti sepatutnya"]
[17]
[18]
[19]
[20]
[21,null,null,null,{"$f":"IF(AND(COUNTA(B43:B47)>0,D43=\"\"),\"error\",\"\")","v":""}]
[22]
[23]
[24]
[25]
[26]
[27]
[28]
[29]
[30]
[31]
[32]
[33]
[34]
[35]
[36]
[37]
[38]
[39]
[40]
[41]
[42]
[43]
[44]
[45]
[46]
[47]
[48]
[49]
[50]
[51]
[52]
[53]
[54]
[55]
[56]
[57]
[58]
[59]
[60]
[61]
[62]
[63]
[64]
[65]
[66]
[67]
[68]
[69]
[70]
[71]
[72]
[73]
[74]
[75]
[76]
[77]
[78]
[79]
[80]
[81]
[82]
[83]
[84]
[85]
[86]
[87]
[88]
[89]
[90]
[91]
[92]
[93]
[94]
[95]
[96]
[97]
[98]
[99]
[100]
[]
[]
[]
[]
[]
[]
[]
[]
[]
[]
[]
[]
[]
[]
[]
[]
[]
[]
[]
[]
[]
[]
[]
[]
[]
[]
[]
[]
[]
[]
[]
[]
[]
[]
[]
[]
[]
[]
[]
[]
[]
[]
[]
[]
[]
[]
[]
[]
[]
[]
[]
[]
[]
[]
[]
[]
[]
[]
[]
[]
[]
[]
[]
[]
[]
[]
[]
[]
[]
[]
[]
[]
[]
[]
[]
[]
[]
[]
[]
[]
[]
[]
[]
[]
[]
[]
[]
[]
[]
[]
[]
[]
[]
[]
[]
[]
[]
[]
[]
[]
[]
[]
[]
[]
[]
[]
[]
[]
[]
[]
[]
[]
[]
[]
[]
[]
[]
[]
[]
[]
[]
[]
[]
[]
[]
[]
[]
[]
[]
[]
[]
[]
[]
[]
[]
[]
[]
[]
[]
[]
[]
[]
[]
[]
[]
[]
[]
[]
[]
[]
[]
[]
[]
[]
[]
[]
[]
[]
[]
[]
[]
[]
[]
[]
[]
[]
[]
[]
[]
[]
[]
[]
[]
[]
[]
[]
[]
[]
[]
[]
[]
[]
[]
[]
[]
[]
[]
[]
[]
[]
[]
[]
[]
[]
[]
[]
[]
[]
[]
[]
[]
[]
[]
[]
[]
[]
[]
[]
[]
[]
[]
[]
[]
[]
[]
[]
[]
[]
[]
[]
[]
[]
[]
[]
[]
[]
[]
[]
[]
[]
[]
[]
[]
[]
[]
[]
[]
[]
[]
[]
[]
[]
[]
[]
[]
[]
[]
[]
[]
[]
[]
[]
[]
[]
[]
[]
[]
[]
[]
[]
[]
[]
[]
[]
[]
[]
[]
[]
[]
[]
[]
[]
[]
[]
[]
[]
[]
[]
[]
[]
[]
[]
[]
[]
[]
[]
[]
[]
[]
[]
[]
[]
[]
[]
[]
[]
[]
[]
[]
[]
[]
[]
[]
[]
[]
[]
[]
[]
[]
[]
[]
[]
[]
[]
[]
[]
[]
[]
[]
[]
[]
[]
[]
[]
[]
[]
[]
[]
[]
[]
[]
[]
[]
[]
[]
[]
[]
[]
[]
[]
[]
[]
[]
[]
[]
[]
[]
[]
[]
[]
[]
[]
[]
[]
[]
[]
[]
[]
[]
[]
[]
[]
[]
[]
[]
[]
[]
[]
[]
[]
[]
[]
[]
[]
[]
[]
[]
[]
[]
[]
[]
[]
[]
[]
[]
[]
[]
[]
[]
[]
[]
[]
[]
[]
[]
[]
[]
[]
[]
[]
[]
[]
[]
[]
[]
[]
[]
[]
[]
[]
[]
[]
[]
[]
[]
[]
[]
[]
[]
[]
[]
[]
[]
[]
[]
[]
[]
[]
[]
[]
[]
[]
[]
[]
[]
[]
[]
[]
[]
[]
[]
[]
[]
[]
[]
[]
[]
[]
[]
[]
[]
[]
[]
[]
[]
[]
[]
[]
[]
[]
[]
[]
[]
[]
[]
[]
[]
[]
[]
[]
[]
[]
[]
[]
[]
[]
[]
[]
[]
[]
[]
[]
[]
[]
[]
[]
[]
[]
[]
[]
[]
[]
[]
[]
[]
[]
[]
[]
[]
[]
[]
[]
[]
[]
[]
[]
[]
[]
[]
[]
[]
[]
[]
[]
[]
[]
[]
[]
[]
[]
[]
[]
[]
[]
[]
[]
[]
[]
[]
[]
[]
[]
[]
[]
[]
[]
[]
[]
[]
[]
[]
[]
[]
[]
[]
[]
[]
[]
[]
[]
[]
[]
[]
[]
[]
[]
[]
[]
[]
[]
[]
[]
[]
[]
[]
[]
[]
[]
[]
[]
[]
[]
[]
[]
[]
[]
[]
[]
[]
[]
[]
[]
[]
[]
[]
[]
[]
[]
[]
[]
[]
[]
[]
[]
[]
[]
[]
[]
[]
[]
[]
[]
[]
[]
[]
[]
[]
[]
[]
[]
[]
[]
[]
[]
[]
[]
[]
[]
[]
[]
[]
[]
[]
[]
[]
[]
[]
[]
[]
[]
[]
[]
[]
[]
[]
[]
[]
[]
[]
[]
[]
[]
[]
[]
[]
[]
[]
[]
[]
[]
[]
[]
[]
[]
[]
[]
[]
[]
[]
[]
[]
[]
[]
[]
[]
[]
[]
[]
[]
[]
[]
[]
[]
[]
[]
[]
[]
[]
[]
[]
[]
[]
[]
[]
[]
[]
[]
[]
[]
[]
[]
[]
[]
[]
[]
[]
[]
[]
[]
[]
[]
[]
[]
[]
[]
[]
[]
[]
[]
[]
[]
[]
[]
[]
[]
[]
[]
[]
[]
[]
[]
[]
[]
[]
[]
[]
[]
[]
[]
[]
[]
[]
[]
[]
[]
[]
[]
[]
[]
[]
[]
[]
[]
[]
[]
[]
[]
[]
[]
[]
[]
[]
[]
[]
[]
[]
[]
[]
[]
[]
[]
[]
[]
[]
[]
[]
[]
[]
[]
[]
[]
[]
[]
[]
[]
[]
[]
[]
[]
[]
[]
[]
[]
[]
[]
[]
[]
[]
[]
[]
[]
[]
[]
[]
[]
[]
[]
[]
[]
[]
[]
[]
[]
[]
[]
[]
[]
[]
[]
[]
[]
[]
[]
[]
[]
[]
[]
[]
[]
[]
[]
[]
[]
[]
[]
[]
[]
[]
[]
[]
[]
[]
[]
[]
[]
[]
[]
[]
[]
[]
[]
[]
[]
[]
[]
[]
[]
[]
[]
[]
[]
[]
[]
[]
[]
[]
[]
[]
[]
[]
[]
[]
[]
[]
[]
[]
[]
[]
[]
[]
[]
[]
[]
[]
[]
[]
[]
[null,null,null,null,null,null,"tajuk","SISTEM LATIHAN DUAL NASIONAL (SLDN) BERINSENTIF 2023"]
[null,null,null,null,null,null,"tahun projek",2023]

{"sheet":"Maklumat Tuntutan","index":2,"n_rows":12,"n_cols":2,"rows_kept":12,"cut":false,"hidden":false,"merged":[[7,0,7,1],[1,0,1,1]]}
[]
["BAHAGIAN A. MAKLUMAT PEMOHON"]
["Nama Pusat Latihan / Syarikat Inhouse (seperti dalam Surat Tawaran/ Perjanjian)",{"$f":"'Maklumat Umum'!C8","v":0}]
["Kod Pusat Latihan / Syarikat Inhouse",{"$f":"'Maklumat Umum'!C9","v":0}]
["ID Rujukan Tawaran SLDN Plus "]
["Nama Penyelaras Pusat Latihan/ Syarikat Inhouse"]
["No. Kad Pengenalan"]
["BAHAGIAN B. MAKLUMAT PENERIMA DAN AKAUN BAYARAN INSENTIF"]
["Nama Penerima Bayaran (Pusat Latihan / Syarikat Inhouse)"]
["Nama Bank Penerima"]
["Nombor Akaun Bank Penerima"]
["Cawangan Bank"]

{"sheet":"All_months","index":3,"n_rows":47,"n_cols":16,"rows_kept":47,"cut":false,"hidden":false,"merged":[[0,0,0,5],[9,2,9,5],[9,0,10,0],[9,1,10,1],[0,6,17,13]]}
["JUMLAH TUNTUTAN SEMUA BULAN",null,null,null,null,null,"1. Pusat Latihan hendaklah memastikan agihan tuntutan dibayar kepada syarikat dan pelatih mengikut jumlah yang dijana oleh sistem. Sebarang pemotongan adalah tidak dibenarkan sama sekali.\n\n2. Audit Pematuhan akan dilakukan oleh JPK dari masa ke masa\n\n3. Borang ini tidak perlu dihantar oleh PL. Rekodkan bagi tujuan Audit Pematuhan JPK"]
[]
[null,"NAMA PUSAT LATIHAN",{"$f":"'Maklumat Umum'!C8:D8","v":0}]
[null,"KOD PUSAT LATIHAN",{"$f":"'Maklumat Umum'!C9:D9","v":0}]
[null,"NAMA PROGRAM",{"$f":"'Maklumat Umum'!C10:D10","v":0}]
[null,"NO PENGAMBILAN",{"$f":"'Maklumat Umum'!C11:D11","v":0}]
[null,"TARIKH MULA LATIHAN",{"$f":"'Maklumat Umum'!C13:D13","v":"00:00:00"}]
[null,"TARIKH TAMAT LATIHAN",{"$f":"'Maklumat Umum'!C14:D14","v":"2024-01-26"}]
[]
["Bil","Bulan","Jumlah Tuntutan (RM)"]
[null,null,"Pusat Latihan","Syarikat","Pelatih","Jumlah",null,null,null,null,null,null,null,null,null,2023]
[1,{"$f":"\"FEB \" &O12","v":"FEB 2023"},null,null,null,{"$f":"SUM(C12:E12)","v":0},null,null,null,null,null,null,null,null,{"$f":"$P$11","v":2023}]
[2,{"$f":"\"MAC \" &O13","v":"MAC 2023"},null,null,null,{"$f":"SUM(C13:E13)","v":0},null,null,null,null,null,null,null,null,{"$f":"$P$11","v":2023}]
[3,{"$f":"\"APRIL \" &O14","v":"APRIL 2023"},0,0,0,0,null,null,null,null,null,null,null,null,2023]
[4,{"$f":"\"MEI \" &O15","v":"MEI 2023"},0,0,0,0,null,null,null,null,null,null,null,null,2023]
[5,{"$f":"\"JUN \" &O16","v":"JUN 2023"},0,0,0,0,null,null,null,null,null,null,null,null,2023]
[6,{"$f":"\"JULAI \" &O17","v":"JULAI 2023"},0,0,0,0,null,null,null,null,null,null,null,null,2023]
[7,{"$f":"\"OGOS \" &O18","v":"OGOS 2023"},0,0,0,0,null,null,null,null,null,null,null,null,2023]
[8,{"$f":"\"SEP \" &O19","v":"SEP 2023"},0,0,0,0,null,null,null,null,null,null,null,null,2023]
[9,{"$f":"\"OKT \" &O20","v":"OKT 2023"},0,0,0,0,null,null,null,null,null,null,null,null,2023]
[10,{"$f":"\"NOV \" &O21","v":"NOV 2023"},0,0,0,0,null,null,null,null,null,null,null,null,2023]
[11,{"$f":"\"DIS \" &O22","v":"DIS 2023"},0,0,0,0,null,null,null,null,null,null,null,null,2023]
[12,{"$f":"\"JAN \" &P23","v":"JAN 2024"},0,0,0,{"$f":"SUM(C23:E23)","v":0},null,null,null,null,null,null,null,null,{"$f":"$P$23","v":2024},2024]
[13,{"$f":"\"FEB \" &O24","v":"FEB 2024"},null,null,null,{"$f":"SUM(C24:E24)","v":0},null,null,null,null,null,null,null,null,{"$f":"$P$23","v":2024}]
[14,{"$f":"\"MAC \" &O25","v":"MAC 2024"},null,null,null,0,null,null,null,null,null,null,null,null,{"$f":"$P$23","v":2024}]
[15,{"$f":"\"APRIL \" &O26","v":"APRIL 2024"},null,null,null,0,null,null,null,null,null,null,null,null,2024]
[16,{"$f":"\"MEI \" &O27","v":"MEI 2024"},null,null,null,0,null,null,null,null,null,null,null,null,2024]
[17,{"$f":"\"JUN \" &O28","v":"JUN 2024"},null,null,null,0,null,null,null,null,null,null,null,null,2024]
[18,{"$f":"\"JULAI \" &O29","v":"JULAI 2024"},null,null,null,0,null,null,null,null,null,null,null,null,2024]
[19,{"$f":"\"OGOS \" &O30","v":"OGOS 2024"},null,null,null,0,null,null,null,null,null,null,null,null,2024]
[20,{"$f":"\"SEP \" &O31","v":"SEP 2024"},null,null,null,0,null,null,null,null,null,null,null,null,2024]
[21,{"$f":"\"OKT \" &O32","v":"OKT 2024"},null,null,null,0,null,null,null,null,null,null,null,null,2024]
[22,{"$f":"\"NOV \" &O33","v":"NOV 2024"},null,null,null,0,null,null,null,null,null,null,null,null,2024]
[23,{"$f":"\"DIS \" &O34","v":"DIS 2024"},null,null,null,0,null,null,null,null,null,null,null,null,2024]
[24,{"$f":"\"JAN \" &P35","v":"JAN 2025"},null,null,null,{"$f":"SUM(C35:E35)","v":0},null,null,null,null,null,null,null,null,{"$f":"$P$35","v":2025},2025]
[25,{"$f":"\"FEB \" &O36","v":"FEB 2025"},null,null,null,{"$f":"SUM(C36:E36)","v":0},null,null,null,null,null,null,null,null,{"$f":"$P$35","v":2025}]
[26,{"$f":"\"MAC \" &O37","v":"MAC 2025"},null,null,null,0,null,null,null,null,null,null,null,null,2025]
[27,{"$f":"\"APRIL \" &O38","v":"APRIL 2025"},null,null,null,0,null,null,null,null,null,null,null,null,2025]
[28,{"$f":"\"MEI \" &O39","v":"MEI 2025"},null,null,null,0,null,null,null,null,null,null,null,null,2025]
[29,{"$f":"\"JUN \" &O40","v":"JUN 2025"},null,null,null,0,null,null,null,null,null,null,null,null,2025]
[30,{"$f":"\"JULAI \" &O41","v":"JULAI 2025"},null,null,null,0,null,null,null,null,null,null,null,null,2025]
[31,{"$f":"\"OGOS \" &O42","v":"OGOS 2025"},null,null,null,0,null,null,null,null,null,null,null,null,2025]
[32,{"$f":"\"SEP \" &O43","v":"SEP 2025"},null,null,null,0,null,null,null,null,null,null,null,null,2025]
[33,{"$f":"\"OKT \" &O44","v":"OKT 2025"},null,null,null,0,null,null,null,null,null,null,null,null,2025]
[34,{"$f":"\"NOV \" &O45","v":"NOV 2025"},null,null,null,0,null,null,null,null,null,null,null,null,2025]
[35,{"$f":"\"DIS \" &O46","v":"DIS 2025"},null,null,null,0,null,null,null,null,null,null,null,null,2025]
[null,"JUMLAH",{"$f":"SUM(C12:C46)","v":0},{"$f":"SUM(D12:D46)","v":0},{"$f":"SUM(E12:E46)","v":0},{"$f":"SUM(F12:F46)","v":0}]

{"sheet":"Claim_page2_All_months","index":4,"n_rows":38,"n_cols":5,"rows_kept":38,"cut":false,"hidden":false,"merged":[[33,0,33,4],[34,0,34,4],[35,0,35,4],[36,0,36,4],[37,0,37,4],[14,0,14,4],[15,0,15,4],[32,0,32,4],[16,0,16,4],[17,0,17,4],[18,0,18,4],[24,0,24,4],[25,0,25,4],[26,0,26,4],[27,0,27,4],[28,0,28,4],[29,0,29,4],[30,0,30,4],[31,0,31,4],[1,0,1,4],[2,0,2,4],[3,0,3,3],[3,4,13,4],[4,0,4,3],[5,0,5,3],[6,0,6,3],[7,0,7,3],[8,0,8,3],[9,0,9,3],[10,0,10,3],[11,0,11,3],[12,0,12,3],[13,0,13,3]]}
[]
["BAHAGIAN D : PENGAKUAN DAN PENGESAHAN PEMOHON"]
["Saya mengakui bahawa semua maklumat dan dokumen tuntutan yang dikemukakan adalah benar, betul dan sahih."]
["Bagi pihak Pusat Latihan / Syarikat Inhouse,",null,null,null,"Cop PL / Syarikat Inhouse"]
[]
[]
["…………………………………………………………"]
["(Tandatangan)"]
["Nama : "]
["No. Kad Pengenalan:"]
["Jawatan :"]
["Tarikh:"]
[]
[]
["BAHAGIAN E:  UNTUK KEGUNAAN PEJABAT WILAYAH"]
[]
["Dokumen yang dikemukakan adalah :"]
[]
["(Sila tandakan status dokumen yang dikemukakan oleh pemohon)"]
[null,null,"Lengkap – Boleh diproses"]
[]
[null,null,"Tidak Lengkap – Dikembalikan kepada pemohon"]
[]
[null,null,"Tidak Lengkap – KIV"]
[]
["Catatan:"]
["-------------------------------------------------------------------------------------------------------------------------"]
["-------------------------------------------------------------------------------------------------------------------------"]
["-------------------------------------------------------------------------------------------------------------------------"]
[]
["Disemak oleh,"]
[]
["……………………………………….."]
["                (Tandatangan)"]
[]
["Nama Pegawai :"]
["Jawatan:"]
["Tarikh:"]

{"sheet":"FebXX","index":5,"n_rows":142,"n_cols":45,"rows_kept":142,"cut":false,"hidden":true,"merged":[[72,3,76,3],[107,3,111,3],[112,3,116,3],[117,3,121,3],[77,3,81,3],[82,3,86,3],[87,3,91,3],[92,3,96,3],[97,3,101,3],[102,3,106,3],[2,16,2,20],[5,12,8,35],[15,1,16,2],[16,4,16,33],[0,0,0,40],[1,0,1,40],[17,0,21,0],[17,1,21,1],[17,2,21,2],[17,3,21,3],[17,4,17,33],[122,44,126,50],[123,37,123,39],[17,37,17,39],[32,3,36,3],[37,3,41,3],[42,3,46,3],[17,36,21,36],[19,4,19,33],[22,3,26,3],[27,3,31,3],[17,35,21,35],[47,3,51,3],[52,3,56,3],[57,3,61,3],[62,3,66,3],[67,3,71,3],[17,40,21,40],[18,37,21,37],[18,38,21,38],[18,39,21,39],[122,35,123,36]]}
["BORANG KEHADIRAN PERANTIS"]
[{"$f":"'Maklumat Umum'!H1000","v":"SISTEM LATIHAN DUAL NASIONAL (SLDN) BERINSENTIF 2023"}]
[null,null,null,null,null,null,null,null,null,null,null,null,null,"BULAN",null,null,"FEB 2023",null,null,null,null,null,null,null,null,null,null,null,null,null,null,null,null,null,null,null,"JPK/SP/02"]
[]
[null,"NAMA PUSAT LATIHAN",{"$f":"'Maklumat Umum'!C8","v":0},null,null,null,null,null,null,null,null,null,"Nota: "]
[null,"KOD PUSAT LATIHAN",{"$f":"'Maklumat Umum'!C9","v":0},null,null,null,null,null,null,null,null,null,"1. Bil maksimum hari latihan sebulan yang layak dibayar insentif adalah 20 hari termasuklah:\n(1) Cuti Sakit terhad kepada 14 hari sahaja  - Perlu sertakan Perakuan dari Klinik/Hospital\n(2) Cuti Kecemasan seperti kematian ahli keluarga, kebakaran, banjir dan lain-lain -  Perlu sertakan Surat Pihak Berkuasa Berkaitan (Klinik/Hospital, polis dll) \n(3) Cuti Umum Negeri atau Nasional\n(4) Cuti Kuarantin - Perlu sertakan kelulusan"]
[null,"NAMA PROGRAM",{"$f":"'Maklumat Umum'!C10","v":0}]
[null,"NO PENGAMBILAN",{"$f":"'Maklumat Umum'!C11","v":0}]
[null,"TARIKH MULA LATIHAN",{"$f":"'Maklumat Umum'!C13","v":"00:00:00"}]
[null,"TARIKH TAMAT LATIHAN",{"$f":"'Maklumat Umum'!C14","v":"2024-01-26"},null,null,null,null,null,null,null,null,null,"2. Kadar sehari elaun perantis adalah RM25"]
[null,"TEMPOH LATIHAN DILULUSKAN (BULAN)",{"$f":"'Maklumat Umum'!C12","v":0},null,null,null,null,null,null,null,null,null,"3. Perantis hanya layak dibayar jika kehadiran sekurang-kurangnya 80% (16 hari). PL dan syarikat dibayar mengikut bil hari perantis hadir"]
[]
[]
[]
[]
[null,"TARIKH BELUM DIISI"]
[null,null,null,null,"1 = Hadir            Kosongkan (Blank) = Tidak Hadir            CS = Cuti Sakit             CK = Cuti Kecemasan/Kurantin          CU = Cuti Umum"]
["BIL","Nama Perantis","No Kad \nPengenalan","Syarikat","BIL HARI LATIHAN",null,null,null,null,null,null,null,null,null,null,null,null,null,null,null,null,null,null,null,null,null,null,null,null,null,null,null,null,null,null,"Bil Hari\nCS,CK,\nCU Layak","Bil \nHari Boleh Dibayar","Tuntutan (RM)",null,null,"Tandatangan Perantis"]
[null,null,null,null,1,2,3,4,5,6,7,8,9,10,11,12,13,14,15,16,17,18,19,20,21,22,23,24,25,26,27,28,29,30,31,null,null,"Perantis","Pusat Latihan","Syarikat"]
[null,null,null,null,"TARIKH & HARI"]
[]
[]
[1,{"$f":"IF('Maklumat Umum'!B23=\"\",\"\",'Maklumat Umum'!B23)","v":""},{"$f":"IF('Maklumat Umum'!C23=\"\",\"\",'Maklumat Umum'!C23)","v":""},{"$f":"IF('Maklumat Umum'!D23=\"\",\"\",'Maklumat Umum'!D23)","v":""},null,null,null,null,null,null,null,null,null,null,null,null,null,null,null,null,null,null,null,null,null,null,null,null,null,null,null,null,null,null,null,{"$f":"IF(COUNTBLANK(E23:AI23)=31,\"\",AP23+AQ23+AR23)","v":""},{"$f":"IF(COUNTBLANK(E23:AI23)=31,\"\",IF(SUM(E23:AI23)+AJ23>20,20,SUM(E23:AI23)+AJ23))","v":""},{"$f":"IF(COUNTBLANK(E23:AI23)=31,\"\",IF(AK23<16,0,AK23*25))","v":""},{"$f":"IF(AL23=\"\",\"\",IF(AL23=0,AK23*15,(AL23/0.5)*0.3))","v":""},{"$f":"IF(AL23=\"\",\"\",IF(AL23=0,AK23*10,(AL23/0.5)*0.2))","v":""},null,{"$f":"IF(COUNTIF(E23:AI23,\"CS\")>14,14,COUNTIF(E23:AI23,\"CS\"))","v":0},{"$f":"COUNTIF(E23:AI23,\"CK\")","v":0},{"$f":"COUNTIF(E23:AI23,\"CU\")","v":0}]
[2,{"$f":"IF('Maklumat Umum'!B24=\"\",\"\",'Maklumat Umum'!B24)","v":""},{"$f":"IF('Maklumat Umum'!C24=\"\",\"\",'Maklumat Umum'!C24)","v":""},null,null,null,null,null,null,null,null,null,null,null,null,null,null,null,null,null,null,null,null,null,null,null,null,null,null,null,null,null,null,null,null,{"$f":"IF(COUNTBLANK(E24:AI24)=31,\"\",AP24+AQ24+AR24)","v":""},{"$f":"IF(COUNTBLANK(E24:AI24)=31,\"\",IF(SUM(E24:AI24)+AJ24>20,20,SUM(E24:AI24)+AJ24))","v":""},"","","",null,{"$f":"IF(COUNTIF(E24:AI24,\"CS\")>14,14,COUNTIF(E24:AI24,\"CS\"))","v":0},{"$f":"COUNTIF(E24:AI24,\"CK\")","v":0},{"$f":"COUNTIF(E24:AI24,\"CU\")","v":0}]
[3,{"$f":"IF('Maklumat Umum'!B25=\"\",\"\",'Maklumat Umum'!B25)","v":""},{"$f":"IF('Maklumat Umum'!C25=\"\",\"\",'Maklumat Umum'!C25)","v":""},null,null,null,null,null,null,null,null,null,null,null,null,null,null,null,null,null,null,null,null,null,null,null,null,null,null,null,null,null,null,null,null,"","","","","",null,0,0,0]
[4,{"$f":"IF('Maklumat Umum'!B26=\"\",\"\",'Maklumat Umum'!B26)","v":""},{"$f":"IF('Maklumat Umum'!C26=\"\",\"\",'Maklumat Umum'!C26)","v":""},null,null,null,null,null,null,null,null,null,null,null,null,null,null,null,null,null,null,null,null,null,null,null,null,null,null,null,null,null,null,null,null,"","","","","",null,0,0,0]
[5,{"$f":"IF('Maklumat Umum'!B27=\"\",\"\",'Maklumat Umum'!B27)","v":""},{"$f":"IF('Maklumat Umum'!C27=\"\",\"\",'Maklumat Umum'!C27)","v":""},null,null,null,null,null,null,null,null,null,null,null,null,null,null,null,null,null,null,null,null,null,null,null,null,null,null,null,null,null,null,null,null,"","","","","",null,0,0,0]
[6,{"$f":"IF('Maklumat Umum'!B28=\"\",\"\",'Maklumat Umum'!B28)","v":""},{"$f":"IF('Maklumat Umum'!C28=\"\",\"\",'Maklumat Umum'!C28)","v":""},{"$f":"IF('Maklumat Umum'!D28=\"\",\"\",'Maklumat Umum'!D28)","v":""},null,null,null,null,null,null,null,null,null,null,null,null,null,null,null,null,null,null,null,null,null,null,null,null,null,null,null,null,null,null,null,"","","","","",null,0,0,0]
[7,{"$f":"IF('Maklumat Umum'!B29=\"\",\"\",'Maklumat Umum'!B29)","v":""},{"$f":"IF('Maklumat Umum'!C29=\"\",\"\",'Maklumat Umum'!C29)","v":""},null,null,null,null,null,null,null,null,null,null,null,null,null,null,null,null,null,null,null,null,null,null,null,null,null,null,null,null,null,null,null,null,"","","","","",null,0,0,0]
[8,{"$f":"IF('Maklumat Umum'!B30=\"\",\"\",'Maklumat Umum'!B30)","v":""},{"$f":"IF('Maklumat Umum'!C30=\"\",\"\",'Maklumat Umum'!C30)","v":""},null,null,null,null,null,null,null,null,null,null,null,null,null,null,null,null,null,null,null,null,null,null,null,null,null,null,null,null,null,null,null,null,"","","","","",null,0,0,0]
[9,{"$f":"IF('Maklumat Umum'!B31=\"\",\"\",'Maklumat Umum'!B31)","v":""},{"$f":"IF('Maklumat Umum'!C31=\"\",\"\",'Maklumat Umum'!C31)","v":""},null,null,null,null,null,null,null,null,null,null,null,null,null,null,null,null,null,null,null,null,null,null,null,null,null,null,null,null,null,null,null,null,"","","","","",null,0,0,0]
[10,{"$f":"IF('Maklumat Umum'!B32=\"\",\"\",'Maklumat Umum'!B32)","v":""},{"$f":"IF('Maklumat Umum'!C32=\"\",\"\",'Maklumat Umum'!C32)","v":""},null,null,null,null,null,null,null,null,null,null,null,null,null,null,null,null,null,null,null,null,null,null,null,null,null,null,null,null,null,null,null,null,"","","","","",null,0,0,0]
[11,{"$f":"IF('Maklumat Umum'!B33=\"\",\"\",'Maklumat Umum'!B33)","v":""},{"$f":"IF('Maklumat Umum'!C33=\"\",\"\",'Maklumat Umum'!C33)","v":""},{"$f":"IF('Maklumat Umum'!D33=\"\",\"\",'Maklumat Umum'!D33)","v":""},null,null,null,null,null,null,null,null,null,null,null,null,null,null,null,null,null,null,null,null,null,null,null,null,null,null,null,null,null,null,null,"","","","","",null,0,0,0]
[12,{"$f":"IF('Maklumat Umum'!B34=\"\",\"\",'Maklumat Umum'!B34)","v":""},{"$f":"IF('Maklumat Umum'!C34=\"\",\"\",'Maklumat Umum'!C34)","v":""},null,null,null,null,null,null,null,null,null,null,null,null,null,null,null,null,null,null,null,null,null,null,null,null,null,null,null,null,null,null,null,null,"","","","","",null,0,0,0]
[13,{"$f":"IF('Maklumat Umum'!B35=\"\",\"\",'Maklumat Umum'!B35)","v":""},{"$f":"IF('Maklumat Umum'!C35=\"\",\"\",'Maklumat Umum'!C35)","v":""},null,null,null,null,null,null,null,null,null,null,null,null,null,null,null,null,null,null,null,null,null,null,null,null,null,null,null,null,null,null,null,null,"","","","","",null,0,0,0]
[14,{"$f":"IF('Maklumat Umum'!B36=\"\",\"\",'Maklumat Umum'!B36)","v":""},{"$f":"IF('Maklumat Umum'!C36=\"\",\"\",'Maklumat Umum'!C36)","v":""},null,null,null,null,null,null,null,null,null,null,null,null,null,null,null,null,null,null,null,null,null,null,null,null,null,null,null,null,null,null,null,null,"","","","","",null,0,0,0]
[15,{"$f":"IF('Maklumat Umum'!B37=\"\",\"\",'Maklumat Umum'!B37)","v":""},{"$f":"IF('Maklumat Umum'!C37=\"\",\"\",'Maklumat Umum'!C37)","v":""},null,null,null,null,null,null,null,null,null,null,null,null,null,null,null,null,null,null,null,null,null,null,null,null,null,null,null,null,null,null,null,null,"","","","","",null,0,0,0]
[16,{"$f":"IF('Maklumat Umum'!B38=\"\",\"\",'Maklumat Umum'!B38)","v":""},{"$f":"IF('Maklumat Umum'!C38=\"\",\"\",'Maklumat Umum'!C38)","v":""},{"$f":"IF('Maklumat Umum'!D38=\"\",\"\",'Maklumat Umum'!D38)","v":""},null,null,null,null,null,null,null,null,null,null,null,null,null,null,null,null,null,null,null,null,null,null,null,null,null,null,null,null,null,null,null,"","","","","",null,0,0,0]
[17,{"$f":"IF('Maklumat Umum'!B39=\"\",\"\",'Maklumat Umum'!B39)","v":""},{"$f":"IF('Maklumat Umum'!C39=\"\",\"\",'Maklumat Umum'!C39)","v":""},null,null,null,null,null,null,null,null,null,null,null,null,null,null,null,null,null,null,null,null,null,null,null,null,null,null,null,null,null,null,null,null,"","","","","",null,0,0,0]
[18,{"$f":"IF('Maklumat Umum'!B40=\"\",\"\",'Maklumat Umum'!B40)","v":""},{"$f":"IF('Maklumat Umum'!C40=\"\",\"\",'Maklumat Umum'!C40)","v":""},null,null,null,null,null,null,null,null,null,null,null,null,null,null,null,null,null,null,null,null,null,null,null,null,null,null,null,null,null,null,null,null,"","","","","",null,0,0,0]
[19,{"$f":"IF('Maklumat Umum'!B41=\"\",\"\",'Maklumat Umum'!B41)","v":""},{"$f":"IF('Maklumat Umum'!C41=\"\",\"\",'Maklumat Umum'!C41)","v":""},null,null,null,null,null,null,null,null,null,null,null,null,null,null,null,null,null,null,null,null,null,null,null,null,null,null,null,null,null,null,null,null,"","","","","",null,0,0,0]
[20,{"$f":"IF('Maklumat Umum'!B42=\"\",\"\",'Maklumat Umum'!B42)","v":""},{"$f":"IF('Maklumat Umum'!C42=\"\",\"\",'Maklumat Umum'!C42)","v":""},null,null,null,null,null,null,null,null,null,null,null,null,null,null,null,null,null,null,null,null,null,null,null,null,null,null,null,null,null,null,null,null,"","","","","",null,0,0,0]
[21,{"$f":"IF('Maklumat Umum'!B43=\"\",\"\",'Maklumat Umum'!B43)","v":""},{"$f":"IF('Maklumat Umum'!C43=\"\",\"\",'Maklumat Umum'!C43)","v":""},{"$f":"IF('Maklumat Umum'!D43=\"\",\"\",'Maklumat Umum'!D43)","v":""},null,null,null,null,null,null,null,null,null,null,null,null,null,null,null,null,null,null,null,null,null,null,null,null,null,null,null,null,null,null,null,"","","","","",null,0,0,0]
[22,{"$f":"IF('Maklumat Umum'!B44=\"\",\"\",'Maklumat Umum'!B44)","v":""},{"$f":"IF('Maklumat Umum'!C44=\"\",\"\",'Maklumat Umum'!C44)","v":""},null,null,null,null,null,null,null,null,null,null,null,null,null,null,null,null,null,null,null,null,null,null,null,null,null,null,null,null,null,null,null,null,"","","","","",null,0,0,0]
[23,{"$f":"IF('Maklumat Umum'!B45=\"\",\"\",'Maklumat Umum'!B45)","v":""},{"$f":"IF('Maklumat Umum'!C45=\"\",\"\",'Maklumat Umum'!C45)","v":""},null,null,null,null,null,null,null,null,null,null,null,null,null,null,null,null,null,null,null,null,null,null,null,null,null,null,null,null,null,null,null,null,"","","","","",null,0,0,0]
[24,{"$f":"IF('Maklumat Umum'!B46=\"\",\"\",'Maklumat Umum'!B46)","v":""},{"$f":"IF('Maklumat Umum'!C46=\"\",\"\",'Maklumat Umum'!C46)","v":""},null,null,null,null,null,null,null,null,null,null,null,null,null,null,null,null,null,null,null,null,null,null,null,null,null,null,null,null,null,null,null,null,{"$f":"IF(COUNTBLANK(E46:AI46)=31,\"\",AP46+AQ46+AR46)","v":""},{"$f":"IF(COUNTBLANK(E46:AI46)=31,\"\",IF(SUM(E46:AI46)+AJ46>20,20,SUM(E46:AI46)+AJ46))","v":""},"","","",null,0,0,0]
[25,{"$f":"IF('Maklumat Umum'!B47=\"\",\"\",'Maklumat Umum'!B47)","v":""},{"$f":"IF('Maklumat Umum'!C47=\"\",\"\",'Maklumat Umum'!C47)","v":""},null,null,null,null,null,null,null,null,null,null,null,null,null,null,null,null,null,null,null,null,null,null,null,null,null,null,null,null,null,null,null,null,{"$f":"IF(COUNTBLANK(E47:AI47)=31,\"\",AP47+AQ47+AR47)","v":""},{"$f":"IF(COUNTBLANK(E47:AI47)=31,\"\",IF(SUM(E47:AI47)+AJ47>20,20,SUM(E47:AI47)+AJ47))","v":""},"","","",null,{"$f":"IF(COUNTIF(E47:AI47,\"CS\")>14,14,COUNTIF(E47:AI47,\"CS\"))","v":0},{"$f":"COUNTIF(E47:AI47,\"CK\")","v":0},{"$f":"COUNTIF(E47:AI47,\"CU\")","v":0}]
[26,{"$f":"IF('Maklumat Umum'!B48=\"\",\"\",'Maklumat Umum'!B48)","v":""},{"$f":"IF('Maklumat Umum'!C48=\"\",\"\",'Maklumat Umum'!C48)","v":""},{"$f":"IF('Maklumat Umum'!D48=\"\",\"\",'Maklumat Umum'!D48)","v":""},null,null,null,null,null,null,null,null,null,null,null,null,null,null,null,null,null,null,null,null,null,null,null,null,null,null,null,null,null,null,null,{"$f":"IF(COUNTBLANK(E48:AI48)=31,\"\",AP48+AQ48+AR48)","v":""},{"$f":"IF(COUNTBLANK(E48:AI48)=31,\"\",IF(SUM(E48:AI48)+AJ48>20,20,SUM(E48:AI48)+AJ48))","v":""},{"$f":"IF(COUNTBLANK(E48:AI48)=31,\"\",IF(AK48<16,0,AK48*25))","v":""},{"$f":"IF(AL48=\"\",\"\",IF(AL48=0,AK48*15,(AL48/0.5)*0.3))","v":""},{"$f":"IF(AL48=\"\",\"\",IF(AL48=0,AK48*10,(AL48/0.5)*0.2))","v":""},null,{"$f":"IF(COUNTIF(E48:AI48,\"CS\")>14,14,COUNTIF(E48:AI48,\"CS\"))","v":0},{"$f":"COUNTIF(E48:AI48,\"CK\")","v":0},{"$f":"COUNTIF(E48:AI48,\"CU\")","v":0}]
[27,{"$f":"IF('Maklumat Umum'!B49=\"\",\"\",'Maklumat Umum'!B49)","v":""},{"$f":"IF('Maklumat Umum'!C49=\"\",\"\",'Maklumat Umum'!C49)","v":""},null,null,null,null,null,null,null,null,null,null,null,null,null,null,null,null,null,null,null,null,null,null,null,null,null,null,null,null,null,null,null,null,{"$f":"IF(COUNTBLANK(E49:AI49)=31,\"\",AP49+AQ49+AR49)","v":""},{"$f":"IF(COUNTBLANK(E49:AI49)=31,\"\",IF(SUM(E49:AI49)+AJ49>20,20,SUM(E49:AI49)+AJ49))","v":""},"","","",null,{"$f":"IF(COUNTIF(E49:AI49,\"CS\")>14,14,COUNTIF(E49:AI49,\"CS\"))","v":0},{"$f":"COUNTIF(E49:AI49,\"CK\")","v":0},{"$f":"COUNTIF(E49:AI49,\"CU\")","v":0}]
[28,{"$f":"IF('Maklumat Umum'!B50=\"\",\"\",'Maklumat Umum'!B50)","v":""},{"$f":"IF('Maklumat Umum'!C50=\"\",\"\",'Maklumat Umum'!C50)","v":""},null,null,null,null,null,null,null,null,null,null,null,null,null,null,null,null,null,null,null,null,null,null,null,null,null,null,null,null,null,null,null,null,"","","","","",null,0,0,0]
[29,{"$f":"IF('Maklumat Umum'!B51=\"\",\"\",'Maklumat Umum'!B51)","v":""},{"$f":"IF('Maklumat Umum'!C51=\"\",\"\",'Maklumat Umum'!C51)","v":""},null,null,null,null,null,null,null,null,null,null,null,null,null,null,null,null,null,null,null,null,null,null,null,null,null,null,null,null,null,null,null,null,"","","","","",null,0,0,0]
[30,{"$f":"IF('Maklumat Umum'!B52=\"\",\"\",'Maklumat Umum'!B52)","v":""},{"$f":"IF('Maklumat Umum'!C52=\"\",\"\",'Maklumat Umum'!C52)","v":""},null,null,null,null,null,null,null,null,null,null,null,null,null,null,null,null,null,null,null,null,null,null,null,null,null,null,null,null,null,null,null,null,"","","","","",null,0,0,0]
[31,{"$f":"IF('Maklumat Umum'!B53=\"\",\"\",'Maklumat Umum'!B53)","v":""},{"$f":"IF('Maklumat Umum'!C53=\"\",\"\",'Maklumat Umum'!C53)","v":""},{"$f":"IF('Maklumat Umum'!D53=\"\",\"\",'Maklumat Umum'!D53)","v":""},null,null,null,null,null,null,null,null,null,null,null,null,null,null,null,null,null,null,null,null,null,null,null,null,null,null,null,null,null,null,null,"","","","","",null,0,0,0]
[32,{"$f":"IF('Maklumat Umum'!B54=\"\",\"\",'Maklumat Umum'!B54)","v":""},{"$f":"IF('Maklumat Umum'!C54=\"\",\"\",'Maklumat Umum'!C54)","v":""},null,null,null,null,null,null,null,null,null,null,null,null,null,null,null,null,null,null,null,null,null,null,null,null,null,null,null,null,null,null,null,null,"","","","","",null,0,0,0]
[33,{"$f":"IF('Maklumat Umum'!B55=\"\",\"\",'Maklumat Umum'!B55)","v":""},{"$f":"IF('Maklumat Umum'!C55=\"\",\"\",'Maklumat Umum'!C55)","v":""},null,null,null,null,null,null,null,null,null,null,null,null,null,null,null,null,null,null,null,null,null,null,null,null,null,null,null,null,null,null,null,null,"","","","","",null,0,0,0]
[34,{"$f":"IF('Maklumat Umum'!B56=\"\",\"\",'Maklumat Umum'!B56)","v":""},{"$f":"IF('Maklumat Umum'!C56=\"\",\"\",'Maklumat Umum'!C56)","v":""},null,null,null,null,null,null,null,null,null,null,null,null,null,null,null,null,null,null,null,null,null,null,null,null,null,null,null,null,null,null,null,null,"","","","","",null,0,0,0]
[35,{"$f":"IF('Maklumat Umum'!B57=\"\",\"\",'Maklumat Umum'!B57)","v":""},{"$f":"IF('Maklumat Umum'!C57=\"\",\"\",'Maklumat Umum'!C57)","v":""},null,null,null,null,null,null,null,null,null,null,null,null,null,null,null,null,null,null,null,null,null,null,null,null,null,null,null,null,null,null,null,null,"","","","","",null,0,0,0]
[36,{"$f":"IF('Maklumat Umum'!B58=\"\",\"\",'Maklumat Umum'!B58)","v":""},{"$f":"IF('Maklumat Umum'!C58=\"\",\"\",'Maklumat Umum'!C58)","v":""},{"$f":"IF('Maklumat Umum'!D58=\"\",\"\",'Maklumat Umum'!D58)","v":""},null,null,null,null,null,null,null,null,null,null,null,null,null,null,null,null,null,null,null,null,null,null,null,null,null,null,null,null,null,null,null,"","","","","",null,0,0,0]
[37,{"$f":"IF('Maklumat Umum'!B59=\"\",\"\",'Maklumat Umum'!B59)","v":""},{"$f":"IF('Maklumat Umum'!C59=\"\",\"\",'Maklumat Umum'!C59)","v":""},null,null,null,null,null,null,null,null,null,null,null,null,null,null,null,null,null,null,null,null,null,null,null,null,null,null,null,null,null,null,null,null,"","","","","",null,0,0,0]
[38,{"$f":"IF('Maklumat Umum'!B60=\"\",\"\",'Maklumat Umum'!B60)","v":""},{"$f":"IF('Maklumat Umum'!C60=\"\",\"\",'Maklumat Umum'!C60)","v":""},null,null,null,null,null,null,null,null,null,null,null,null,null,null,null,null,null,null,null,null,null,null,null,null,null,null,null,null,null,null,null,null,"","","","","",null,0,0,0]
[39,{"$f":"IF('Maklumat Umum'!B61=\"\",\"\",'Maklumat Umum'!B61)","v":""},{"$f":"IF('Maklumat Umum'!C61=\"\",\"\",'Maklumat Umum'!C61)","v":""},null,null,null,null,null,null,null,null,null,null,null,null,null,null,null,null,null,null,null,null,null,null,null,null,null,null,null,null,null,null,null,null,"","","","","",null,0,0,0]
[40,{"$f":"IF('Maklumat Umum'!B62=\"\",\"\",'Maklumat Umum'!B62)","v":""},{"$f":"IF('Maklumat Umum'!C62=\"\",\"\",'Maklumat Umum'!C62)","v":""},null,null,null,null,null,null,null,null,null,null,null,null,null,null,null,null,null,null,null,null,null,null,null,null,null,null,null,null,null,null,null,null,"","","","","",null,0,0,0]
[41,{"$f":"IF('Maklumat Umum'!B63=\"\",\"\",'Maklumat Umum'!B63)","v":""},{"$f":"IF('Maklumat Umum'!C63=\"\",\"\",'Maklumat Umum'!C63)","v":""},{"$f":"IF('Maklumat Umum'!D63=\"\",\"\",'Maklumat Umum'!D63)","v":""},null,null,null,null,null,null,null,null,null,null,null,null,null,null,null,null,null,null,null,null,null,null,null,null,null,null,null,null,null,null,null,"","","","","",null,0,0,0]
[42,{"$f":"IF('Maklumat Umum'!B64=\"\",\"\",'Maklumat Umum'!B64)","v":""},{"$f":"IF('Maklumat Umum'!C64=\"\",\"\",'Maklumat Umum'!C64)","v":""},null,null,null,null,null,null,null,null,null,null,null,null,null,null,null,null,null,null,null,null,null,null,null,null,null,null,null,null,null,null,null,null,"","","","","",null,0,0,0]
[43,{"$f":"IF('Maklumat Umum'!B65=\"\",\"\",'Maklumat Umum'!B65)","v":""},{"$f":"IF('Maklumat Umum'!C65=\"\",\"\",'Maklumat Umum'!C65)","v":""},null,null,null,null,null,null,null,null,null,null,null,null,null,null,null,null,null,null,null,null,null,null,null,null,null,null,null,null,null,null,null,null,"","","","","",null,0,0,0]
[44,{"$f":"IF('Maklumat Umum'!B66=\"\",\"\",'Maklumat Umum'!B66)","v":""},{"$f":"IF('Maklumat Umum'!C66=\"\",\"\",'Maklumat Umum'!C66)","v":""},null,null,null,null,null,null,null,null,null,null,null,null,null,null,null,null,null,null,null,null,null,null,null,null,null,null,null,null,null,null,null,null,"","","","","",null,0,0,0]
[45,{"$f":"IF('Maklumat Umum'!B67=\"\",\"\",'Maklumat Umum'!B67)","v":""},{"$f":"IF('Maklumat Umum'!C67=\"\",\"\",'Maklumat Umum'!C67)","v":""},null,null,null,null,null,null,null,null,null,null,null,null,null,null,null,null,null,null,null,null,null,null,null,null,null,null,null,null,null,null,null,null,"","","","","",null,0,0,0]
[46,{"$f":"IF('Maklumat Umum'!B68=\"\",\"\",'Maklumat Umum'!B68)","v":""},{"$f":"IF('Maklumat Umum'!C68=\"\",\"\",'Maklumat Umum'!C68)","v":""},{"$f":"IF('Maklumat Umum'!D68=\"\",\"\",'Maklumat Umum'!D68)","v":""},null,null,null,null,null,null,null,null,null,null,null,null,null,null,null,null,null,null,null,null,null,null,null,null,null,null,null,null,null,null,null,"","","","","",null,0,0,0]
[47,{"$f":"IF('Maklumat Umum'!B69=\"\",\"\",'Maklumat Umum'!B69)","v":""},{"$f":"IF('Maklumat Umum'!C69=\"\",\"\",'Maklumat Umum'!C69)","v":""},null,null,null,null,null,null,null,null,null,null,null,null,null,null,null,null,null,null,null,null,null,null,null,null,null,null,null,null,null,null,null,null,"","","","","",null,0,0,0]
[48,{"$f":"IF('Maklumat Umum'!B70=\"\",\"\",'Maklumat Umum'!B70)","v":""},{"$f":"IF('Maklumat Umum'!C70=\"\",\"\",'Maklumat Umum'!C70)","v":""},null,null,null,null,null,null,null,null,null,null,null,null,null,null,null,null,null,null,null,null,null,null,null,null,null,null,null,null,null,null,null,null,"","","","","",null,0,0,0]
[49,{"$f":"IF('Maklumat Umum'!B71=\"\",\"\",'Maklumat Umum'!B71)","v":""},{"$f":"IF('Maklumat Umum'!C71=\"\",\"\",'Maklumat Umum'!C71)","v":""},null,null,null,null,null,null,null,null,null,null,null,null,null,null,null,null,null,null,null,null,null,null,null,null,null,null,null,null,null,null,null,null,{"$f":"IF(COUNTBLANK(E71:AI71)=31,\"\",AP71+AQ71+AR71)","v":""},{"$f":"IF(COUNTBLANK(E71:AI71)=31,\"\",IF(SUM(E71:AI71)+AJ71>20,20,SUM(E71:AI71)+AJ71))","v":""},"","","",null,0,0,0]
[50,{"$f":"IF('Maklumat Umum'!B72=\"\",\"\",'Maklumat Umum'!B72)","v":""},{"$f":"IF('Maklumat Umum'!C72=\"\",\"\",'Maklumat Umum'!C72)","v":""},null,null,null,null,null,null,null,null,null,null,null,null,null,null,null,null,null,null,null,null,null,null,null,null,null,null,null,null,null,null,null,null,{"$f":"IF(COUNTBLANK(E72:AI72)=31,\"\",AP72+AQ72+AR72)","v":""},{"$f":"IF(COUNTBLANK(E72:AI72)=31,\"\",IF(SUM(E72:AI72)+AJ72>20,20,SUM(E72:AI72)+AJ72))","v":""},"","","",null,{"$f":"IF(COUNTIF(E72:AI72,\"CS\")>14,14,COUNTIF(E72:AI72,\"CS\"))","v":0},{"$f":"COUNTIF(E72:AI72,\"CK\")","v":0},{"$f":"COUNTIF(E72:AI72,\"CU\")","v":0}]
[51,{"$f":"IF('Maklumat Umum'!B73=\"\",\"\",'Maklumat Umum'!B73)","v":""},{"$f":"IF('Maklumat Umum'!C73=\"\",\"\",'Maklumat Umum'!C73)","v":""},{"$f":"IF('Maklumat Umum'!D73=\"\",\"\",'Maklumat Umum'!D73)","v":""},null,null,null,null,null,null,null,null,null,null,null,null,null,null,null,null,null,null,null,null,null,null,null,null,null,null,null,null,null,null,null,{"$f":"IF(COUNTBLANK(E73:AI73)=31,\"\",AP73+AQ73+AR73)","v":""},{"$f":"IF(COUNTBLANK(E73:AI73)=31,\"\",IF(SUM(E73:AI73)+AJ73>20,20,SUM(E73:AI73)+AJ73))","v":""},"","","",null,{"$f":"IF(COUNTIF(E73:AI73,\"CS\")>14,14,COUNTIF(E73:AI73,\"CS\"))","v":0},{"$f":"COUNTIF(E73:AI73,\"CK\")","v":0},{"$f":"COUNTIF(E73:AI73,\"CU\")","v":0}]
[52,{"$f":"IF('Maklumat Umum'!B74=\"\",\"\",'Maklumat Umum'!B74)","v":""},{"$f":"IF('Maklumat Umum'!C74=\"\",\"\",'Maklumat Umum'!C74)","v":""},null,null,null,null,null,null,null,null,null,null,null,null,null,null,null,null,null,null,null,null,null,null,null,null,null,null,null,null,null,null,null,null,{"$f":"IF(COUNTBLANK(E74:AI74)=31,\"\",AP74+AQ74+AR74)","v":""},{"$f":"IF(COUNTBLANK(E74:AI74)=31,\"\",IF(SUM(E74:AI74)+AJ74>20,20,SUM(E74:AI74)+AJ74))","v":""},"","","",null,{"$f":"IF(COUNTIF(E74:AI74,\"CS\")>14,14,COUNTIF(E74:AI74,\"CS\"))","v":0},{"$f":"COUNTIF(E74:AI74,\"CK\")","v":0},{"$f":"COUNTIF(E74:AI74,\"CU\")","v":0}]
[53,{"$f":"IF('Maklumat Umum'!B75=\"\",\"\",'Maklumat Umum'!B75)","v":""},{"$f":"IF('Maklumat Umum'!C75=\"\",\"\",'Maklumat Umum'!C75)","v":""},null,null,null,null,null,null,null,null,null,null,null,null,null,null,null,null,null,null,null,null,null,null,null,null,null,null,null,null,null,null,null,null,"","","","","",null,0,0,0]
[54,{"$f":"IF('Maklumat Umum'!B76=\"\",\"\",'Maklumat Umum'!B76)","v":""},{"$f":"IF('Maklumat Umum'!C76=\"\",\"\",'Maklumat Umum'!C76)","v":""},null,null,null,null,null,null,null,null,null,null,null,null,null,null,null,null,null,null,null,null,null,null,null,null,null,null,null,null,null,null,null,null,"","","","","",null,0,0,0]
[55,{"$f":"IF('Maklumat Umum'!B77=\"\",\"\",'Maklumat Umum'!B77)","v":""},{"$f":"IF('Maklumat Umum'!C77=\"\",\"\",'Maklumat Umum'!C77)","v":""},null,null,null,null,null,null,null,null,null,null,null,null,null,null,null,null,null,null,null,null,null,null,null,null,null,null,null,null,null,null,null,null,"","","","","",null,0,0,0]
[56,{"$f":"IF('Maklumat Umum'!B78=\"\",\"\",'Maklumat Umum'!B78)","v":""},{"$f":"IF('Maklumat Umum'!C78=\"\",\"\",'Maklumat Umum'!C78)","v":""},{"$f":"IF('Maklumat Umum'!D78=\"\",\"\",'Maklumat Umum'!D78)","v":""},null,null,null,null,null,null,null,null,null,null,null,null,null,null,null,null,null,null,null,null,null,null,null,null,null,null,null,null,null,null,null,"","","","","",null,0,0,0]
[57,{"$f":"IF('Maklumat Umum'!B79=\"\",\"\",'Maklumat Umum'!B79)","v":""},{"$f":"IF('Maklumat Umum'!C79=\"\",\"\",'Maklumat Umum'!C79)","v":""},null,null,null,null,null,null,null,null,null,null,null,null,null,null,null,null,null,null,null,null,null,null,null,null,null,null,null,null,null,null,null,null,"","","","","",null,0,0,0]
[58,{"$f":"IF('Maklumat Umum'!B80=\"\",\"\",'Maklumat Umum'!B80)","v":""},{"$f":"IF('Maklumat Umum'!C80=\"\",\"\",'Maklumat Umum'!C80)","v":""},null,null,null,null,null,null,null,null,null,null,null,null,null,null,null,null,null,null,null,null,null,null,null,null,null,null,null,null,null,null,null,null,"","","","","",null,0,0,0]
[59,{"$f":"IF('Maklumat Umum'!B81=\"\",\"\",'Maklumat Umum'!B81)","v":""},{"$f":"IF('Maklumat Umum'!C81=\"\",\"\",'Maklumat Umum'!C81)","v":""},null,null,null,null,null,null,null,null,null,null,null,null,null,null,null,null,null,null,null,null,null,null,null,null,null,null,null,null,null,null,null,null,"","","","","",null,0,0,0]
[60,{"$f":"IF('Maklumat Umum'!B82=\"\",\"\",'Maklumat Umum'!B82)","v":""},{"$f":"IF('Maklumat Umum'!C82=\"\",\"\",'Maklumat Umum'!C82)","v":""},null,null,null,null,null,null,null,null,null,null,null,null,null,null,null,null,null,null,null,null,null,null,null,null,null,null,null,null,null,null,null,null,"","","","","",null,0,0,0]
[61,{"$f":"IF('Maklumat Umum'!B83=\"\",\"\",'Maklumat Umum'!B83)","v":""},{"$f":"IF('Maklumat Umum'!C83=\"\",\"\",'Maklumat Umum'!C83)","v":""},{"$f":"IF('Maklumat Umum'!D83=\"\",\"\",'Maklumat Umum'!D83)","v":""},null,null,null,null,null,null,null,null,null,null,null,null,null,null,null,null,null,null,null,null,null,null,null,null,null,null,null,null,null,null,null,"","","","","",null,0,0,0]
[62,{"$f":"IF('Maklumat Umum'!B84=\"\",\"\",'Maklumat Umum'!B84)","v":""},{"$f":"IF('Maklumat Umum'!C84=\"\",\"\",'Maklumat Umum'!C84)","v":""},null,null,null,null,null,null,null,null,null,null,null,null,null,null,null,null,null,null,null,null,null,null,null,null,null,null,null,null,null,null,null,null,"","","","","",null,0,0,0]
[63,{"$f":"IF('Maklumat Umum'!B85=\"\",\"\",'Maklumat Umum'!B85)","v":""},{"$f":"IF('Maklumat Umum'!C85=\"\",\"\",'Maklumat Umum'!C85)","v":""},null,null,null,null,null,null,null,null,null,null,null,null,null,null,null,null,null,null,null,null,null,null,null,null,null,null,null,null,null,null,null,null,"","","","","",null,0,0,0]
[64,{"$f":"IF('Maklumat Umum'!B86=\"\",\"\",'Maklumat Umum'!B86)","v":""},{"$f":"IF('Maklumat Umum'!C86=\"\",\"\",'Maklumat Umum'!C86)","v":""},null,null,null,null,null,null,null,null,null,null,null,null,null,null,null,null,null,null,null,null,null,null,null,null,null,null,null,null,null,null,null,null,"","","","","",null,0,0,0]
[65,{"$f":"IF('Maklumat Umum'!B87=\"\",\"\",'Maklumat Umum'!B87)","v":""},{"$f":"IF('Maklumat Umum'!C87=\"\",\"\",'Maklumat Umum'!C87)","v":""},null,null,null,null,null,null,null,null,null,null,null,null,null,null,null,null,null,null,null,null,null,null,null,null,null,null,null,null,null,null,null,null,"","","","","",null,0,0,0]
[66,{"$f":"IF('Maklumat Umum'!B88=\"\",\"\",'Maklumat Umum'!B88)","v":""},{"$f":"IF('Maklumat Umum'!C88=\"\",\"\",'Maklumat Umum'!C88)","v":""},{"$f":"IF('Maklumat Umum'!D88=\"\",\"\",'Maklumat Umum'!D88)","v":""},null,null,null,null,null,null,null,null,null,null,null,null,null,null,null,null,null,null,null,null,null,null,null,null,null,null,null,null,null,null,null,"","","","","",null,0,0,0]
[67,{"$f":"IF('Maklumat Umum'!B89=\"\",\"\",'Maklumat Umum'!B89)","v":""},{"$f":"IF('Maklumat Umum'!C89=\"\",\"\",'Maklumat Umum'!C89)","v":""},null,null,null,null,null,null,null,null,null,null,null,null,null,null,null,null,null,null,null,null,null,null,null,null,null,null,null,null,null,null,null,null,"","","","","",null,0,0,0]
[68,{"$f":"IF('Maklumat Umum'!B90=\"\",\"\",'Maklumat Umum'!B90)","v":""},{"$f":"IF('Maklumat Umum'!C90=\"\",\"\",'Maklumat Umum'!C90)","v":""},null,null,null,null,null,null,null,null,null,null,null,null,null,null,null,null,null,null,null,null,null,null,null,null,null,null,null,null,null,null,null,null,"","","","","",null,0,0,0]
[69,{"$f":"IF('Maklumat Umum'!B91=\"\",\"\",'Maklumat Umum'!B91)","v":""},{"$f":"IF('Maklumat Umum'!C91=\"\",\"\",'Maklumat Umum'!C91)","v":""},null,null,null,null,null,null,null,null,null,null,null,null,null,null,null,null,null,null,null,null,null,null,null,null,null,null,null,null,null,null,null,null,"","","","","",null,0,0,0]
[70,{"$f":"IF('Maklumat Umum'!B92=\"\",\"\",'Maklumat Umum'!B92)","v":""},{"$f":"IF('Maklumat Umum'!C92=\"\",\"\",'Maklumat Umum'!C92)","v":""},null,null,null,null,null,null,null,null,null,null,null,null,null,null,null,null,null,null,null,null,null,null,null,null,null,null,null,null,null,null,null,null,"","","","","",null,0,0,0]
[71,{"$f":"IF('Maklumat Umum'!B93=\"\",\"\",'Maklumat Umum'!B93)","v":""},{"$f":"IF('Maklumat Umum'!C93=\"\",\"\",'Maklumat Umum'!C93)","v":""},{"$f":"IF('Maklumat Umum'!D93=\"\",\"\",'Maklumat Umum'!D93)","v":""},null,null,null,null,null,null,null,null,null,null,null,null,null,null,null,null,null,null,null,null,null,null,null,null,null,null,null,null,null,null,null,"","","","","",null,0,0,0]
[72,{"$f":"IF('Maklumat Umum'!B94=\"\",\"\",'Maklumat Umum'!B94)","v":""},{"$f":"IF('Maklumat Umum'!C94=\"\",\"\",'Maklumat Umum'!C94)","v":""},null,null,null,null,null,null,null,null,null,null,null,null,null,null,null,null,null,null,null,null,null,null,null,null,null,null,null,null,null,null,null,null,"","","","","",null,0,0,0]
[73,{"$f":"IF('Maklumat Umum'!B95=\"\",\"\",'Maklumat Umum'!B95)","v":""},{"$f":"IF('Maklumat Umum'!C95=\"\",\"\",'Maklumat Umum'!C95)","v":""},null,null,null,null,null,null,null,null,null,null,null,null,null,null,null,null,null,null,null,null,null,null,null,null,null,null,null,null,null,null,null,null,"","","","","",null,0,0,0]
[74,{"$f":"IF('Maklumat Umum'!B96=\"\",\"\",'Maklumat Umum'!B96)","v":""},{"$f":"IF('Maklumat Umum'!C96=\"\",\"\",'Maklumat Umum'!C96)","v":""},null,null,null,null,null,null,null,null,null,null,null,null,null,null,null,null,null,null,null,null,null,null,null,null,null,null,null,null,null,null,null,null,{"$f":"IF(COUNTBLANK(E96:AI96)=31,\"\",AP96+AQ96+AR96)","v":""},{"$f":"IF(COUNTBLANK(E96:AI96)=31,\"\",IF(SUM(E96:AI96)+AJ96>20,20,SUM(E96:AI96)+AJ96))","v":""},"","","",null,0,0,0]
[75,{"$f":"IF('Maklumat Umum'!B97=\"\",\"\",'Maklumat Umum'!B97)","v":""},{"$f":"IF('Maklumat Umum'!C97=\"\",\"\",'Maklumat Umum'!C97)","v":""},null,null,null,null,null,null,null,null,null,null,null,null,null,null,null,null,null,null,null,null,null,null,null,null,null,null,null,null,null,null,null,null,{"$f":"IF(COUNTBLANK(E97:AI97)=31,\"\",AP97+AQ97+AR97)","v":""},{"$f":"IF(COUNTBLANK(E97:AI97)=31,\"\",IF(SUM(E97:AI97)+AJ97>20,20,SUM(E97:AI97)+AJ97))","v":""},"","","",null,{"$f":"IF(COUNTIF(E97:AI97,\"CS\")>14,14,COUNTIF(E97:AI97,\"CS\"))","v":0},{"$f":"COUNTIF(E97:AI97,\"CK\")","v":0},{"$f":"COUNTIF(E97:AI97,\"CU\")","v":0}]
[76,{"$f":"IF('Maklumat Umum'!B98=\"\",\"\",'Maklumat Umum'!B98)","v":""},{"$f":"IF('Maklumat Umum'!C98=\"\",\"\",'Maklumat Umum'!C98)","v":""},{"$f":"IF('Maklumat Umum'!D98=\"\",\"\",'Maklumat Umum'!D98)","v":""},null,null,null,null,null,null,null,null,null,null,null,null,null,null,null,null,null,null,null,null,null,null,null,null,null,null,null,null,null,null,null,{"$f":"IF(COUNTBLANK(E98:AI98)=31,\"\",AP98+AQ98+AR98)","v":""},{"$f":"IF(COUNTBLANK(E98:AI98)=31,\"\",IF(SUM(E98:AI98)+AJ98>20,20,SUM(E98:AI98)+AJ98))","v":""},{"$f":"IF(COUNTBLANK(E98:AI98)=31,\"\",IF(AK98<16,0,AK98*25))","v":""},{"$f":"IF(AL98=\"\",\"\",IF(AL98=0,AK98*15,(AL98/0.5)*0.3))","v":""},{"$f":"IF(AL98=\"\",\"\",IF(AL98=0,AK98*10,(AL98/0.5)*0.2))","v":""},null,{"$f":"IF(COUNTIF(E98:AI98,\"CS\")>14,14,COUNTIF(E98:AI98,\"CS\"))","v":0},{"$f":"COUNTIF(E98:AI98,\"CK\")","v":0},{"$f":"COUNTIF(E98:AI98,\"CU\")","v":0}]
[77,{"$f":"IF('Maklumat Umum'!B99=\"\",\"\",'Maklumat Umum'!B99)","v":""},{"$f":"IF('Maklumat Umum'!C99=\"\",\"\",'Maklumat Umum'!C99)","v":""},null,null,null,null,null,null,null,null,null,null,null,null,null,null,null,null,null,null,null,null,null,null,null,null,null,null,null,null,null,null,null,null,{"$f":"IF(COUNTBLANK(E99:AI99)=31,\"\",AP99+AQ99+AR99)","v":""},{"$f":"IF(COUNTBLANK(E99:AI99)=31,\"\",IF(SUM(E99:AI99)+AJ99>20,20,SUM(E99:AI99)+AJ99))","v":""},"","","",null,{"$f":"IF(COUNTIF(E99:AI99,\"CS\")>14,14,COUNTIF(E99:AI99,\"CS\"))","v":0},{"$f":"COUNTIF(E99:AI99,\"CK\")","v":0},{"$f":"COUNTIF(E99:AI99,\"CU\")","v":0}]
[78,{"$f":"IF('Maklumat Umum'!B100=\"\",\"\",'Maklumat Umum'!B100)","v":""},{"$f":"IF('Maklumat Umum'!C100=\"\",\"\",'Maklumat Umum'!C100)","v":""},null,null,null,null,null,null,null,null,null,null,null,null,null,null,null,null,null,null,null,null,null,null,null,null,null,null,null,null,null,null,null,null,"","","","","",null,0,0,0]
[79,{"$f":"IF('Maklumat Umum'!B101=\"\",\"\",'Maklumat Umum'!B101)","v":""},{"$f":"IF('Maklumat Umum'!C101=\"\",\"\",'Maklumat Umum'!C101)","v":""},null,null,null,null,null,null,null,null,null,null,null,null,null,null,null,null,null,null,null,null,null,null,null,null,null,null,null,null,null,null,null,null,"","","","","",null,0,0,0]
[80,{"$f":"IF('Maklumat Umum'!B102=\"\",\"\",'Maklumat Umum'!B102)","v":""},{"$f":"IF('Maklumat Umum'!C102=\"\",\"\",'Maklumat Umum'!C102)","v":""},null,null,null,null,null,null,null,null,null,null,null,null,null,null,null,null,null,null,null,null,null,null,null,null,null,null,null,null,null,null,null,null,"","","","","",null,0,0,0]
[81,{"$f":"IF('Maklumat Umum'!B103=\"\",\"\",'Maklumat Umum'!B103)","v":""},{"$f":"IF('Maklumat Umum'!C103=\"\",\"\",'Maklumat Umum'!C103)","v":""},{"$f":"IF('Maklumat Umum'!D103=\"\",\"\",'Maklumat Umum'!D103)","v":""},null,null,null,null,null,null,null,null,null,null,null,null,null,null,null,null,null,null,null,null,null,null,null,null,null,null,null,null,null,null,null,"","","","","",null,0,0,0]
[82,{"$f":"IF('Maklumat Umum'!B104=\"\",\"\",'Maklumat Umum'!B104)","v":""},{"$f":"IF('Maklumat Umum'!C104=\"\",\"\",'Maklumat Umum'!C104)","v":""},null,null,null,null,null,null,null,null,null,null,null,null,null,null,null,null,null,null,null,null,null,null,null,null,null,null,null,null,null,null,null,null,"","","","","",null,0,0,0]
[83,{"$f":"IF('Maklumat Umum'!B105=\"\",\"\",'Maklumat Umum'!B105)","v":""},{"$f":"IF('Maklumat Umum'!C105=\"\",\"\",'Maklumat Umum'!C105)","v":""},null,null,null,null,null,null,null,null,null,null,null,null,null,null,null,null,null,null,null,null,null,null,null,null,null,null,null,null,null,null,null,null,"","","","","",null,0,0,0]
[84,{"$f":"IF('Maklumat Umum'!B106=\"\",\"\",'Maklumat Umum'!B106)","v":""},{"$f":"IF('Maklumat Umum'!C106=\"\",\"\",'Maklumat Umum'!C106)","v":""},null,null,null,null,null,null,null,null,null,null,null,null,null,null,null,null,null,null,null,null,null,null,null,null,null,null,null,null,null,null,null,null,"","","","","",null,0,0,0]
[85,{"$f":"IF('Maklumat Umum'!B107=\"\",\"\",'Maklumat Umum'!B107)","v":""},{"$f":"IF('Maklumat Umum'!C107=\"\",\"\",'Maklumat Umum'!C107)","v":""},null,null,null,null,null,null,null,null,null,null,null,null,null,null,null,null,null,null,null,null,null,null,null,null,null,null,null,null,null,null,null,null,"","","","","",null,0,0,0]
[86,{"$f":"IF('Maklumat Umum'!B108=\"\",\"\",'Maklumat Umum'!B108)","v":""},{"$f":"IF('Maklumat Umum'!C108=\"\",\"\",'Maklumat Umum'!C108)","v":""},{"$f":"IF('Maklumat Umum'!D108=\"\",\"\",'Maklumat Umum'!D108)","v":""},null,null,null,null,null,null,null,null,null,null,null,null,null,null,null,null,null,null,null,null,null,null,null,null,null,null,null,null,null,null,null,"","","","","",null,0,0,0]
[87,{"$f":"IF('Maklumat Umum'!B109=\"\",\"\",'Maklumat Umum'!B109)","v":""},{"$f":"IF('Maklumat Umum'!C109=\"\",\"\",'Maklumat Umum'!C109)","v":""},null,null,null,null,null,null,null,null,null,null,null,null,null,null,null,null,null,null,null,null,null,null,null,null,null,null,null,null,null,null,null,null,"","","","","",null,0,0,0]
[88,{"$f":"IF('Maklumat Umum'!B110=\"\",\"\",'Maklumat Umum'!B110)","v":""},{"$f":"IF('Maklumat Umum'!C110=\"\",\"\",'Maklumat Umum'!C110)","v":""},null,null,null,null,null,null,null,null,null,null,null,null,null,null,null,null,null,null,null,null,null,null,null,null,null,null,null,null,null,null,null,null,"","","","","",null,0,0,0]
[89,{"$f":"IF('Maklumat Umum'!B111=\"\",\"\",'Maklumat Umum'!B111)","v":""},{"$f":"IF('Maklumat Umum'!C111=\"\",\"\",'Maklumat Umum'!C111)","v":""},null,null,null,null,null,null,null,null,null,null,null,null,null,null,null,null,null,null,null,null,null,null,null,null,null,null,null,null,null,null,null,null,"","","","","",null,0,0,0]
[90,{"$f":"IF('Maklumat Umum'!B112=\"\",\"\",'Maklumat Umum'!B112)","v":""},{"$f":"IF('Maklumat Umum'!C112=\"\",\"\",'Maklumat Umum'!C112)","v":""},null,null,null,null,null,null,null,null,null,null,null,null,null,null,null,null,null,null,null,null,null,null,null,null,null,null,null,null,null,null,null,null,"","","","","",null,0,0,0]
[91,{"$f":"IF('Maklumat Umum'!B113=\"\",\"\",'Maklumat Umum'!B113)","v":""},{"$f":"IF('Maklumat Umum'!C113=\"\",\"\",'Maklumat Umum'!C113)","v":""},{"$f":"IF('Maklumat Umum'!D113=\"\",\"\",'Maklumat Umum'!D113)","v":""},null,null,null,null,null,null,null,null,null,null,null,null,null,null,null,null,null,null,null,null,null,null,null,null,null,null,null,null,null,null,null,"","","","","",null,0,0,0]
[92,{"$f":"IF('Maklumat Umum'!B114=\"\",\"\",'Maklumat Umum'!B114)","v":""},{"$f":"IF('Maklumat Umum'!C114=\"\",\"\",'Maklumat Umum'!C114)","v":""},null,null,null,null,null,null,null,null,null,null,null,null,null,null,null,null,null,null,null,null,null,null,null,null,null,null,null,null,null,null,null,null,"","","","","",null,0,0,0]
[93,{"$f":"IF('Maklumat Umum'!B115=\"\",\"\",'Maklumat Umum'!B115)","v":""},{"$f":"IF('Maklumat Umum'!C115=\"\",\"\",'Maklumat Umum'!C115)","v":""},null,null,null,null,null,null,null,null,null,null,null,null,null,null,null,null,null,null,null,null,null,null,null,null,null,null,null,null,null,null,null,null,"","","","","",null,0,0,0]
[94,{"$f":"IF('Maklumat Umum'!B116=\"\",\"\",'Maklumat Umum'!B116)","v":""},{"$f":"IF('Maklumat Umum'!C116=\"\",\"\",'Maklumat Umum'!C116)","v":""},null,null,null,null,null,null,null,null,null,null,null,null,null,null,null,null,null,null,null,null,null,null,null,null,null,null,null,null,null,null,null,null,"","","","","",null,0,0,0]
[95,{"$f":"IF('Maklumat Umum'!B117=\"\",\"\",'Maklumat Umum'!B117)","v":""},{"$f":"IF('Maklumat Umum'!C117=\"\",\"\",'Maklumat Umum'!C117)","v":""},null,null,null,null,null,null,null,null,null,null,null,null,null,null,null,null,null,null,null,null,null,null,null,null,null,null,null,null,null,null,null,null,"","","","","",null,0,0,0]
[96,{"$f":"IF('Maklumat Umum'!B118=\"\",\"\",'Maklumat Umum'!B118)","v":""},{"$f":"IF('Maklumat Umum'!C118=\"\",\"\",'Maklumat Umum'!C118)","v":""},{"$f":"IF('Maklumat Umum'!D118=\"\",\"\",'Maklumat Umum'!D118)","v":""},null,null,null,null,null,null,null,null,null,null,null,null,null,null,null,null,null,null,null,null,null,null,null,null,null,null,null,null,null,null,null,"","","","","",null,0,0,0]
[97,{"$f":"IF('Maklumat Umum'!B119=\"\",\"\",'Maklumat Umum'!B119)","v":""},{"$f":"IF('Maklumat Umum'!C119=\"\",\"\",'Maklumat Umum'!C119)","v":""},null,null,null,null,null,null,null,null,null,null,null,null,null,null,null,null,null,null,null,null,null,null,null,null,null,null,null,null,null,null,null,null,"","","","","",null,0,0,0]
[98,{"$f":"IF('Maklumat Umum'!B120=\"\",\"\",'Maklumat Umum'!B120)","v":""},{"$f":"IF('Maklumat Umum'!C120=\"\",\"\",'Maklumat Umum'!C120)","v":""},null,null,null,null,null,null,null,null,null,null,null,null,null,null,null,null,null,null,null,null,null,null,null,null,null,null,null,null,null,null,null,null,"","","","","",null,0,0,0]
[99,{"$f":"IF('Maklumat Umum'!B121=\"\",\"\",'Maklumat Umum'!B121)","v":""},{"$f":"IF('Maklumat Umum'!C121=\"\",\"\",'Maklumat Umum'!C121)","v":""},null,null,null,null,null,null,null,null,null,null,null,null,null,null,null,null,null,null,null,null,null,null,null,null,null,null,null,null,null,null,null,null,{"$f":"IF(COUNTBLANK(E121:AI121)=31,\"\",AP121+AQ121+AR121)","v":""},{"$f":"IF(COUNTBLANK(E121:AI121)=31,\"\",IF(SUM(E121:AI121)+AJ121>20,20,SUM(E121:AI121)+AJ121))","v":""},"","","",null,0,0,0]
[100,{"$f":"IF('Maklumat Umum'!B122=\"\",\"\",'Maklumat Umum'!B122)","v":""},{"$f":"IF('Maklumat Umum'!C122=\"\",\"\",'Maklumat Umum'!C122)","v":""},null,null,null,null,null,null,null,null,null,null,null,null,null,null,null,null,null,null,null,null,null,null,null,null,null,null,null,null,null,null,null,null,{"$f":"IF(COUNTBLANK(E122:AI122)=31,\"\",AP122+AQ122+AR122)","v":""},{"$f":"IF(COUNTBLANK(E122:AI122)=31,\"\",IF(SUM(E122:AI122)+AJ122>20,20,SUM(E122:AI122)+AJ122))","v":""},"","","",null,{"$f":"IF(COUNTIF(E122:AI122,\"CS\")>14,14,COUNTIF(E122:AI122,\"CS\"))","v":0},{"$f":"COUNTIF(E122:AI122,\"CK\")","v":0},{"$f":"COUNTIF(E122:AI122,\"CU\")","v":0}]
["Nota: PL perlu pastikan maklumat adalah tepat dan nama perantis mengikut Kad Pengenalan serta turutan dalam Pengesahan Pendaftaran Perantis SLDN",null,null,null,null,null,null,null,null,null,null,null,null,null,null,null,null,null,null,null,null,null,null,null,null,null,null,null,null,null,null,null,null,null,null,"JUM TUNTUTAN",null,{"$f":"SUM(AL23:AL122)","v":0},{"$f":"SUM(AM23:AM122)","v":0},{"$f":"SUM(AN23:AN122)","v":0},null,null,null,null,"Pejabat Wilayah hendaklah memindahkan Jumlah tuntutan elaun perantis ini ke dalam MySPIKE bagi tujuan pembayaran "]
[null,null,null,null,null,null,null,null,null,null,null,null,null,null,null,null,null,null,null,null,null,null,null,null,null,null,null,null,null,null,null,null,null,null,null,null,null,{"$f":"SUM(AL123:AN123)","v":0}]
["Dengan ini kami mengesahkan bahawa maklumat di atas adalah benar dan perantis sedang menjalani latihan di syarikat kerjasama/ penyedia latihan seperti yang telah ditetapkan."]
[]
["Disediakan oleh",null,null,null,null,null,null,null,null,null,null,null,null,null,"Disahkan oleh"]
[]
["…………………………………………….",null,null,null,null,null,null,null,null,null,null,null,null,null,"……………………………………………."]
["(Tandatangan Penyelaras Pusat Latihan)",null,null,null,null,null,null,null,null,null,null,null,"(Tandatangan Penyelaras Syarikat 1)",null,null,null,null,null,null,null,null,null,null,null,null,null,null,null,null,null,"(Tandatangan Penyelaras Syarikat 2)"]
["Nama:  ",null,null,null,null,null,null,null,null,null,null,null,"Nama:",null,null,null,null,null,null,null,null,null,null,null,null,null,null,null,null,null,"Nama:"]
["Tarikh:",null,null,null,null,null,null,null,null,null,null,null,"Tarikh:",null,null,null,null,null,null,null,null,null,null,null,null,null,null,null,null,null,"Tarikh:"]
[]
["PENGESAHAN PENGURUS PUSAT LATIHAN:",null,null,null,null,null,null,null,null,null,null,null,"(Tandatangan Penyelaras Syarikat 3)",null,null,null,null,null,null,null,null,null,null,null,null,null,null,null,null,null,"(Tandatangan Penyelaras Syarikat 4)"]
["Saya memperakukan kenyataan di atas adalah  benar",null,null,null,null,null,null,null,null,null,null,null,"Nama:",null,null,null,null,null,null,null,null,null,null,null,null,null,null,null,null,null,"Nama:"]
[null,null,null,null,null,null,null,null,null,null,null,null,"Tarikh:",null,null,null,null,null,null,null,null,null,null,null,null,null,null,null,null,null,"Tarikh:"]
["……………………………………………."]
["(Tandatangan Pengurus Pusat Latihan)",null,null,null,null,null,null,null,null,null,null,null,"(Tandatangan Penyelaras Syarikat 5)"]
[null,null,null,null,null,null,null,null,null,null,null,null,"Nama:"]
["Nama ",null,null,null,null,null,null,null,null,null,null,null,"Tarikh:"]
["No Kad Pengenalan (Pengurus Pusat Latihan)"]
["Tarikh:",null,null,"Cop Rasmi Pusat Latihan:"]

{"sheet":"Apr23","index":6,"n_rows":142,"n_cols":45,"rows_kept":142,"cut":false,"hidden":false,"merged":[[0,0,0,40],[1,0,1,40],[2,16,2,20],[5,12,8,35],[15,1,16,2],[16,4,16,33],[17,0,21,0],[17,1,21,1],[17,2,21,2],[17,3,21,3],[17,4,17,33],[19,4,19,33],[47,3,51,3],[17,36,21,36],[17,37,17,39],[17,40,21,40],[18,37,21,37],[18,38,21,38],[18,39,21,39],[17,35,21,35],[22,3,26,3],[27,3,31,3],[32,3,36,3],[37,3,41,3],[42,3,46,3],[107,3,111,3],[52,3,56,3],[57,3,61,3],[62,3,66,3],[67,3,71,3],[72,3,76,3],[77,3,81,3],[82,3,86,3],[87,3,91,3],[92,3,96,3],[97,3,101,3],[102,3,106,3],[112,3,116,3],[117,3,121,3],[122,35,123,36],[122,44,126,50],[123,37,123,39]]}
["BORANG KEHADIRAN PERANTIS"]
[{"$f":"'Maklumat Umum'!H1000","v":"SISTEM LATIHAN DUAL NASIONAL (SLDN) BERINSENTIF 2023"}]
[null,null,null,null,null,null,null,null,null,null,null,null,null,"BULAN",null,null,"APR 2023",null,null,null,null,null,null,null,null,null,null,null,null,null,null,null,null,null,null,null,"JPK/SP/02"]
[]
[null,"NAMA PUSAT LATIHAN",{"$f":"'Maklumat Umum'!C8","v":0},null,null,null,null,null,null,null,null,null,"Nota: "]
[null,"KOD PUSAT LATIHAN",{"$f":"'Maklumat Umum'!C9","v":0},null,null,null,null,null,null,null,null,null,"1. Bil maksimum hari latihan sebulan yang layak dibayar insentif adalah 20 hari termasuklah:\n(1) Cuti Sakit terhad kepada 14 hari sahaja  - Perlu sertakan Perakuan dari Klinik/Hospital\n(2) Cuti Kecemasan seperti kematian ahli keluarga, kebakaran, banjir dan lain-lain -  Perlu sertakan Surat Pihak Berkuasa Berkaitan (Klinik/Hospital, polis dll) \n(3) Cuti Umum Negeri atau Nasional\n(4) Cuti Kuarantin - Perlu sertakan kelulusan"]
[null,"NAMA PROGRAM",{"$f":"'Maklumat Umum'!C10","v":0}]
[null,"NO PENGAMBILAN",{"$f":"'Maklumat Umum'!C11","v":0}]
[null,"TARIKH MULA LATIHAN",{"$f":"'Maklumat Umum'!C13","v":"00:00:00"}]
[null,"TARIKH TAMAT LATIHAN",{"$f":"'Maklumat Umum'!C14","v":"2024-01-26"},null,null,null,null,null,null,null,null,null,"2. Kadar sehari elaun perantis adalah RM25"]
[null,"TEMPOH LATIHAN DILULUSKAN (BULAN)",{"$f":"'Maklumat Umum'!C12","v":0},null,null,null,null,null,null,null,null,null,"3. Perantis hanya layak dibayar jika kehadiran sekurang-kurangnya 80% (16 hari). PL dan syarikat dibayar mengikut bil hari perantis hadir"]
[]
[]
[]
[]
[null,"MAKLUMAT KURSUS TAK LENGKAP"]
[null,null,null,null,"1 = Hadir            Kosongkan (Blank) = Tidak Hadir            CS = Cuti Sakit             CK = Cuti Kecemasan/Kurantin          CU = Cuti Umum"]
["BIL","Nama Perantis","No Kad \nPengenalan","Syarikat","BIL HARI LATIHAN",null,null,null,null,null,null,null,null,null,null,null,null,null,null,null,null,null,null,null,null,null,null,null,null,null,null,null,null,null,null,"Bil Hari\nCS,CK,\nCU Layak","Bil \nHari Boleh Dibayar","Tuntutan (RM)",null,null,"Tandatangan Perantis"]
[null,null,null,null,1,2,3,4,5,6,7,8,9,10,11,12,13,14,15,16,17,18,19,20,21,22,23,24,25,26,27,28,29,30,31,null,null,"Perantis","Pusat Latihan","Syarikat"]
[null,null,null,null,"TARIKH & HARI"]
[null,null,null,null,"2023-04-01","2023-04-02","2023-04-03","2023-04-04","2023-04-05","2023-04-06","2023-04-07","2023-04-08","2023-04-09","2023-04-10","2023-04-11","2023-04-12","2023-04-13","2023-04-14","2023-04-15","2023-04-16","2023-04-17","2023-04-18","2023-04-19","2023-04-20","2023-04-21","2023-04-22","2023-04-23","2023-04-24","2023-04-25","2023-04-26","2023-04-27","2023-04-28","2023-04-29","2023-04-30","2023-05-01"]
[null,null,null,null,"Sat","Sun","Mon","Tue","Wed","Thu","Fri","Sat","Sun","Mon","Tue","Wed","Thu","Fri","Sat","Sun","Mon","Tue","Wed","Thu","Fri","Sat","Sun","Mon","Tue","Wed","Thu","Fri","Sat","Sun","Mon"]
[1,{"$f":"IF('Maklumat Umum'!B23=\"\",\"\",'Maklumat Umum'!B23)","v":""},{"$f":"IF('Maklumat Umum'!C23=\"\",\"\",'Maklumat Umum'!C23)","v":""},{"$f":"IF('Maklumat Umum'!D23=\"\",\"\",'Maklumat Umum'!D23)","v":""},null,null,null,null,null,null,null,null,null,null,null,null,null,null,null,null,null,null,null,null,null,null,null,null,null,null,null,null,null,null,null,{"$f":"IF(COUNTBLANK(E23:AI23)=31,\"\",AP23+AQ23+AR23)","v":""},{"$f":"IF(COUNTBLANK(E23:AI23)=31,\"\",IF(SUM(E23:AI23)+AJ23>20,20,SUM(E23:AI23)+AJ23))","v":""},{"$f":"IF(COUNTBLANK(E23:AI23)=31,\"\",IF(AK23<16,0,AK23*25))","v":""},{"$f":"IF(AL23=\"\",\"\",IF(AL23=0,AK23*15,(AL23/0.5)*0.3))","v":""},{"$f":"IF(AL23=\"\",\"\",IF(AL23=0,AK23*10,(AL23/0.5)*0.2))","v":""},null,{"$f":"IF(COUNTIF(E23:AI23,\"CS\")>14,14,COUNTIF(E23:AI23,\"CS\"))","v":0},{"$f":"COUNTIF(E23:AI23,\"CK\")","v":0},{"$f":"COUNTIF(E23:AI23,\"CU\")","v":0}]
[2,{"$f":"IF('Maklumat Umum'!B24=\"\",\"\",'Maklumat Umum'!B24)","v":""},{"$f":"IF('Maklumat Umum'!C24=\"\",\"\",'Maklumat Umum'!C24)","v":""},null,null,null,null,null,null,null,null,null,null,null,null,null,null,null,null,null,null,null,null,null,null,null,null,null,null,null,null,null,null,null,null,{"$f":"IF(COUNTBLANK(E24:AI24)=31,\"\",AP24+AQ24+AR24)","v":""},{"$f":"IF(COUNTBLANK(E24:AI24)=31,\"\",IF(SUM(E24:AI24)+AJ24>20,20,SUM(E24:AI24)+AJ24))","v":""},"","","",null,{"$f":"IF(COUNTIF(E24:AI24,\"CS\")>14,14,COUNTIF(E24:AI24,\"CS\"))","v":0},{"$f":"COUNTIF(E24:AI24,\"CK\")","v":0},{"$f":"COUNTIF(E24:AI24,\"CU\")","v":0}]
[3,{"$f":"IF('Maklumat Umum'!B25=\"\",\"\",'Maklumat Umum'!B25)","v":""},{"$f":"IF('Maklumat Umum'!C25=\"\",\"\",'Maklumat Umum'!C25)","v":""},null,null,null,null,null,null,null,null,null,null,null,null,null,null,null,null,null,null,null,null,null,null,null,null,null,null,null,null,null,null,null,null,"","","","","",null,0,0,0]
[4,{"$f":"IF('Maklumat Umum'!B26=\"\",\"\",'Maklumat Umum'!B26)","v":""},{"$f":"IF('Maklumat Umum'!C26=\"\",\"\",'Maklumat Umum'!C26)","v":""},null,null,null,null,null,null,null,null,null,null,null,null,null,null,null,null,null,null,null,null,null,null,null,null,null,null,null,null,null,null,null,null,"","","","","",null,0,0,0]
[5,{"$f":"IF('Maklumat Umum'!B27=\"\",\"\",'Maklumat Umum'!B27)","v":""},{"$f":"IF('Maklumat Umum'!C27=\"\",\"\",'Maklumat Umum'!C27)","v":""},null,null,null,null,null,null,null,null,null,null,null,null,null,null,null,null,null,null,null,null,null,null,null,null,null,null,null,null,null,null,null,null,"","","","","",null,0,0,0]
[6,{"$f":"IF('Maklumat Umum'!B28=\"\",\"\",'Maklumat Umum'!B28)","v":""},{"$f":"IF('Maklumat Umum'!C28=\"\",\"\",'Maklumat Umum'!C28)","v":""},{"$f":"IF('Maklumat Umum'!D28=\"\",\"\",'Maklumat Umum'!D28)","v":""},null,null,null,null,null,null,null,null,null,null,null,null,null,null,null,null,null,null,null,null,null,null,null,null,null,null,null,null,null,null,null,"","","","","",null,0,0,0]
[7,{"$f":"IF('Maklumat Umum'!B29=\"\",\"\",'Maklumat Umum'!B29)","v":""},{"$f":"IF('Maklumat Umum'!C29=\"\",\"\",'Maklumat Umum'!C29)","v":""},null,null,null,null,null,null,null,null,null,null,null,null,null,null,null,null,null,null,null,null,null,null,null,null,null,null,null,null,null,null,null,null,"","","","","",null,0,0,0]
[8,{"$f":"IF('Maklumat Umum'!B30=\"\",\"\",'Maklumat Umum'!B30)","v":""},{"$f":"IF('Maklumat Umum'!C30=\"\",\"\",'Maklumat Umum'!C30)","v":""},null,null,null,null,null,null,null,null,null,null,null,null,null,null,null,null,null,null,null,null,null,null,null,null,null,null,null,null,null,null,null,null,"","","","","",null,0,0,0]
[9,{"$f":"IF('Maklumat Umum'!B31=\"\",\"\",'Maklumat Umum'!B31)","v":""},{"$f":"IF('Maklumat Umum'!C31=\"\",\"\",'Maklumat Umum'!C31)","v":""},null,null,null,null,null,null,null,null,null,null,null,null,null,null,null,null,null,null,null,null,null,null,null,null,null,null,null,null,null,null,null,null,"","","","","",null,0,0,0]
[10,{"$f":"IF('Maklumat Umum'!B32=\"\",\"\",'Maklumat Umum'!B32)","v":""},{"$f":"IF('Maklumat Umum'!C32=\"\",\"\",'Maklumat Umum'!C32)","v":""},null,null,null,null,null,null,null,null,null,null,null,null,null,null,null,null,null,null,null,null,null,null,null,null,null,null,null,null,null,null,null,null,"","","","","",null,0,0,0]
[11,{"$f":"IF('Maklumat Umum'!B33=\"\",\"\",'Maklumat Umum'!B33)","v":""},{"$f":"IF('Maklumat Umum'!C33=\"\",\"\",'Maklumat Umum'!C33)","v":""},{"$f":"IF('Maklumat Umum'!D33=\"\",\"\",'Maklumat Umum'!D33)","v":""},null,null,null,null,null,null,null,null,null,null,null,null,null,null,null,null,null,null,null,null,null,null,null,null,null,null,null,null,null,null,null,"","","","","",null,0,0,0]
[12,{"$f":"IF('Maklumat Umum'!B34=\"\",\"\",'Maklumat Umum'!B34)","v":""},{"$f":"IF('Maklumat Umum'!C34=\"\",\"\",'Maklumat Umum'!C34)","v":""},null,null,null,null,null,null,null,null,null,null,null,null,null,null,null,null,null,null,null,null,null,null,null,null,null,null,null,null,null,null,null,null,"","","","","",null,0,0,0]
[13,{"$f":"IF('Maklumat Umum'!B35=\"\",\"\",'Maklumat Umum'!B35)","v":""},{"$f":"IF('Maklumat Umum'!C35=\"\",\"\",'Maklumat Umum'!C35)","v":""},null,null,null,null,null,null,null,null,null,null,null,null,null,null,null,null,null,null,null,null,null,null,null,null,null,null,null,null,null,null,null,null,"","","","","",null,0,0,0]
[14,{"$f":"IF('Maklumat Umum'!B36=\"\",\"\",'Maklumat Umum'!B36)","v":""},{"$f":"IF('Maklumat Umum'!C36=\"\",\"\",'Maklumat Umum'!C36)","v":""},null,null,null,null,null,null,null,null,null,null,null,null,null,null,null,null,null,null,null,null,null,null,null,null,null,null,null,null,null,null,null,null,"","","","","",null,0,0,0]
[15,{"$f":"IF('Maklumat Umum'!B37=\"\",\"\",'Maklumat Umum'!B37)","v":""},{"$f":"IF('Maklumat Umum'!C37=\"\",\"\",'Maklumat Umum'!C37)","v":""},null,null,null,null,null,null,null,null,null,null,null,null,null,null,null,null,null,null,null,null,null,null,null,null,null,null,null,null,null,null,null,null,"","","","","",null,0,0,0]
[16,{"$f":"IF('Maklumat Umum'!B38=\"\",\"\",'Maklumat Umum'!B38)","v":""},{"$f":"IF('Maklumat Umum'!C38=\"\",\"\",'Maklumat Umum'!C38)","v":""},{"$f":"IF('Maklumat Umum'!D38=\"\",\"\",'Maklumat Umum'!D38)","v":""},null,null,null,null,null,null,null,null,null,null,null,null,null,null,null,null,null,null,null,null,null,null,null,null,null,null,null,null,null,null,null,"","","","","",null,0,0,0]
[17,{"$f":"IF('Maklumat Umum'!B39=\"\",\"\",'Maklumat Umum'!B39)","v":""},{"$f":"IF('Maklumat Umum'!C39=\"\",\"\",'Maklumat Umum'!C39)","v":""},null,null,null,null,null,null,null,null,null,null,null,null,null,null,null,null,null,null,null,null,null,null,null,null,null,null,null,null,null,null,null,null,"","","","","",null,0,0,0]
[18,{"$f":"IF('Maklumat Umum'!B40=\"\",\"\",'Maklumat Umum'!B40)","v":""},{"$f":"IF('Maklumat Umum'!C40=\"\",\"\",'Maklumat Umum'!C40)","v":""},null,null,null,null,null,null,null,null,null,null,null,null,null,null,null,null,null,null,null,null,null,null,null,null,null,null,null,null,null,null,null,null,"","","","","",null,0,0,0]
[19,{"$f":"IF('Maklumat Umum'!B41=\"\",\"\",'Maklumat Umum'!B41)","v":""},{"$f":"IF('Maklumat Umum'!C41=\"\",\"\",'Maklumat Umum'!C41)","v":""},null,null,null,null,null,null,null,null,null,null,null,null,null,null,null,null,null,null,null,null,null,null,null,null,null,null,null,null,null,null,null,null,"","","","","",null,0,0,0]
[20,{"$f":"IF('Maklumat Umum'!B42=\"\",\"\",'Maklumat Umum'!B42)","v":""},{"$f":"IF('Maklumat Umum'!C42=\"\",\"\",'Maklumat Umum'!C42)","v":""},null,null,null,null,null,null,null,null,null,null,null,null,null,null,null,null,null,null,null,null,null,null,null,null,null,null,null,null,null,null,null,null,"","","","","",null,0,0,0]
[21,{"$f":"IF('Maklumat Umum'!B43=\"\",\"\",'Maklumat Umum'!B43)","v":""},{"$f":"IF('Maklumat Umum'!C43=\"\",\"\",'Maklumat Umum'!C43)","v":""},{"$f":"IF('Maklumat Umum'!D43=\"\",\"\",'Maklumat Umum'!D43)","v":""},null,null,null,null,null,null,null,null,null,null,null,null,null,null,null,null,null,null,null,null,null,null,null,null,null,null,null,null,null,null,null,"","","","","",null,0,0,0]
[22,{"$f":"IF('Maklumat Umum'!B44=\"\",\"\",'Maklumat Umum'!B44)","v":""},{"$f":"IF('Maklumat Umum'!C44=\"\",\"\",'Maklumat Umum'!C44)","v":""},null,null,null,null,null,null,null,null,null,null,null,null,null,null,null,null,null,null,null,null,null,null,null,null,null,null,null,null,null,null,null,null,"","","","","",null,0,0,0]
[23,{"$f":"IF('Maklumat Umum'!B45=\"\",\"\",'Maklumat Umum'!B45)","v":""},{"$f":"IF('Maklumat Umum'!C45=\"\",\"\",'Maklumat Umum'!C45)","v":""},null,null,null,null,null,null,null,null,null,null,null,null,null,null,null,null,null,null,null,null,null,null,null,null,null,null,null,null,null,null,null,null,"","","","","",null,0,0,0]
[24,{"$f":"IF('Maklumat Umum'!B46=\"\",\"\",'Maklumat Umum'!B46)","v":""},{"$f":"IF('Maklumat Umum'!C46=\"\",\"\",'Maklumat Umum'!C46)","v":""},null,null,null,null,null,null,null,null,null,null,null,null,null,null,null,null,null,null,null,null,null,null,null,null,null,null,null,null,null,null,null,null,{"$f":"IF(COUNTBLANK(E46:AI46)=31,\"\",AP46+AQ46+AR46)","v":""},{"$f":"IF(COUNTBLANK(E46:AI46)=31,\"\",IF(SUM(E46:AI46)+AJ46>20,20,SUM(E46:AI46)+AJ46))","v":""},"","","",null,0,0,0]
[25,{"$f":"IF('Maklumat Umum'!B47=\"\",\"\",'Maklumat Umum'!B47)","v":""},{"$f":"IF('Maklumat Umum'!C47=\"\",\"\",'Maklumat Umum'!C47)","v":""},null,null,null,null,null,null,null,null,null,null,null,null,null,null,null,null,null,null,null,null,null,null,null,null,null,null,null,null,null,null,null,null,{"$f":"IF(COUNTBLANK(E47:AI47)=31,\"\",AP47+AQ47+AR47)","v":""},{"$f":"IF(COUNTBLANK(E47:AI47)=31,\"\",IF(SUM(E47:AI47)+AJ47>20,20,SUM(E47:AI47)+AJ47))","v":""},"","","",null,{"$f":"IF(COUNTIF(E47:AI47,\"CS\")>14,14,COUNTIF(E47:AI47,\"CS\"))","v":0},{"$f":"COUNTIF(E47:AI47,\"CK\")","v":0},{"$f":"COUNTIF(E47:AI47,\"CU\")","v":0}]
[26,{"$f":"IF('Maklumat Umum'!B48=\"\",\"\",'Maklumat Umum'!B48)","v":""},{"$f":"IF('Maklumat Umum'!C48=\"\",\"\",'Maklumat Umum'!C48)","v":""},{"$f":"IF('Maklumat Umum'!D48=\"\",\"\",'Maklumat Umum'!D48)","v":""},null,null,null,null,null,null,null,null,null,null,null,null,null,null,null,null,null,null,null,null,null,null,null,null,null,null,null,null,null,null,null,{"$f":"IF(COUNTBLANK(E48:AI48)=31,\"\",AP48+AQ48+AR48)","v":""},{"$f":"IF(COUNTBLANK(E48:AI48)=31,\"\",IF(SUM(E48:AI48)+AJ48>20,20,SUM(E48:AI48)+AJ48))","v":""},"","","",null,{"$f":"IF(COUNTIF(E48:AI48,\"CS\")>14,14,COUNTIF(E48:AI48,\"CS\"))","v":0},{"$f":"COUNTIF(E48:AI48,\"CK\")","v":0},{"$f":"COUNTIF(E48:AI48,\"CU\")","v":0}]
[27,{"$f":"IF('Maklumat Umum'!B49=\"\",\"\",'Maklumat Umum'!B49)","v":""},{"$f":"IF('Maklumat Umum'!C49=\"\",\"\",'Maklumat Umum'!C49)","v":""},null,null,null,null,null,null,null,null,null,null,null,null,null,null,null,null,null,null,null,null,null,null,null,null,null,null,null,null,null,null,null,null,{"$f":"IF(COUNTBLANK(E49:AI49)=31,\"\",AP49+AQ49+AR49)","v":""},{"$f":"IF(COUNTBLANK(E49:AI49)=31,\"\",IF(SUM(E49:AI49)+AJ49>20,20,SUM(E49:AI49)+AJ49))","v":""},"","","",null,{"$f":"IF(COUNTIF(E49:AI49,\"CS\")>14,14,COUNTIF(E49:AI49,\"CS\"))","v":0},{"$f":"COUNTIF(E49:AI49,\"CK\")","v":0},{"$f":"COUNTIF(E49:AI49,\"CU\")","v":0}]
[28,{"$f":"IF('Maklumat Umum'!B50=\"\",\"\",'Maklumat Umum'!B50)","v":""},{"$f":"IF('Maklumat Umum'!C50=\"\",\"\",'Maklumat Umum'!C50)","v":""},null,null,null,null,null,null,null,null,null,null,null,null,null,null,null,null,null,null,null,null,null,null,null,null,null,null,null,null,null,null,null,null,"","","","","",null,0,0,0]
[29,{"$f":"IF('Maklumat Umum'!B51=\"\",\"\",'Maklumat Umum'!B51)","v":""},{"$f":"IF('Maklumat Umum'!C51=\"\",\"\",'Maklumat Umum'!C51)","v":""},null,null,null,null,null,null,null,null,null,null,null,null,null,null,null,null,null,null,null,null,null,null,null,null,null,null,null,null,null,null,null,null,"","","","","",null,0,0,0]
[30,{"$f":"IF('Maklumat Umum'!B52=\"\",\"\",'Maklumat Umum'!B52)","v":""},{"$f":"IF('Maklumat Umum'!C52=\"\",\"\",'Maklumat Umum'!C52)","v":""},null,null,null,null,null,null,null,null,null,null,null,null,null,null,null,null,null,null,null,null,null,null,null,null,null,null,null,null,null,null,null,null,"","","","","",null,0,0,0]
[31,{"$f":"IF('Maklumat Umum'!B53=\"\",\"\",'Maklumat Umum'!B53)","v":""},{"$f":"IF('Maklumat Umum'!C53=\"\",\"\",'Maklumat Umum'!C53)","v":""},{"$f":"IF('Maklumat Umum'!D53=\"\",\"\",'Maklumat Umum'!D53)","v":""},null,null,null,null,null,null,null,null,null,null,null,null,null,null,null,null,null,null,null,null,null,null,null,null,null,null,null,null,null,null,null,"","","","","",null,0,0,0]
[32,{"$f":"IF('Maklumat Umum'!B54=\"\",\"\",'Maklumat Umum'!B54)","v":""},{"$f":"IF('Maklumat Umum'!C54=\"\",\"\",'Maklumat Umum'!C54)","v":""},null,null,null,null,null,null,null,null,null,null,null,null,null,null,null,null,null,null,null,null,null,null,null,null,null,null,null,null,null,null,null,null,"","","","","",null,0,0,0]
[33,{"$f":"IF('Maklumat Umum'!B55=\"\",\"\",'Maklumat Umum'!B55)","v":""},{"$f":"IF('Maklumat Umum'!C55=\"\",\"\",'Maklumat Umum'!C55)","v":""},null,null,null,null,null,null,null,null,null,null,null,null,null,null,null,null,null,null,null,null,null,null,null,null,null,null,null,null,null,null,null,null,"","","","","",null,0,0,0]
[34,{"$f":"IF('Maklumat Umum'!B56=\"\",\"\",'Maklumat Umum'!B56)","v":""},{"$f":"IF('Maklumat Umum'!C56=\"\",\"\",'Maklumat Umum'!C56)","v":""},null,null,null,null,null,null,null,null,null,null,null,null,null,null,null,null,null,null,null,null,null,null,null,null,null,null,null,null,null,null,null,null,"","","","","",null,0,0,0]
[35,{"$f":"IF('Maklumat Umum'!B57=\"\",\"\",'Maklumat Umum'!B57)","v":""},{"$f":"IF('Maklumat Umum'!C57=\"\",\"\",'Maklumat Umum'!C57)","v":""},null,null,null,null,null,null,null,null,null,null,null,null,null,null,null,null,null,null,null,null,null,null,null,null,null,null,null,null,null,null,null,null,"","","","","",null,0,0,0]
[36,{"$f":"IF('Maklumat Umum'!B58=\"\",\"\",'Maklumat Umum'!B58)","v":""},{"$f":"IF('Maklumat Umum'!C58=\"\",\"\",'Maklumat Umum'!C58)","v":""},{"$f":"IF('Maklumat Umum'!D58=\"\",\"\",'Maklumat Umum'!D58)","v":""},null,null,null,null,null,null,null,null,null,null,null,null,null,null,null,null,null,null,null,null,null,null,null,null,null,null,null,null,null,null,null,"","","","","",null,0,0,0]
[37,{"$f":"IF('Maklumat Umum'!B59=\"\",\"\",'Maklumat Umum'!B59)","v":""},{"$f":"IF('Maklumat Umum'!C59=\"\",\"\",'Maklumat Umum'!C59)","v":""},null,null,null,null,null,null,null,null,null,null,null,null,null,null,null,null,null,null,null,null,null,null,null,null,null,null,null,null,null,null,null,null,"","","","","",null,0,0,0]
[38,{"$f":"IF('Maklumat Umum'!B60=\"\",\"\",'Maklumat Umum'!B60)","v":""},{"$f":"IF('Maklumat Umum'!C60=\"\",\"\",'Maklumat Umum'!C60)","v":""},null,null,null,null,null,null,null,null,null,null,null,null,null,null,null,null,null,null,null,null,null,null,null,null,null,null,null,null,null,null,null,null,"","","","","",null,0,0,0]
[39,{"$f":"IF('Maklumat Umum'!B61=\"\",\"\",'Maklumat Umum'!B61)","v":""},{"$f":"IF('Maklumat Umum'!C61=\"\",\"\",'Maklumat Umum'!C61)","v":""},null,null,null,null,null,null,null,null,null,null,null,null,null,null,null,null,null,null,null,null,null,null,null,null,null,null,null,null,null,null,null,null,"","","","","",null,0,0,0]
[40,{"$f":"IF('Maklumat Umum'!B62=\"\",\"\",'Maklumat Umum'!B62)","v":""},{"$f":"IF('Maklumat Umum'!C62=\"\",\"\",'Maklumat Umum'!C62)","v":""},null,null,null,null,null,null,null,null,null,null,null,null,null,null,null,null,null,null,null,null,null,null,null,null,null,null,null,null,null,null,null,null,"","","","","",null,0,0,0]
[41,{"$f":"IF('Maklumat Umum'!B63=\"\",\"\",'Maklumat Umum'!B63)","v":""},{"$f":"IF('Maklumat Umum'!C63=\"\",\"\",'Maklumat Umum'!C63)","v":""},{"$f":"IF('Maklumat Umum'!D63=\"\",\"\",'Maklumat Umum'!D63)","v":""},null,null,null,null,null,null,null,null,null,null,null,null,null,null,null,null,null,null,null,null,null,null,null,null,null,null,null,null,null,null,null,"","","","","",null,0,0,0]
[42,{"$f":"IF('Maklumat Umum'!B64=\"\",\"\",'Maklumat Umum'!B64)","v":""},{"$f":"IF('Maklumat Umum'!C64=\"\",\"\",'Maklumat Umum'!C64)","v":""},null,null,null,null,null,null,null,null,null,null,null,null,null,null,null,null,null,null,null,null,null,null,null,null,null,null,null,null,null,null,null,null,"","","","","",null,0,0,0]
[43,{"$f":"IF('Maklumat Umum'!B65=\"\",\"\",'Maklumat Umum'!B65)","v":""},{"$f":"IF('Maklumat Umum'!C65=\"\",\"\",'Maklumat Umum'!C65)","v":""},null,null,null,null,null,null,null,null,null,null,null,null,null,null,null,null,null,null,null,null,null,null,null,null,null,null,null,null,null,null,null,null,"","","","","",null,0,0,0]
[44,{"$f":"IF('Maklumat Umum'!B66=\"\",\"\",'Maklumat Umum'!B66)","v":""},{"$f":"IF('Maklumat Umum'!C66=\"\",\"\",'Maklumat Umum'!C66)","v":""},null,null,null,null,null,null,null,null,null,null,null,null,null,null,null,null,null,null,null,null,null,null,null,null,null,null,null,null,null,null,null,null,"","","","","",null,0,0,0]
[45,{"$f":"IF('Maklumat Umum'!B67=\"\",\"\",'Maklumat Umum'!B67)","v":""},{"$f":"IF('Maklumat Umum'!C67=\"\",\"\",'Maklumat Umum'!C67)","v":""},null,null,null,null,null,null,null,null,null,null,null,null,null,null,null,null,null,null,null,null,null,null,null,null,null,null,null,null,null,null,null,null,"","","","","",null,0,0,0]
[46,{"$f":"IF('Maklumat Umum'!B68=\"\",\"\",'Maklumat Umum'!B68)","v":""},{"$f":"IF('Maklumat Umum'!C68=\"\",\"\",'Maklumat Umum'!C68)","v":""},{"$f":"IF('Maklumat Umum'!D68=\"\",\"\",'Maklumat Umum'!D68)","v":""},null,null,null,null,null,null,null,null,null,null,null,null,null,null,null,null,null,null,null,null,null,null,null,null,null,null,null,null,null,null,null,"","","","","",null,0,0,0]
[47,{"$f":"IF('Maklumat Umum'!B69=\"\",\"\",'Maklumat Umum'!B69)","v":""},{"$f":"IF('Maklumat Umum'!C69=\"\",\"\",'Maklumat Umum'!C69)","v":""},null,null,null,null,null,null,null,null,null,null,null,null,null,null,null,null,null,null,null,null,null,null,null,null,null,null,null,null,null,null,null,null,"","","","","",null,0,0,0]
[48,{"$f":"IF('Maklumat Umum'!B70=\"\",\"\",'Maklumat Umum'!B70)","v":""},{"$f":"IF('Maklumat Umum'!C70=\"\",\"\",'Maklumat Umum'!C70)","v":""},null,null,null,null,null,null,null,null,null,null,null,null,null,null,null,null,null,null,null,null,null,null,null,null,null,null,null,null,null,null,null,null,"","","","","",null,0,0,0]
[49,{"$f":"IF('Maklumat Umum'!B71=\"\",\"\",'Maklumat Umum'!B71)","v":""},{"$f":"IF('Maklumat Umum'!C71=\"\",\"\",'Maklumat Umum'!C71)","v":""},null,null,null,null,null,null,null,null,null,null,null,null,null,null,null,null,null,null,null,null,null,null,null,null,null,null,null,null,null,null,null,null,{"$f":"IF(COUNTBLANK(E71:AI71)=31,\"\",AP71+AQ71+AR71)","v":""},{"$f":"IF(COUNTBLANK(E71:AI71)=31,\"\",IF(SUM(E71:AI71)+AJ71>20,20,SUM(E71:AI71)+AJ71))","v":""},"","","",null,0,0,0]
[50,{"$f":"IF('Maklumat Umum'!B72=\"\",\"\",'Maklumat Umum'!B72)","v":""},{"$f":"IF('Maklumat Umum'!C72=\"\",\"\",'Maklumat Umum'!C72)","v":""},null,null,null,null,null,null,null,null,null,null,null,null,null,null,null,null,null,null,null,null,null,null,null,null,null,null,null,null,null,null,null,null,{"$f":"IF(COUNTBLANK(E72:AI72)=31,\"\",AP72+AQ72+AR72)","v":""},{"$f":"IF(COUNTBLANK(E72:AI72)=31,\"\",IF(SUM(E72:AI72)+AJ72>20,20,SUM(E72:AI72)+AJ72))","v":""},"","","",null,{"$f":"IF(COUNTIF(E72:AI72,\"CS\")>14,14,COUNTIF(E72:AI72,\"CS\"))","v":0},{"$f":"COUNTIF(E72:AI72,\"CK\")","v":0},{"$f":"COUNTIF(E72:AI72,\"CU\")","v":0}]
[51,{"$f":"IF('Maklumat Umum'!B73=\"\",\"\",'Maklumat Umum'!B73)","v":""},{"$f":"IF('Maklumat Umum'!C73=\"\",\"\",'Maklumat Umum'!C73)","v":""},{"$f":"IF('Maklumat Umum'!D73=\"\",\"\",'Maklumat Umum'!D73)","v":""},null,null,null,null,null,null,null,null,null,null,null,null,null,null,null,null,null,null,null,null,null,null,null,null,null,null,null,null,null,null,null,{"$f":"IF(COUNTBLANK(E73:AI73)=31,\"\",AP73+AQ73+AR73)","v":""},{"$f":"IF(COUNTBLANK(E73:AI73)=31,\"\",IF(SUM(E73:AI73)+AJ73>20,20,SUM(E73:AI73)+AJ73))","v":""},"","","",null,{"$f":"IF(COUNTIF(E73:AI73,\"CS\")>14,14,COUNTIF(E73:AI73,\"CS\"))","v":0},{"$f":"COUNTIF(E73:AI73,\"CK\")","v":0},{"$f":"COUNTIF(E73:AI73,\"CU\")","v":0}]
[52,{"$f":"IF('Maklumat Umum'!B74=\"\",\"\",'Maklumat Umum'!B74)","v":""},{"$f":"IF('Maklumat Umum'!C74=\"\",\"\",'Maklumat Umum'!C74)","v":""},null,null,null,null,null,null,null,null,null,null,null,null,null,null,null,null,null,null,null,null,null,null,null,null,null,null,null,null,null,null,null,null,{"$f":"IF(COUNTBLANK(E74:AI74)=31,\"\",AP74+AQ74+AR74)","v":""},{"$f":"IF(COUNTBLANK(E74:AI74)=31,\"\",IF(SUM(E74:AI74)+AJ74>20,20,SUM(E74:AI74)+AJ74))","v":""},"","","",null,{"$f":"IF(COUNTIF(E74:AI74,\"CS\")>14,14,COUNTIF(E74:AI74,\"CS\"))","v":0},{"$f":"COUNTIF(E74:AI74,\"CK\")","v":0},{"$f":"COUNTIF(E74:AI74,\"CU\")","v":0}]
[53,{"$f":"IF('Maklumat Umum'!B75=\"\",\"\",'Maklumat Umum'!B75)","v":""},{"$f":"IF('Maklumat Umum'!C75=\"\",\"\",'Maklumat Umum'!C75)","v":""},null,null,null,null,null,null,null,null,null,null,null,null,null,null,null,null,null,null,null,null,null,null,null,null,null,null,null,null,null,null,null,null,"","","","","",null,0,0,0]
[54,{"$f":"IF('Maklumat Umum'!B76=\"\",\"\",'Maklumat Umum'!B76)","v":""},{"$f":"IF('Maklumat Umum'!C76=\"\",\"\",'Maklumat Umum'!C76)","v":""},null,null,null,null,null,null,null,null,null,null,null,null,null,null,null,null,null,null,null,null,null,null,null,null,null,null,null,null,null,null,null,null,"","","","","",null,0,0,0]
[55,{"$f":"IF('Maklumat Umum'!B77=\"\",\"\",'Maklumat Umum'!B77)","v":""},{"$f":"IF('Maklumat Umum'!C77=\"\",\"\",'Maklumat Umum'!C77)","v":""},null,null,null,null,null,null,null,null,null,null,null,null,null,null,null,null,null,null,null,null,null,null,null,null,null,null,null,null,null,null,null,null,"","","","","",null,0,0,0]
[56,{"$f":"IF('Maklumat Umum'!B78=\"\",\"\",'Maklumat Umum'!B78)","v":""},{"$f":"IF('Maklumat Umum'!C78=\"\",\"\",'Maklumat Umum'!C78)","v":""},{"$f":"IF('Maklumat Umum'!D78=\"\",\"\",'Maklumat Umum'!D78)","v":""},null,null,null,null,null,null,null,null,null,null,null,null,null,null,null,null,null,null,null,null,null,null,null,null,null,null,null,null,null,null,null,"","","","","",null,0,0,0]
[57,{"$f":"IF('Maklumat Umum'!B79=\"\",\"\",'Maklumat Umum'!B79)","v":""},{"$f":"IF('Maklumat Umum'!C79=\"\",\"\",'Maklumat Umum'!C79)","v":""},null,null,null,null,null,null,null,null,null,null,null,null,null,null,null,null,null,null,null,null,null,null,null,null,null,null,null,null,null,null,null,null,"","","","","",null,0,0,0]
[58,{"$f":"IF('Maklumat Umum'!B80=\"\",\"\",'Maklumat Umum'!B80)","v":""},{"$f":"IF('Maklumat Umum'!C80=\"\",\"\",'Maklumat Umum'!C80)","v":""},null,null,null,null,null,null,null,null,null,null,null,null,null,null,null,null,null,null,null,null,null,null,null,null,null,null,null,null,null,null,null,null,"","","","","",null,0,0,0]
[59,{"$f":"IF('Maklumat Umum'!B81=\"\",\"\",'Maklumat Umum'!B81)","v":""},{"$f":"IF('Maklumat Umum'!C81=\"\",\"\",'Maklumat Umum'!C81)","v":""},null,null,null,null,null,null,null,null,null,null,null,null,null,null,null,null,null,null,null,null,null,null,null,null,null,null,null,null,null,null,null,null,"","","","","",null,0,0,0]
[60,{"$f":"IF('Maklumat Umum'!B82=\"\",\"\",'Maklumat Umum'!B82)","v":""},{"$f":"IF('Maklumat Umum'!C82=\"\",\"\",'Maklumat Umum'!C82)","v":""},null,null,null,null,null,null,null,null,null,null,null,null,null,null,null,null,null,null,null,null,null,null,null,null,null,null,null,null,null,null,null,null,"","","","","",null,0,0,0]
[61,{"$f":"IF('Maklumat Umum'!B83=\"\",\"\",'Maklumat Umum'!B83)","v":""},{"$f":"IF('Maklumat Umum'!C83=\"\",\"\",'Maklumat Umum'!C83)","v":""},{"$f":"IF('Maklumat Umum'!D83=\"\",\"\",'Maklumat Umum'!D83)","v":""},null,null,null,null,null,null,null,null,null,null,null,null,null,null,null,null,null,null,null,null,null,null,null,null,null,null,null,null,null,null,null,"","","","","",null,0,0,0]
[62,{"$f":"IF('Maklumat Umum'!B84=\"\",\"\",'Maklumat Umum'!B84)","v":""},{"$f":"IF('Maklumat Umum'!C84=\"\",\"\",'Maklumat Umum'!C84)","v":""},null,null,null,null,null,null,null,null,null,null,null,null,null,null,null,null,null,null,null,null,null,null,null,null,null,null,null,null,null,null,null,null,"","","","","",null,0,0,0]
[63,{"$f":"IF('Maklumat Umum'!B85=\"\",\"\",'Maklumat Umum'!B85)","v":""},{"$f":"IF('Maklumat Umum'!C85=\"\",\"\",'Maklumat Umum'!C85)","v":""},null,null,null,null,null,null,null,null,null,null,null,null,null,null,null,null,null,null,null,null,null,null,null,null,null,null,null,null,null,null,null,null,"","","","","",null,0,0,0]
[64,{"$f":"IF('Maklumat Umum'!B86=\"\",\"\",'Maklumat Umum'!B86)","v":""},{"$f":"IF('Maklumat Umum'!C86=\"\",\"\",'Maklumat Umum'!C86)","v":""},null,null,null,null,null,null,null,null,null,null,null,null,null,null,null,null,null,null,null,null,null,null,null,null,null,null,null,null,null,null,null,null,"","","","","",null,0,0,0]
[65,{"$f":"IF('Maklumat Umum'!B87=\"\",\"\",'Maklumat Umum'!B87)","v":""},{"$f":"IF('Maklumat Umum'!C87=\"\",\"\",'Maklumat Umum'!C87)","v":""},null,null,null,null,null,null,null,null,null,null,null,null,null,null,null,null,null,null,null,null,null,null,null,null,null,null,null,null,null,null,null,null,"","",{"$f":"IF(COUNTBLANK(E87:AI87)=31,\"\",IF(AK87<16,0,AK87*25))","v":""},{"$f":"IF(AL87=\"\",\"\",IF(AL87=0,AK87*15,(AL87/0.5)*0.3))","v":""},{"$f":"IF(AL87=\"\",\"\",IF(AL87=0,AK87*10,(AL87/0.5)*0.2))","v":""},null,0,0,0]
[66,{"$f":"IF('Maklumat Umum'!B88=\"\",\"\",'Maklumat Umum'!B88)","v":""},{"$f":"IF('Maklumat Umum'!C88=\"\",\"\",'Maklumat Umum'!C88)","v":""},{"$f":"IF('Maklumat Umum'!D88=\"\",\"\",'Maklumat Umum'!D88)","v":""},null,null,null,null,null,null,null,null,null,null,null,null,null,null,null,null,null,null,null,null,null,null,null,null,null,null,null,null,null,null,null,"","","","","",null,0,0,0]
[67,{"$f":"IF('Maklumat Umum'!B89=\"\",\"\",'Maklumat Umum'!B89)","v":""},{"$f":"IF('Maklumat Umum'!C89=\"\",\"\",'Maklumat Umum'!C89)","v":""},null,null,null,null,null,null,null,null,null,null,null,null,null,null,null,null,null,null,null,null,null,null,null,null,null,null,null,null,null,null,null,null,"","","","","",null,0,0,0]
[68,{"$f":"IF('Maklumat Umum'!B90=\"\",\"\",'Maklumat Umum'!B90)","v":""},{"$f":"IF('Maklumat Umum'!C90=\"\",\"\",'Maklumat Umum'!C90)","v":""},null,null,null,null,null,null,null,null,null,null,null,null,null,null,null,null,null,null,null,null,null,null,null,null,null,null,null,null,null,null,null,null,"","","","","",null,0,0,0]
[69,{"$f":"IF('Maklumat Umum'!B91=\"\",\"\",'Maklumat Umum'!B91)","v":""},{"$f":"IF('Maklumat Umum'!C91=\"\",\"\",'Maklumat Umum'!C91)","v":""},null,null,null,null,null,null,null,null,null,null,null,null,null,null,null,null,null,null,null,null,null,null,null,null,null,null,null,null,null,null,null,null,"","","","","",null,0,0,0]
[70,{"$f":"IF('Maklumat Umum'!B92=\"\",\"\",'Maklumat Umum'!B92)","v":""},{"$f":"IF('Maklumat Umum'!C92=\"\",\"\",'Maklumat Umum'!C92)","v":""},null,null,null,null,null,null,null,null,null,null,null,null,null,null,null,null,null,null,null,null,null,null,null,null,null,null,null,null,null,null,null,null,"","","","","",null,0,0,0]
[71,{"$f":"IF('Maklumat Umum'!B93=\"\",\"\",'Maklumat Umum'!B93)","v":""},{"$f":"IF('Maklumat Umum'!C93=\"\",\"\",'Maklumat Umum'!C93)","v":""},{"$f":"IF('Maklumat Umum'!D93=\"\",\"\",'Maklumat Umum'!D93)","v":""},null,null,null,null,null,null,null,null,null,null,null,null,null,null,null,null,null,null,null,null,null,null,null,null,null,null,null,null,null,null,null,"","","","","",null,0,0,0]
[72,{"$f":"IF('Maklumat Umum'!B94=\"\",\"\",'Maklumat Umum'!B94)","v":""},{"$f":"IF('Maklumat Umum'!C94=\"\",\"\",'Maklumat Umum'!C94)","v":""},null,null,null,null,null,null,null,null,null,null,null,null,null,null,null,null,null,null,null,null,null,null,null,null,null,null,null,null,null,null,null,null,"","","","","",null,0,0,0]
[73,{"$f":"IF('Maklumat Umum'!B95=\"\",\"\",'Maklumat Umum'!B95)","v":""},{"$f":"IF('Maklumat Umum'!C95=\"\",\"\",'Maklumat Umum'!C95)","v":""},null,null,null,null,null,null,null,null,null,null,null,null,null,null,null,null,null,null,null,null,null,null,null,null,null,null,null,null,null,null,null,null,"","","","","",null,0,0,0]
[74,{"$f":"IF('Maklumat Umum'!B96=\"\",\"\",'Maklumat Umum'!B96)","v":""},{"$f":"IF('Maklumat Umum'!C96=\"\",\"\",'Maklumat Umum'!C96)","v":""},null,null,null,null,null,null,null,null,null,null,null,null,null,null,null,null,null,null,null,null,null,null,null,null,null,null,null,null,null,null,null,null,{"$f":"IF(COUNTBLANK(E96:AI96)=31,\"\",AP96+AQ96+AR96)","v":""},{"$f":"IF(COUNTBLANK(E96:AI96)=31,\"\",IF(SUM(E96:AI96)+AJ96>20,20,SUM(E96:AI96)+AJ96))","v":""},"","","",null,0,0,0]
[75,{"$f":"IF('Maklumat Umum'!B97=\"\",\"\",'Maklumat Umum'!B97)","v":""},{"$f":"IF('Maklumat Umum'!C97=\"\",\"\",'Maklumat Umum'!C97)","v":""},null,null,null,null,null,null,null,null,null,null,null,null,null,null,null,null,null,null,null,null,null,null,null,null,null,null,null,null,null,null,null,null,{"$f":"IF(COUNTBLANK(E97:AI97)=31,\"\",AP97+AQ97+AR97)","v":""},{"$f":"IF(COUNTBLANK(E97:AI97)=31,\"\",IF(SUM(E97:AI97)+AJ97>20,20,SUM(E97:AI97)+AJ97))","v":""},"","","",null,{"$f":"IF(COUNTIF(E97:AI97,\"CS\")>14,14,COUNTIF(E97:AI97,\"CS\"))","v":0},{"$f":"COUNTIF(E97:AI97,\"CK\")","v":0},{"$f":"COUNTIF(E97:AI97,\"CU\")","v":0}]
[76,{"$f":"IF('Maklumat Umum'!B98=\"\",\"\",'Maklumat Umum'!B98)","v":""},{"$f":"IF('Maklumat Umum'!C98=\"\",\"\",'Maklumat Umum'!C98)","v":""},{"$f":"IF('Maklumat Umum'!D98=\"\",\"\",'Maklumat Umum'!D98)","v":""},null,null,null,null,null,null,null,null,null,null,null,null,null,null,null,null,null,null,null,null,null,null,null,null,null,null,null,null,null,null,null,{"$f":"IF(COUNTBLANK(E98:AI98)=31,\"\",AP98+AQ98+AR98)","v":""},{"$f":"IF(COUNTBLANK(E98:AI98)=31,\"\",IF(SUM(E98:AI98)+AJ98>20,20,SUM(E98:AI98)+AJ98))","v":""},"","","",null,{"$f":"IF(COUNTIF(E98:AI98,\"CS\")>14,14,COUNTIF(E98:AI98,\"CS\"))","v":0},{"$f":"COUNTIF(E98:AI98,\"CK\")","v":0},{"$f":"COUNTIF(E98:AI98,\"CU\")","v":0}]
[77,{"$f":"IF('Maklumat Umum'!B99=\"\",\"\",'Maklumat Umum'!B99)","v":""},{"$f":"IF('Maklumat Umum'!C99=\"\",\"\",'Maklumat Umum'!C99)","v":""},null,null,null,null,null,null,null,null,null,null,null,null,null,null,null,null,null,null,null,null,null,null,null,null,null,null,null,null,null,null,null,null,{"$f":"IF(COUNTBLANK(E99:AI99)=31,\"\",AP99+AQ99+AR99)","v":""},{"$f":"IF(COUNTBLANK(E99:AI99)=31,\"\",IF(SUM(E99:AI99)+AJ99>20,20,SUM(E99:AI99)+AJ99))","v":""},"","","",null,{"$f":"IF(COUNTIF(E99:AI99,\"CS\")>14,14,COUNTIF(E99:AI99,\"CS\"))","v":0},{"$f":"COUNTIF(E99:AI99,\"CK\")","v":0},{"$f":"COUNTIF(E99:AI99,\"CU\")","v":0}]
[78,{"$f":"IF('Maklumat Umum'!B100=\"\",\"\",'Maklumat Umum'!B100)","v":""},{"$f":"IF('Maklumat Umum'!C100=\"\",\"\",'Maklumat Umum'!C100)","v":""},null,null,null,null,null,null,null,null,null,null,null,null,null,null,null,null,null,null,null,null,null,null,null,null,null,null,null,null,null,null,null,null,"","","","","",null,0,0,0]
[79,{"$f":"IF('Maklumat Umum'!B101=\"\",\"\",'Maklumat Umum'!B101)","v":""},{"$f":"IF('Maklumat Umum'!C101=\"\",\"\",'Maklumat Umum'!C101)","v":""},null,null,null,null,null,null,null,null,null,null,null,null,null,null,null,null,null,null,null,null,null,null,null,null,null,null,null,null,null,null,null,null,"","","","","",null,0,0,0]
[80,{"$f":"IF('Maklumat Umum'!B102=\"\",\"\",'Maklumat Umum'!B102)","v":""},{"$f":"IF('Maklumat Umum'!C102=\"\",\"\",'Maklumat Umum'!C102)","v":""},null,null,null,null,null,null,null,null,null,null,null,null,null,null,null,null,null,null,null,null,null,null,null,null,null,null,null,null,null,null,null,null,"","","","","",null,0,0,0]
[81,{"$f":"IF('Maklumat Umum'!B103=\"\",\"\",'Maklumat Umum'!B103)","v":""},{"$f":"IF('Maklumat Umum'!C103=\"\",\"\",'Maklumat Umum'!C103)","v":""},{"$f":"IF('Maklumat Umum'!D103=\"\",\"\",'Maklumat Umum'!D103)","v":""},null,null,null,null,null,null,null,null,null,null,null,null,null,null,null,null,null,null,null,null,null,null,null,null,null,null,null,null,null,null,null,"","","","","",null,0,0,0]
[82,{"$f":"IF('Maklumat Umum'!B104=\"\",\"\",'Maklumat Umum'!B104)","v":""},{"$f":"IF('Maklumat Umum'!C104=\"\",\"\",'Maklumat Umum'!C104)","v":""},null,null,null,null,null,null,null,null,null,null,null,null,null,null,null,null,null,null,null,null,null,null,null,null,null,null,null,null,null,null,null,null,"","","","","",null,0,0,0]
[83,{"$f":"IF('Maklumat Umum'!B105=\"\",\"\",'Maklumat Umum'!B105)","v":""},{"$f":"IF('Maklumat Umum'!C105=\"\",\"\",'Maklumat Umum'!C105)","v":""},null,null,null,null,null,null,null,null,null,null,null,null,null,null,null,null,null,null,null,null,null,null,null,null,null,null,null,null,null,null,null,null,"","","","","",null,0,0,0]
[84,{"$f":"IF('Maklumat Umum'!B106=\"\",\"\",'Maklumat Umum'!B106)","v":""},{"$f":"IF('Maklumat Umum'!C106=\"\",\"\",'Maklumat Umum'!C106)","v":""},null,null,null,null,null,null,null,null,null,null,null,null,null,null,null,null,null,null,null,null,null,null,null,null,null,null,null,null,null,null,null,null,"","","","","",null,0,0,0]
[85,{"$f":"IF('Maklumat Umum'!B107=\"\",\"\",'Maklumat Umum'!B107)","v":""},{"$f":"IF('Maklumat Umum'!C107=\"\",\"\",'Maklumat Umum'!C107)","v":""},null,null,null,null,null,null,null,null,null,null,null,null,null,null,null,null,null,null,null,null,null,null,null,null,null,null,null,null,null,null,null,null,"","","","","",null,0,0,0]
[86,{"$f":"IF('Maklumat Umum'!B108=\"\",\"\",'Maklumat Umum'!B108)","v":""},{"$f":"IF('Maklumat Umum'!C108=\"\",\"\",'Maklumat Umum'!C108)","v":""},{"$f":"IF('Maklumat Umum'!D108=\"\",\"\",'Maklumat Umum'!D108)","v":""},null,null,null,null,null,null,null,null,null,null,null,null,null,null,null,null,null,null,null,null,null,null,null,null,null,null,null,null,null,null,null,"","","","","",null,0,0,0]
[87,{"$f":"IF('Maklumat Umum'!B109=\"\",\"\",'Maklumat Umum'!B109)","v":""},{"$f":"IF('Maklumat Umum'!C109=\"\",\"\",'Maklumat Umum'!C109)","v":""},null,null,null,null,null,null,null,null,null,null,null,null,null,null,null,null,null,null,null,null,null,null,null,null,null,null,null,null,null,null,null,null,"","","","","",null,0,0,0]
[88,{"$f":"IF('Maklumat Umum'!B110=\"\",\"\",'Maklumat Umum'!B110)","v":""},{"$f":"IF('Maklumat Umum'!C110=\"\",\"\",'Maklumat Umum'!C110)","v":""},null,null,null,null,null,null,null,null,null,null,null,null,null,null,null,null,null,null,null,null,null,null,null,null,null,null,null,null,null,null,null,null,"","","","","",null,0,0,0]
[89,{"$f":"IF('Maklumat Umum'!B111=\"\",\"\",'Maklumat Umum'!B111)","v":""},{"$f":"IF('Maklumat Umum'!C111=\"\",\"\",'Maklumat Umum'!C111)","v":""},null,null,null,null,null,null,null,null,null,null,null,null,null,null,null,null,null,null,null,null,null,null,null,null,null,null,null,null,null,null,null,null,"","","","","",null,0,0,0]
[90,{"$f":"IF('Maklumat Umum'!B112=\"\",\"\",'Maklumat Umum'!B112)","v":""},{"$f":"IF('Maklumat Umum'!C112=\"\",\"\",'Maklumat Umum'!C112)","v":""},null,null,null,null,null,null,null,null,null,null,null,null,null,null,null,null,null,null,null,null,null,null,null,null,null,null,null,null,null,null,null,null,"","","","","",null,0,0,0]
[91,{"$f":"IF('Maklumat Umum'!B113=\"\",\"\",'Maklumat Umum'!B113)","v":""},{"$f":"IF('Maklumat Umum'!C113=\"\",\"\",'Maklumat Umum'!C113)","v":""},{"$f":"IF('Maklumat Umum'!D113=\"\",\"\",'Maklumat Umum'!D113)","v":""},null,null,null,null,null,null,null,null,null,null,null,null,null,null,null,null,null,null,null,null,null,null,null,null,null,null,null,null,null,null,null,"","","","","",null,0,0,0]
[92,{"$f":"IF('Maklumat Umum'!B114=\"\",\"\",'Maklumat Umum'!B114)","v":""},{"$f":"IF('Maklumat Umum'!C114=\"\",\"\",'Maklumat Umum'!C114)","v":""},null,null,null,null,null,null,null,null,null,null,null,null,null,null,null,null,null,null,null,null,null,null,null,null,null,null,null,null,null,null,null,null,"","","","","",null,0,0,0]
[93,{"$f":"IF('Maklumat Umum'!B115=\"\",\"\",'Maklumat Umum'!B115)","v":""},{"$f":"IF('Maklumat Umum'!C115=\"\",\"\",'Maklumat Umum'!C115)","v":""},null,null,null,null,null,null,null,null,null,null,null,null,null,null,null,null,null,null,null,null,null,null,null,null,null,null,null,null,null,null,null,null,"","","","","",null,0,0,0]
[94,{"$f":"IF('Maklumat Umum'!B116=\"\",\"\",'Maklumat Umum'!B116)","v":""},{"$f":"IF('Maklumat Umum'!C116=\"\",\"\",'Maklumat Umum'!C116)","v":""},null,null,null,null,null,null,null,null,null,null,null,null,null,null,null,null,null,null,null,null,null,null,null,null,null,null,null,null,null,null,null,null,"","","","","",null,0,0,0]
[95,{"$f":"IF('Maklumat Umum'!B117=\"\",\"\",'Maklumat Umum'!B117)","v":""},{"$f":"IF('Maklumat Umum'!C117=\"\",\"\",'Maklumat Umum'!C117)","v":""},null,null,null,null,null,null,null,null,null,null,null,null,null,null,null,null,null,null,null,null,null,null,null,null,null,null,null,null,null,null,null,null,"","","","","",null,0,0,0]
[96,{"$f":"IF('Maklumat Umum'!B118=\"\",\"\",'Maklumat Umum'!B118)","v":""},{"$f":"IF('Maklumat Umum'!C118=\"\",\"\",'Maklumat Umum'!C118)","v":""},{"$f":"IF('Maklumat Umum'!D118=\"\",\"\",'Maklumat Umum'!D118)","v":""},null,null,null,null,null,null,null,null,null,null,null,null,null,null,null,null,null,null,null,null,null,null,null,null,null,null,null,null,null,null,null,"","","","","",null,0,0,0]
[97,{"$f":"IF('Maklumat Umum'!B119=\"\",\"\",'Maklumat Umum'!B119)","v":""},{"$f":"IF('Maklumat Umum'!C119=\"\",\"\",'Maklumat Umum'!C119)","v":""},null,null,null,null,null,null,null,null,null,null,null,null,null,null,null,null,null,null,null,null,null,null,null,null,null,null,null,null,null,null,null,null,"","","","","",null,0,0,0]
[98,{"$f":"IF('Maklumat Umum'!B120=\"\",\"\",'Maklumat Umum'!B120)","v":""},{"$f":"IF('Maklumat Umum'!C120=\"\",\"\",'Maklumat Umum'!C120)","v":""},null,null,null,null,null,null,null,null,null,null,null,null,null,null,null,null,null,null,null,null,null,null,null,null,null,null,null,null,null,null,null,null,"","","","","",null,0,0,0]
[99,{"$f":"IF('Maklumat Umum'!B121=\"\",\"\",'Maklumat Umum'!B121)","v":""},{"$f":"IF('Maklumat Umum'!C121=\"\",\"\",'Maklumat Umum'!C121)","v":""},null,null,null,null,null,null,null,null,null,null,null,null,null,null,null,null,null,null,null,null,null,null,null,null,null,null,null,null,null,null,null,null,{"$f":"IF(COUNTBLANK(E121:AI121)=31,\"\",AP121+AQ121+AR121)","v":""},{"$f":"IF(COUNTBLANK(E121:AI121)=31,\"\",IF(SUM(E121:AI121)+AJ121>20,20,SUM(E121:AI121)+AJ121))","v":""},"","","",null,0,0,0]
[100,{"$f":"IF('Maklumat Umum'!B122=\"\",\"\",'Maklumat Umum'!B122)","v":""},{"$f":"IF('Maklumat Umum'!C122=\"\",\"\",'Maklumat Umum'!C122)","v":""},null,null,null,null,null,null,null,null,null,null,null,null,null,null,null,null,null,null,null,null,null,null,null,null,null,null,null,null,null,null,null,null,{"$f":"IF(COUNTBLANK(E122:AI122)=31,\"\",AP122+AQ122+AR122)","v":""},{"$f":"IF(COUNTBLANK(E122:AI122)=31,\"\",IF(SUM(E122:AI122)+AJ122>20,20,SUM(E122:AI122)+AJ122))","v":""},"","","",null,{"$f":"IF(COUNTIF(E122:AI122,\"CS\")>14,14,COUNTIF(E122:AI122,\"CS\"))","v":0},{"$f":"COUNTIF(E122:AI122,\"CK\")","v":0},{"$f":"COUNTIF(E122:AI122,\"CU\")","v":0}]
["Nota: PL perlu pastikan maklumat adalah tepat dan nama perantis mengikut Kad Pengenalan serta turutan dalam Pengesahan Pendaftaran Perantis SLDN",null,null,null,null,null,null,null,null,null,null,null,null,null,null,null,null,null,null,null,null,null,null,null,null,null,null,null,null,null,null,null,null,null,null,"JUM TUNTUTAN",null,{"$f":"SUM(AL23:AL122)","v":0},{"$f":"SUM(AM23:AM122)","v":0},{"$f":"SUM(AN23:AN122)","v":0},null,null,null,null,"Pejabat Wilayah hendaklah memindahkan Jumlah tuntutan elaun perantis ini ke dalam MySPIKE bagi tujuan pembayaran "]
[null,null,null,null,null,null,null,null,null,null,null,null,null,null,null,null,null,null,null,null,null,null,null,null,null,null,null,null,null,null,null,null,null,null,null,null,null,{"$f":"SUM(AL123:AN123)","v":0}]
["Dengan ini kami mengesahkan bahawa maklumat di atas adalah benar dan perantis sedang menjalani latihan di syarikat kerjasama/ penyedia latihan seperti yang telah ditetapkan."]
[]
["Disediakan oleh",null,null,null,null,null,null,null,null,null,null,null,null,null,"Disahkan oleh"]
[]
["…………………………………………….",null,null,null,null,null,null,null,null,null,null,null,null,null,"……………………………………………."]
["(Tandatangan Penyelaras Pusat Latihan)",null,null,null,null,null,null,null,null,null,null,null,"(Tandatangan Penyelaras Syarikat 1)",null,null,null,null,null,null,null,null,null,null,null,null,null,null,null,null,null,"(Tandatangan Penyelaras Syarikat 2)"]
["Nama:  ",null,null,null,null,null,null,null,null,null,null,null,"Nama:",null,null,null,null,null,null,null,null,null,null,null,null,null,null,null,null,null,"Nama:"]
["Tarikh:",null,null,null,null,null,null,null,null,null,null,null,"Tarikh:",null,null,null,null,null,null,null,null,null,null,null,null,null,null,null,null,null,"Tarikh:"]
[]
["PENGESAHAN PENGURUS PUSAT LATIHAN:",null,null,null,null,null,null,null,null,null,null,null,"(Tandatangan Penyelaras Syarikat 3)",null,null,null,null,null,null,null,null,null,null,null,null,null,null,null,null,null,"(Tandatangan Penyelaras Syarikat 4)"]
["Saya memperakukan kenyataan di atas adalah  benar",null,null,null,null,null,null,null,null,null,null,null,"Nama:",null,null,null,null,null,null,null,null,null,null,null,null,null,null,null,null,null,"Nama:"]
[null,null,null,null,null,null,null,null,null,null,null,null,"Tarikh:",null,null,null,null,null,null,null,null,null,null,null,null,null,null,null,null,null,"Tarikh:"]
["……………………………………………."]
["(Tandatangan Pengurus Pusat Latihan)",null,null,null,null,null,null,null,null,null,null,null,"(Tandatangan Penyelaras Syarikat 5)"]
[null,null,null,null,null,null,null,null,null,null,null,null,"Nama:"]
["Nama ",null,null,null,null,null,null,null,null,null,null,null,"Tarikh:"]
["No Kad Pengenalan (Pengurus Pusat Latihan)"]
["Tarikh:",null,null,"Cop Rasmi Pusat Latihan:"]

{"sheet":"Claim_page1_FebXX","index":7,"n_rows":24,"n_cols":5,"rows_kept":24,"cut":false,"hidden":true,"merged":[[0,0,0,3],[0,4,7,9],[1,1,1,2],[3,1,3,3],[4,1,4,3],[5,1,5,3],[6,0,6,3],[7,1,7,3],[18,0,18,3],[8,1,8,3],[9,1,9,3],[10,1,10,3],[11,1,11,3],[12,0,12,3],[13,1,13,3],[13,4,17,4],[14,1,14,3],[15,1,15,3],[16,1,16,3],[17,1,17,3]]}
[{"$f":"\"BORANG PERMOHONAN TUNTUTAN INSENTIF \" & CHAR(10)& 'Maklumat Umum'!H1000","v":"BORANG PERMOHONAN TUNTUTAN INSENTIF \nSISTEM LATIHAN DUAL NASIONAL (SLDN) BERINSENTIF 2023"}]
["BULAN:","FEBRUARI 2023"]
[]
["No Pengambilan:",{"$f":"'Maklumat Umum'!C11","v":0}]
["Tarikh Mula Latihan",{"$f":"'Maklumat Umum'!C13","v":"00:00:00"}]
["Tarikh Tamat Latihan",{"$f":"'Maklumat Umum'!C14","v":"2024-01-26"}]
["BAHAGIAN A. MAKLUMAT PEMOHON"]
["Nama Pusat Latihan / Syarikat Inhouse (seperti dalam Surat Tawaran/ Perjanjian)",{"$f":"FebXX!C5","v":0}]
["Kod Pusat Latihan / Syarikat Inhouse",{"$f":"FebXX!C6","v":0}]
["ID Rujukan Tawaran SLDN Plus ",{"$f":"'Maklumat Tuntutan'!B5","v":0},null,null,"Cth. JPK/SP/7099"]
["Nama Penyelaras Pusat Latihan/ Syarikat Inhouse",{"$f":"'Maklumat Tuntutan'!B6","v":0}]
["No. Kad Pengenalan",{"$f":"'Maklumat Tuntutan'!B7","v":0}]
["BAHAGIAN B. MAKLUMAT PENERIMA DAN AKAUN BAYARAN INSENTIF"]
["Nama Penerima Bayaran (Pusat Latihan / Syarikat Inhouse)",{"$f":"'Maklumat Tuntutan'!B9","v":0},null,null,"Akaun Bank Mesti Sama Dengan Akaun Yang Dinyatakan Dalam Dokumen Perjanjian"]
["Nama Bank Penerima",{"$f":"'Maklumat Tuntutan'!B10","v":0}]
["Nombor Akaun Bank Penerima",{"$f":"'Maklumat Tuntutan'!B11","v":0}]
["Cawangan Bank",{"$f":"'Maklumat Tuntutan'!B12","v":0}]
["Salinan Penyata Akaun Bank (Sila pastikan maklumat pada dokumen jelas dan terang)","Dilampirkan"]
["BAHAGIAN C. MAKLUMAT TUNTUTAN INSENTIF (BERDASARKAN REKOD KEHADIRAN PERANTIS)"]
["Butiran","Kadar sehari (RM)","%","Jumlah \n(RM)"]
["i.  Insentif Pusat Latihan",15,{"$f":"B21/(B$21+B$22+B$23)","v":0.3},{"$f":"FebXX!AM123","v":0}]
["ii.  Insentif Syarikat Kerjasama",10,{"$f":"B22/(B$21+B$22+B$23)","v":0.2},{"$f":"FebXX!AN123","v":0}]
["iii. Elaun Perantis",25,{"$f":"B23/(B$21+B$22+B$23)","v":0.5},{"$f":"FebXX!AL123","v":0}]
["JUMLAH",null,null,{"$f":"SUM(D21:D23)","v":0}]

{"sheet":"Claim_page1_Apr23","index":8,"n_rows":24,"n_cols":5,"rows_kept":24,"cut":false,"hidden":false,"merged":[[0,0,0,3],[0,4,7,9],[1,1,1,2],[3,1,3,3],[4,1,4,3],[5,1,5,3],[6,0,6,3],[7,1,7,3],[18,0,18,3],[8,1,8,3],[9,1,9,3],[10,1,10,3],[11,1,11,3],[12,0,12,3],[13,1,13,3],[13,4,17,4],[14,1,14,3],[15,1,15,3],[16,1,16,3],[17,1,17,3]]}
[{"$f":"\"BORANG PERMOHONAN TUNTUTAN INSENTIF \" & CHAR(10)& 'Maklumat Umum'!H1000","v":"BORANG PERMOHONAN TUNTUTAN INSENTIF \nSISTEM LATIHAN DUAL NASIONAL (SLDN) BERINSENTIF 2023"}]
["BULAN:","APR 2023"]
[]
["No Pengambilan:",{"$f":"'Maklumat Umum'!C11","v":0}]
["Tarikh Mula Latihan",{"$f":"'Maklumat Umum'!C13","v":"00:00:00"}]
["Tarikh Tamat Latihan",{"$f":"'Maklumat Umum'!C14","v":"2024-01-26"}]
["BAHAGIAN A. MAKLUMAT PEMOHON"]
["Nama Pusat Latihan / Syarikat Inhouse (seperti dalam Surat Tawaran/ Perjanjian)",{"$f":"FebXX!C5","v":0}]
["Kod Pusat Latihan / Syarikat Inhouse",{"$f":"FebXX!C6","v":0}]
["ID Rujukan Tawaran SLDN Plus ",{"$f":"'Maklumat Tuntutan'!B5","v":0},null,null,"Cth. JPK/SP/7099"]
["Nama Penyelaras Pusat Latihan/ Syarikat Inhouse",{"$f":"'Maklumat Tuntutan'!B6","v":0}]
["No. Kad Pengenalan",{"$f":"'Maklumat Tuntutan'!B7","v":0}]
["BAHAGIAN B. MAKLUMAT PENERIMA DAN AKAUN BAYARAN INSENTIF"]
["Nama Penerima Bayaran (Pusat Latihan / Syarikat Inhouse)",{"$f":"'Maklumat Tuntutan'!B9","v":0},null,null,"Akaun Bank Mesti Sama Dengan Akaun Yang Dinyatakan Dalam Dokumen Perjanjian"]
["Nama Bank Penerima",{"$f":"'Maklumat Tuntutan'!B10","v":0}]
["Nombor Akaun Bank Penerima",{"$f":"'Maklumat Tuntutan'!B11","v":0}]
["Cawangan Bank",{"$f":"'Maklumat Tuntutan'!B12","v":0}]
["Salinan Penyata Akaun Bank (Sila pastikan maklumat pada dokumen jelas dan terang)","Dilampirkan"]
["BAHAGIAN C. MAKLUMAT TUNTUTAN INSENTIF (BERDASARKAN REKOD KEHADIRAN PERANTIS)"]
["Butiran","Kadar sehari (RM)","%","Jumlah \n(RM)"]
["i.  Insentif Pusat Latihan",15,{"$f":"B21/(B$21+B$22+B$23)","v":0.3},{"$f":"'Apr23'!AM123","v":0}]
["ii.  Insentif Syarikat Kerjasama",10,{"$f":"B22/(B$21+B$22+B$23)","v":0.2},{"$f":"'Apr23'!AN123","v":0}]
["iii. Elaun Perantis",25,{"$f":"B23/(B$21+B$22+B$23)","v":0.5},{"$f":"'Apr23'!AL123","v":0}]
["JUMLAH",null,null,{"$f":"SUM(D21:D23)","v":0}]

{"sheet":"May23","index":9,"n_rows":142,"n_cols":45,"rows_kept":142,"cut":false,"hidden":false,"merged":[[0,0,0,40],[1,0,1,40],[2,16,2,20],[5,12,8,35],[15,1,16,2],[16,4,16,33],[17,0,21,0],[17,1,21,1],[17,2,21,2],[17,3,21,3],[17,4,17,33],[19,4,19,33],[47,3,51,3],[17,36,21,36],[17,37,17,39],[17,40,21,40],[18,37,21,37],[18,38,21,38],[18,39,21,39],[17,35,21,35],[22,3,26,3],[27,3,31,3],[32,3,36,3],[37,3,41,3],[42,3,46,3],[107,3,111,3],[52,3,56,3],[57,3,61,3],[62,3,66,3],[67,3,71,3],[72,3,76,3],[77,3,81,3],[82,3,86,3],[87,3,91,3],[92,3,96,3],[97,3,101,3],[102,3,106,3],[112,3,116,3],[117,3,121,3],[122,35,123,36],[122,44,126,50],[123,37,123,39]]}
["BORANG KEHADIRAN PERANTIS"]
[{"$f":"'Maklumat Umum'!H1000","v":"SISTEM LATIHAN DUAL NASIONAL (SLDN) BERINSENTIF 2023"}]
[null,null,null,null,null,null,null,null,null,null,null,null,null,"BULAN",null,null,"MAY 2023",null,null,null,null,null,null,null,null,null,null,null,null,null,null,null,null,null,null,null,"JPK/SP/02"]
[]
[null,"NAMA PUSAT LATIHAN",{"$f":"'Maklumat Umum'!C8","v":0},null,null,null,null,null,null,null,null,null,"Nota: "]
[null,"KOD PUSAT LATIHAN",{"$f":"'Maklumat Umum'!C9","v":0},null,null,null,null,null,null,null,null,null,"1. Bil maksimum hari latihan sebulan yang layak dibayar insentif adalah 20 hari termasuklah:\n(1) Cuti Sakit terhad kepada 14 hari sahaja  - Perlu sertakan Perakuan dari Klinik/Hospital\n(2) Cuti Kecemasan seperti kematian ahli keluarga, kebakaran, banjir dan lain-lain -  Perlu sertakan Surat Pihak Berkuasa Berkaitan (Klinik/Hospital, polis dll) \n(3) Cuti Umum Negeri atau Nasional\n(4) Cuti Kuarantin - Perlu sertakan kelulusan"]
[null,"NAMA PROGRAM",{"$f":"'Maklumat Umum'!C10","v":0}]
[null,"NO PENGAMBILAN",{"$f":"'Maklumat Umum'!C11","v":0}]
[null,"TARIKH MULA LATIHAN",{"$f":"'Maklumat Umum'!C13","v":"00:00:00"}]
[null,"TARIKH TAMAT LATIHAN",{"$f":"'Maklumat Umum'!C14","v":"2024-01-26"},null,null,null,null,null,null,null,null,null,"2. Kadar sehari elaun perantis adalah RM25"]
[null,"TEMPOH LATIHAN DILULUSKAN (BULAN)",{"$f":"'Maklumat Umum'!C12","v":0},null,null,null,null,null,null,null,null,null,"3. Perantis hanya layak dibayar jika kehadiran sekurang-kurangnya 80% (16 hari). PL dan syarikat dibayar mengikut bil hari perantis hadir"]
[]
[]
[]
[]
[null,"MAKLUMAT KURSUS TAK LENGKAP"]
[null,null,null,null,"1 = Hadir            Kosongkan (Blank) = Tidak Hadir            CS = Cuti Sakit             CK = Cuti Kecemasan/Kurantin          CU = Cuti Umum"]
["BIL","Nama Perantis","No Kad \nPengenalan","Syarikat","BIL HARI LATIHAN",null,null,null,null,null,null,null,null,null,null,null,null,null,null,null,null,null,null,null,null,null,null,null,null,null,null,null,null,null,null,"Bil Hari\nCS,CK,\nCU Layak","Bil \nHari Boleh Dibayar","Tuntutan (RM)",null,null,"Tandatangan Perantis"]
[null,null,null,null,1,2,3,4,5,6,7,8,9,10,11,12,13,14,15,16,17,18,19,20,21,22,23,24,25,26,27,28,29,30,31,null,null,"Perantis","Pusat Latihan","Syarikat"]
[null,null,null,null,"TARIKH & HARI"]
[null,null,null,null,"2023-05-05","2023-05-06","2023-05-07","2023-05-08","2023-05-09","2023-05-10","2023-05-11","2023-05-12","2023-05-13","2023-05-14","2023-05-15","2023-05-16","2023-05-17","2023-05-18","2023-05-19","2023-05-20","2023-05-21","2023-05-22","2023-05-23","2023-05-24","2023-05-25","2023-05-26","2023-05-27","2023-05-28","2023-05-29","2023-05-30","2023-05-31","2023-06-01","2023-06-02","2023-06-03","2023-06-04"]
[null,null,null,null,"Fri","Sat","Sun","Mon","Tue","Wed","Thu","Fri","Sat","Sun","Mon","Tue","Wed","Thu","Fri","Sat","Sun","Mon","Tue","Wed","Thu","Fri","Sat","Sun","Mon","Tue","Wed","Thu","Fri","Sat","Sun"]
[1,{"$f":"IF('Maklumat Umum'!B23=\"\",\"\",'Maklumat Umum'!B23)","v":""},{"$f":"IF('Maklumat Umum'!C23=\"\",\"\",'Maklumat Umum'!C23)","v":""},{"$f":"IF('Maklumat Umum'!D23=\"\",\"\",'Maklumat Umum'!D23)","v":""},null,null,null,null,null,null,null,null,null,null,null,null,null,null,null,null,null,null,null,null,null,null,null,null,null,null,null,null,null,null,null,{"$f":"IF(COUNTBLANK(E23:AI23)=31,\"\",AP23+AQ23+AR23)","v":""},{"$f":"IF(COUNTBLANK(E23:AI23)=31,\"\",IF(SUM(E23:AI23)+AJ23>20,20,SUM(E23:AI23)+AJ23))","v":""},{"$f":"IF(COUNTBLANK(E23:AI23)=31,\"\",IF(AK23<16,0,AK23*25))","v":""},{"$f":"IF(AL23=\"\",\"\",IF(AL23=0,AK23*15,(AL23/0.5)*0.3))","v":""},{"$f":"IF(AL23=\"\",\"\",IF(AL23=0,AK23*10,(AL23/0.5)*0.2))","v":""},null,{"$f":"IF(COUNTIF(E23:AI23,\"CS\")>14,14,COUNTIF(E23:AI23,\"CS\"))","v":0},{"$f":"COUNTIF(E23:AI23,\"CK\")","v":0},{"$f":"COUNTIF(E23:AI23,\"CU\")","v":0}]
[2,{"$f":"IF('Maklumat Umum'!B24=\"\",\"\",'Maklumat Umum'!B24)","v":""},{"$f":"IF('Maklumat Umum'!C24=\"\",\"\",'Maklumat Umum'!C24)","v":""},null,null,null,null,null,null,null,null,null,null,null,null,null,null,null,null,null,null,null,null,null,null,null,null,null,null,null,null,null,null,null,null,{"$f":"IF(COUNTBLANK(E24:AI24)=31,\"\",AP24+AQ24+AR24)","v":""},{"$f":"IF(COUNTBLANK(E24:AI24)=31,\"\",IF(SUM(E24:AI24)+AJ24>20,20,SUM(E24:AI24)+AJ24))","v":""},"","","",null,{"$f":"IF(COUNTIF(E24:AI24,\"CS\")>14,14,COUNTIF(E24:AI24,\"CS\"))","v":0},{"$f":"COUNTIF(E24:AI24,\"CK\")","v":0},{"$f":"COUNTIF(E24:AI24,\"CU\")","v":0}]
[3,{"$f":"IF('Maklumat Umum'!B25=\"\",\"\",'Maklumat Umum'!B25)","v":""},{"$f":"IF('Maklumat Umum'!C25=\"\",\"\",'Maklumat Umum'!C25)","v":""},null,null,null,null,null,null,null,null,null,null,null,null,null,null,null,null,null,null,null,null,null,null,null,null,null,null,null,null,null,null,null,null,"","","","","",null,0,0,0]
[4,{"$f":"IF('Maklumat Umum'!B26=\"\",\"\",'Maklumat Umum'!B26)","v":""},{"$f":"IF('Maklumat Umum'!C26=\"\",\"\",'Maklumat Umum'!C26)","v":""},null,null,null,null,null,null,null,null,null,null,null,null,null,null,null,null,null,null,null,null,null,null,null,null,null,null,null,null,null,null,null,null,"","","","","",null,0,0,0]
[5,{"$f":"IF('Maklumat Umum'!B27=\"\",\"\",'Maklumat Umum'!B27)","v":""},{"$f":"IF('Maklumat Umum'!C27=\"\",\"\",'Maklumat Umum'!C27)","v":""},null,null,null,null,null,null,null,null,null,null,null,null,null,null,null,null,null,null,null,null,null,null,null,null,null,null,null,null,null,null,null,null,"","","","","",null,0,0,0]
[6,{"$f":"IF('Maklumat Umum'!B28=\"\",\"\",'Maklumat Umum'!B28)","v":""},{"$f":"IF('Maklumat Umum'!C28=\"\",\"\",'Maklumat Umum'!C28)","v":""},{"$f":"IF('Maklumat Umum'!D28=\"\",\"\",'Maklumat Umum'!D28)","v":""},null,null,null,null,null,null,null,null,null,null,null,null,null,null,null,null,null,null,null,null,null,null,null,null,null,null,null,null,null,null,null,"","","","","",null,0,0,0]
[7,{"$f":"IF('Maklumat Umum'!B29=\"\",\"\",'Maklumat Umum'!B29)","v":""},{"$f":"IF('Maklumat Umum'!C29=\"\",\"\",'Maklumat Umum'!C29)","v":""},null,null,null,null,null,null,null,null,null,null,null,null,null,null,null,null,null,null,null,null,null,null,null,null,null,null,null,null,null,null,null,null,"","","","","",null,0,0,0]
[8,{"$f":"IF('Maklumat Umum'!B30=\"\",\"\",'Maklumat Umum'!B30)","v":""},{"$f":"IF('Maklumat Umum'!C30=\"\",\"\",'Maklumat Umum'!C30)","v":""},null,null,null,null,null,null,null,null,null,null,null,null,null,null,null,null,null,null,null,null,null,null,null,null,null,null,null,null,null,null,null,null,"","","","","",null,0,0,0]
[9,{"$f":"IF('Maklumat Umum'!B31=\"\",\"\",'Maklumat Umum'!B31)","v":""},{"$f":"IF('Maklumat Umum'!C31=\"\",\"\",'Maklumat Umum'!C31)","v":""},null,null,null,null,null,null,null,null,null,null,null,null,null,null,null,null,null,null,null,null,null,null,null,null,null,null,null,null,null,null,null,null,"","","","","",null,0,0,0]
[10,{"$f":"IF('Maklumat Umum'!B32=\"\",\"\",'Maklumat Umum'!B32)","v":""},{"$f":"IF('Maklumat Umum'!C32=\"\",\"\",'Maklumat Umum'!C32)","v":""},null,null,null,null,null,null,null,null,null,null,null,null,null,null,null,null,null,null,null,null,null,null,null,null,null,null,null,null,null,null,null,null,"","","","","",null,0,0,0]
[11,{"$f":"IF('Maklumat Umum'!B33=\"\",\"\",'Maklumat Umum'!B33)","v":""},{"$f":"IF('Maklumat Umum'!C33=\"\",\"\",'Maklumat Umum'!C33)","v":""},{"$f":"IF('Maklumat Umum'!D33=\"\",\"\",'Maklumat Umum'!D33)","v":""},null,null,null,null,null,null,null,null,null,null,null,null,null,null,null,null,null,null,null,null,null,null,null,null,null,null,null,null,null,null,null,"","","","","",null,0,0,0]
[12,{"$f":"IF('Maklumat Umum'!B34=\"\",\"\",'Maklumat Umum'!B34)","v":""},{"$f":"IF('Maklumat Umum'!C34=\"\",\"\",'Maklumat Umum'!C34)","v":""},null,null,null,null,null,null,null,null,null,null,null,null,null,null,null,null,null,null,null,null,null,null,null,null,null,null,null,null,null,null,null,null,"","","","","",null,0,0,0]
[13,{"$f":"IF('Maklumat Umum'!B35=\"\",\"\",'Maklumat Umum'!B35)","v":""},{"$f":"IF('Maklumat Umum'!C35=\"\",\"\",'Maklumat Umum'!C35)","v":""},null,null,null,null,null,null,null,null,null,null,null,null,null,null,null,null,null,null,null,null,null,null,null,null,null,null,null,null,null,null,null,null,"","","","","",null,0,0,0]
[14,{"$f":"IF('Maklumat Umum'!B36=\"\",\"\",'Maklumat Umum'!B36)","v":""},{"$f":"IF('Maklumat Umum'!C36=\"\",\"\",'Maklumat Umum'!C36)","v":""},null,null,null,null,null,null,null,null,null,null,null,null,null,null,null,null,null,null,null,null,null,null,null,null,null,null,null,null,null,null,null,null,"","","","","",null,0,0,0]
[15,{"$f":"IF('Maklumat Umum'!B37=\"\",\"\",'Maklumat Umum'!B37)","v":""},{"$f":"IF('Maklumat Umum'!C37=\"\",\"\",'Maklumat Umum'!C37)","v":""},null,null,null,null,null,null,null,null,null,null,null,null,null,null,null,null,null,null,null,null,null,null,null,null,null,null,null,null,null,null,null,null,"","","","","",null,0,0,0]
[16,{"$f":"IF('Maklumat Umum'!B38=\"\",\"\",'Maklumat Umum'!B38)","v":""},{"$f":"IF('Maklumat Umum'!C38=\"\",\"\",'Maklumat Umum'!C38)","v":""},{"$f":"IF('Maklumat Umum'!D38=\"\",\"\",'Maklumat Umum'!D38)","v":""},null,null,null,null,null,null,null,null,null,null,null,null,null,null,null,null,null,null,null,null,null,null,null,null,null,null,null,null,null,null,null,"","","","","",null,0,0,0]
[17,{"$f":"IF('Maklumat Umum'!B39=\"\",\"\",'Maklumat Umum'!B39)","v":""},{"$f":"IF('Maklumat Umum'!C39=\"\",\"\",'Maklumat Umum'!C39)","v":""},null,null,null,null,null,null,null,null,null,null,null,null,null,null,null,null,null,null,null,null,null,null,null,null,null,null,null,null,null,null,null,null,"","","","","",null,0,0,0]
[18,{"$f":"IF('Maklumat Umum'!B40=\"\",\"\",'Maklumat Umum'!B40)","v":""},{"$f":"IF('Maklumat Umum'!C40=\"\",\"\",'Maklumat Umum'!C40)","v":""},null,null,null,null,null,null,null,null,null,null,null,null,null,null,null,null,null,null,null,null,null,null,null,null,null,null,null,null,null,null,null,null,"","","","","",null,0,0,0]
[19,{"$f":"IF('Maklumat Umum'!B41=\"\",\"\",'Maklumat Umum'!B41)","v":""},{"$f":"IF('Maklumat Umum'!C41=\"\",\"\",'Maklumat Umum'!C41)","v":""},null,null,null,null,null,null,null,null,null,null,null,null,null,null,null,null,null,null,null,null,null,null,null,null,null,null,null,null,null,null,null,null,"","","","","",null,0,0,0]
[20,{"$f":"IF('Maklumat Umum'!B42=\"\",\"\",'Maklumat Umum'!B42)","v":""},{"$f":"IF('Maklumat Umum'!C42=\"\",\"\",'Maklumat Umum'!C42)","v":""},null,null,null,null,null,null,null,null,null,null,null,null,null,null,null,null,null,null,null,null,null,null,null,null,null,null,null,null,null,null,null,null,"","","","","",null,0,0,0]
[21,{"$f":"IF('Maklumat Umum'!B43=\"\",\"\",'Maklumat Umum'!B43)","v":""},{"$f":"IF('Maklumat Umum'!C43=\"\",\"\",'Maklumat Umum'!C43)","v":""},{"$f":"IF('Maklumat Umum'!D43=\"\",\"\",'Maklumat Umum'!D43)","v":""},null,null,null,null,null,null,null,null,null,null,null,null,null,null,null,null,null,null,null,null,null,null,null,null,null,null,null,null,null,null,null,"","","","","",null,0,0,0]
[22,{"$f":"IF('Maklumat Umum'!B44=\"\",\"\",'Maklumat Umum'!B44)","v":""},{"$f":"IF('Maklumat Umum'!C44=\"\",\"\",'Maklumat Umum'!C44)","v":""},null,null,null,null,null,null,null,null,null,null,null,null,null,null,null,null,null,null,null,null,null,null,null,null,null,null,null,null,null,null,null,null,"","","","","",null,0,0,0]
[23,{"$f":"IF('Maklumat Umum'!B45=\"\",\"\",'Maklumat Umum'!B45)","v":""},{"$f":"IF('Maklumat Umum'!C45=\"\",\"\",'Maklumat Umum'!C45)","v":""},null,null,null,null,null,null,null,null,null,null,null,null,null,null,null,null,null,null,null,null,null,null,null,null,null,null,null,null,null,null,null,null,"","","","","",null,0,0,0]
[24,{"$f":"IF('Maklumat Umum'!B46=\"\",\"\",'Maklumat Umum'!B46)","v":""},{"$f":"IF('Maklumat Umum'!C46=\"\",\"\",'Maklumat Umum'!C46)","v":""},null,null,null,null,null,null,null,null,null,null,null,null,null,null,null,null,null,null,null,null,null,null,null,null,null,null,null,null,null,null,null,null,{"$f":"IF(COUNTBLANK(E46:AI46)=31,\"\",AP46+AQ46+AR46)","v":""},{"$f":"IF(COUNTBLANK(E46:AI46)=31,\"\",IF(SUM(E46:AI46)+AJ46>20,20,SUM(E46:AI46)+AJ46))","v":""},"","","",null,0,0,0]
[25,{"$f":"IF('Maklumat Umum'!B47=\"\",\"\",'Maklumat Umum'!B47)","v":""},{"$f":"IF('Maklumat Umum'!C47=\"\",\"\",'Maklumat Umum'!C47)","v":""},null,null,null,null,null,null,null,null,null,null,null,null,null,null,null,null,null,null,null,null,null,null,null,null,null,null,null,null,null,null,null,null,{"$f":"IF(COUNTBLANK(E47:AI47)=31,\"\",AP47+AQ47+AR47)","v":""},{"$f":"IF(COUNTBLANK(E47:AI47)=31,\"\",IF(SUM(E47:AI47)+AJ47>20,20,SUM(E47:AI47)+AJ47))","v":""},"","","",null,{"$f":"IF(COUNTIF(E47:AI47,\"CS\")>14,14,COUNTIF(E47:AI47,\"CS\"))","v":0},{"$f":"COUNTIF(E47:AI47,\"CK\")","v":0},{"$f":"COUNTIF(E47:AI47,\"CU\")","v":0}]
[26,{"$f":"IF('Maklumat Umum'!B48=\"\",\"\",'Maklumat Umum'!B48)","v":""},{"$f":"IF('Maklumat Umum'!C48=\"\",\"\",'Maklumat Umum'!C48)","v":""},{"$f":"IF('Maklumat Umum'!D48=\"\",\"\",'Maklumat Umum'!D48)","v":""},null,null,null,null,null,null,null,null,null,null,null,null,null,null,null,null,null,null,null,null,null,null,null,null,null,null,null,null,null,null,null,{"$f":"IF(COUNTBLANK(E48:AI48)=31,\"\",AP48+AQ48+AR48)","v":""},{"$f":"IF(COUNTBLANK(E48:AI48)=31,\"\",IF(SUM(E48:AI48)+AJ48>20,20,SUM(E48:AI48)+AJ48))","v":""},"","","",null,{"$f":"IF(COUNTIF(E48:AI48,\"CS\")>14,14,COUNTIF(E48:AI48,\"CS\"))","v":0},{"$f":"COUNTIF(E48:AI48,\"CK\")","v":0},{"$f":"COUNTIF(E48:AI48,\"CU\")","v":0}]
[27,{"$f":"IF('Maklumat Umum'!B49=\"\",\"\",'Maklumat Umum'!B49)","v":""},{"$f":"IF('Maklumat Umum'!C49=\"\",\"\",'Maklumat Umum'!C49)","v":""},null,null,null,null,null,null,null,null,null,null,null,null,null,null,null,null,null,null,null,null,null,null,null,null,null,null,null,null,null,null,null,null,{"$f":"IF(COUNTBLANK(E49:AI49)=31,\"\",AP49+AQ49+AR49)","v":""},{"$f":"IF(COUNTBLANK(E49:AI49)=31,\"\",IF(SUM(E49:AI49)+AJ49>20,20,SUM(E49:AI49)+AJ49))","v":""},"","","",null,{"$f":"IF(COUNTIF(E49:AI49,\"CS\")>14,14,COUNTIF(E49:AI49,\"CS\"))","v":0},{"$f":"COUNTIF(E49:AI49,\"CK\")","v":0},{"$f":"COUNTIF(E49:AI49,\"CU\")","v":0}]
[28,{"$f":"IF('Maklumat Umum'!B50=\"\",\"\",'Maklumat Umum'!B50)","v":""},{"$f":"IF('Maklumat Umum'!C50=\"\",\"\",'Maklumat Umum'!C50)","v":""},null,null,null,null,null,null,null,null,null,null,null,null,null,null,null,null,null,null,null,null,null,null,null,null,null,null,null,null,null,null,null,null,"","","","","",null,0,0,0]
[29,{"$f":"IF('Maklumat Umum'!B51=\"\",\"\",'Maklumat Umum'!B51)","v":""},{"$f":"IF('Maklumat Umum'!C51=\"\",\"\",'Maklumat Umum'!C51)","v":""},null,null,null,null,null,null,null,null,null,null,null,null,null,null,null,null,null,null,null,null,null,null,null,null,null,null,null,null,null,null,null,null,"","","","","",null,0,0,0]
[30,{"$f":"IF('Maklumat Umum'!B52=\"\",\"\",'Maklumat Umum'!B52)","v":""},{"$f":"IF('Maklumat Umum'!C52=\"\",\"\",'Maklumat Umum'!C52)","v":""},null,null,null,null,null,null,null,null,null,null,null,null,null,null,null,null,null,null,null,null,null,null,null,null,null,null,null,null,null,null,null,null,"","","","","",null,0,0,0]
[31,{"$f":"IF('Maklumat Umum'!B53=\"\",\"\",'Maklumat Umum'!B53)","v":""},{"$f":"IF('Maklumat Umum'!C53=\"\",\"\",'Maklumat Umum'!C53)","v":""},{"$f":"IF('Maklumat Umum'!D53=\"\",\"\",'Maklumat Umum'!D53)","v":""},null,null,null,null,null,null,null,null,null,null,null,null,null,null,null,null,null,null,null,null,null,null,null,null,null,null,null,null,null,null,null,"","","","","",null,0,0,0]
[32,{"$f":"IF('Maklumat Umum'!B54=\"\",\"\",'Maklumat Umum'!B54)","v":""},{"$f":"IF('Maklumat Umum'!C54=\"\",\"\",'Maklumat Umum'!C54)","v":""},null,null,null,null,null,null,null,null,null,null,null,null,null,null,null,null,null,null,null,null,null,null,null,null,null,null,null,null,null,null,null,null,"","","","","",null,0,0,0]
[33,{"$f":"IF('Maklumat Umum'!B55=\"\",\"\",'Maklumat Umum'!B55)","v":""},{"$f":"IF('Maklumat Umum'!C55=\"\",\"\",'Maklumat Umum'!C55)","v":""},null,null,null,null,null,null,null,null,null,null,null,null,null,null,null,null,null,null,null,null,null,null,null,null,null,null,null,null,null,null,null,null,"","","","","",null,0,0,0]
[34,{"$f":"IF('Maklumat Umum'!B56=\"\",\"\",'Maklumat Umum'!B56)","v":""},{"$f":"IF('Maklumat Umum'!C56=\"\",\"\",'Maklumat Umum'!C56)","v":""},null,null,null,null,null,null,null,null,null,null,null,null,null,null,null,null,null,null,null,null,null,null,null,null,null,null,null,null,null,null,null,null,"","","","","",null,0,0,0]
[35,{"$f":"IF('Maklumat Umum'!B57=\"\",\"\",'Maklumat Umum'!B57)","v":""},{"$f":"IF('Maklumat Umum'!C57=\"\",\"\",'Maklumat Umum'!C57)","v":""},null,null,null,null,null,null,null,null,null,null,null,null,null,null,null,null,null,null,null,null,null,null,null,null,null,null,null,null,null,null,null,null,"","","","","",null,0,0,0]
[36,{"$f":"IF('Maklumat Umum'!B58=\"\",\"\",'Maklumat Umum'!B58)","v":""},{"$f":"IF('Maklumat Umum'!C58=\"\",\"\",'Maklumat Umum'!C58)","v":""},{"$f":"IF('Maklumat Umum'!D58=\"\",\"\",'Maklumat Umum'!D58)","v":""},null,null,null,null,null,null,null,null,null,null,null,null,null,null,null,null,null,null,null,null,null,null,null,null,null,null,null,null,null,null,null,"","","","","",null,0,0,0]
[37,{"$f":"IF('Maklumat Umum'!B59=\"\",\"\",'Maklumat Umum'!B59)","v":""},{"$f":"IF('Maklumat Umum'!C59=\"\",\"\",'Maklumat Umum'!C59)","v":""},null,null,null,null,null,null,null,null,null,null,null,null,null,null,null,null,null,null,null,null,null,null,null,null,null,null,null,null,null,null,null,null,"","","","","",null,0,0,0]
[38,{"$f":"IF('Maklumat Umum'!B60=\"\",\"\",'Maklumat Umum'!B60)","v":""},{"$f":"IF('Maklumat Umum'!C60=\"\",\"\",'Maklumat Umum'!C60)","v":""},null,null,null,null,null,null,null,null,null,null,null,null,null,null,null,null,null,null,null,null,null,null,null,null,null,null,null,null,null,null,null,null,"","","","","",null,0,0,0]
[39,{"$f":"IF('Maklumat Umum'!B61=\"\",\"\",'Maklumat Umum'!B61)","v":""},{"$f":"IF('Maklumat Umum'!C61=\"\",\"\",'Maklumat Umum'!C61)","v":""},null,null,null,null,null,null,null,null,null,null,null,null,null,null,null,null,null,null,null,null,null,null,null,null,null,null,null,null,null,null,null,null,"","","","","",null,0,0,0]
[40,{"$f":"IF('Maklumat Umum'!B62=\"\",\"\",'Maklumat Umum'!B62)","v":""},{"$f":"IF('Maklumat Umum'!C62=\"\",\"\",'Maklumat Umum'!C62)","v":""},null,null,null,null,null,null,null,null,null,null,null,null,null,null,null,null,null,null,null,null,null,null,null,null,null,null,null,null,null,null,null,null,"","","","","",null,0,0,0]
[41,{"$f":"IF('Maklumat Umum'!B63=\"\",\"\",'Maklumat Umum'!B63)","v":""},{"$f":"IF('Maklumat Umum'!C63=\"\",\"\",'Maklumat Umum'!C63)","v":""},{"$f":"IF('Maklumat Umum'!D63=\"\",\"\",'Maklumat Umum'!D63)","v":""},null,null,null,null,null,null,null,null,null,null,null,null,null,null,null,null,null,null,null,null,null,null,null,null,null,null,null,null,null,null,null,"","","","","",null,0,0,0]
[42,{"$f":"IF('Maklumat Umum'!B64=\"\",\"\",'Maklumat Umum'!B64)","v":""},{"$f":"IF('Maklumat Umum'!C64=\"\",\"\",'Maklumat Umum'!C64)","v":""},null,null,null,null,null,null,null,null,null,null,null,null,null,null,null,null,null,null,null,null,null,null,null,null,null,null,null,null,null,null,null,null,"","","","","",null,0,0,0]
[43,{"$f":"IF('Maklumat Umum'!B65=\"\",\"\",'Maklumat Umum'!B65)","v":""},{"$f":"IF('Maklumat Umum'!C65=\"\",\"\",'Maklumat Umum'!C65)","v":""},null,null,null,null,null,null,null,null,null,null,null,null,null,null,null,null,null,null,null,null,null,null,null,null,null,null,null,null,null,null,null,null,"","","","","",null,0,0,0]
[44,{"$f":"IF('Maklumat Umum'!B66=\"\",\"\",'Maklumat Umum'!B66)","v":""},{"$f":"IF('Maklumat Umum'!C66=\"\",\"\",'Maklumat Umum'!C66)","v":""},null,null,null,null,null,null,null,null,null,null,null,null,null,null,null,null,null,null,null,null,null,null,null,null,null,null,null,null,null,null,null,null,"","","","","",null,0,0,0]
[45,{"$f":"IF('Maklumat Umum'!B67=\"\",\"\",'Maklumat Umum'!B67)","v":""},{"$f":"IF('Maklumat Umum'!C67=\"\",\"\",'Maklumat Umum'!C67)","v":""},null,null,null,null,null,null,null,null,null,null,null,null,null,null,null,null,null,null,null,null,null,null,null,null,null,null,null,null,null,null,null,null,"","","","","",null,0,0,0]
[46,{"$f":"IF('Maklumat Umum'!B68=\"\",\"\",'Maklumat Umum'!B68)","v":""},{"$f":"IF('Maklumat Umum'!C68=\"\",\"\",'Maklumat Umum'!C68)","v":""},{"$f":"IF('Maklumat Umum'!D68=\"\",\"\",'Maklumat Umum'!D68)","v":""},null,null,null,null,null,null,null,null,null,null,null,null,null,null,null,null,null,null,null,null,null,null,null,null,null,null,null,null,null,null,null,"","","","","",null,0,0,0]
[47,{"$f":"IF('Maklumat Umum'!B69=\"\",\"\",'Maklumat Umum'!B69)","v":""},{"$f":"IF('Maklumat Umum'!C69=\"\",\"\",'Maklumat Umum'!C69)","v":""},null,null,null,null,null,null,null,null,null,null,null,null,null,null,null,null,null,null,null,null,null,null,null,null,null,null,null,null,null,null,null,null,"","","","","",null,0,0,0]
[48,{"$f":"IF('Maklumat Umum'!B70=\"\",\"\",'Maklumat Umum'!B70)","v":""},{"$f":"IF('Maklumat Umum'!C70=\"\",\"\",'Maklumat Umum'!C70)","v":""},null,null,null,null,null,null,null,null,null,null,null,null,null,null,null,null,null,null,null,null,null,null,null,null,null,null,null,null,null,null,null,null,"","","","","",null,0,0,0]
[49,{"$f":"IF('Maklumat Umum'!B71=\"\",\"\",'Maklumat Umum'!B71)","v":""},{"$f":"IF('Maklumat Umum'!C71=\"\",\"\",'Maklumat Umum'!C71)","v":""},null,null,null,null,null,null,null,null,null,null,null,null,null,null,null,null,null,null,null,null,null,null,null,null,null,null,null,null,null,null,null,null,{"$f":"IF(COUNTBLANK(E71:AI71)=31,\"\",AP71+AQ71+AR71)","v":""},{"$f":"IF(COUNTBLANK(E71:AI71)=31,\"\",IF(SUM(E71:AI71)+AJ71>20,20,SUM(E71:AI71)+AJ71))","v":""},"","","",null,0,0,0]
[50,{"$f":"IF('Maklumat Umum'!B72=\"\",\"\",'Maklumat Umum'!B72)","v":""},{"$f":"IF('Maklumat Umum'!C72=\"\",\"\",'Maklumat Umum'!C72)","v":""},null,null,null,null,null,null,null,null,null,null,null,null,null,null,null,null,null,null,null,null,null,null,null,null,null,null,null,null,null,null,null,null,{"$f":"IF(COUNTBLANK(E72:AI72)=31,\"\",AP72+AQ72+AR72)","v":""},{"$f":"IF(COUNTBLANK(E72:AI72)=31,\"\",IF(SUM(E72:AI72)+AJ72>20,20,SUM(E72:AI72)+AJ72))","v":""},"","","",null,{"$f":"IF(COUNTIF(E72:AI72,\"CS\")>14,14,COUNTIF(E72:AI72,\"CS\"))","v":0},{"$f":"COUNTIF(E72:AI72,\"CK\")","v":0},{"$f":"COUNTIF(E72:AI72,\"CU\")","v":0}]
[51,{"$f":"IF('Maklumat Umum'!B73=\"\",\"\",'Maklumat Umum'!B73)","v":""},{"$f":"IF('Maklumat Umum'!C73=\"\",\"\",'Maklumat Umum'!C73)","v":""},{"$f":"IF('Maklumat Umum'!D73=\"\",\"\",'Maklumat Umum'!D73)","v":""},null,null,null,null,null,null,null,null,null,null,null,null,null,null,null,null,null,null,null,null,null,null,null,null,null,null,null,null,null,null,null,{"$f":"IF(COUNTBLANK(E73:AI73)=31,\"\",AP73+AQ73+AR73)","v":""},{"$f":"IF(COUNTBLANK(E73:AI73)=31,\"\",IF(SUM(E73:AI73)+AJ73>20,20,SUM(E73:AI73)+AJ73))","v":""},"","","",null,{"$f":"IF(COUNTIF(E73:AI73,\"CS\")>14,14,COUNTIF(E73:AI73,\"CS\"))","v":0},{"$f":"COUNTIF(E73:AI73,\"CK\")","v":0},{"$f":"COUNTIF(E73:AI73,\"CU\")","v":0}]
[52,{"$f":"IF('Maklumat Umum'!B74=\"\",\"\",'Maklumat Umum'!B74)","v":""},{"$f":"IF('Maklumat Umum'!C74=\"\",\"\",'Maklumat Umum'!C74)","v":""},null,null,null,null,null,null,null,null,null,null,null,null,null,null,null,null,null,null,null,null,null,null,null,null,null,null,null,null,null,null,null,null,{"$f":"IF(COUNTBLANK(E74:AI74)=31,\"\",AP74+AQ74+AR74)","v":""},{"$f":"IF(COUNTBLANK(E74:AI74)=31,\"\",IF(SUM(E74:AI74)+AJ74>20,20,SUM(E74:AI74)+AJ74))","v":""},"","","",null,{"$f":"IF(COUNTIF(E74:AI74,\"CS\")>14,14,COUNTIF(E74:AI74,\"CS\"))","v":0},{"$f":"COUNTIF(E74:AI74,\"CK\")","v":0},{"$f":"COUNTIF(E74:AI74,\"CU\")","v":0}]
[53,{"$f":"IF('Maklumat Umum'!B75=\"\",\"\",'Maklumat Umum'!B75)","v":""},{"$f":"IF('Maklumat Umum'!C75=\"\",\"\",'Maklumat Umum'!C75)","v":""},null,null,null,null,null,null,null,null,null,null,null,null,null,null,null,null,null,null,null,null,null,null,null,null,null,null,null,null,null,null,null,null,"","","","","",null,0,0,0]
[54,{"$f":"IF('Maklumat Umum'!B76=\"\",\"\",'Maklumat Umum'!B76)","v":""},{"$f":"IF('Maklumat Umum'!C76=\"\",\"\",'Maklumat Umum'!C76)","v":""},null,null,null,null,null,null,null,null,null,null,null,null,null,null,null,null,null,null,null,null,null,null,null,null,null,null,null,null,null,null,null,null,"","","","","",null,0,0,0]
[55,{"$f":"IF('Maklumat Umum'!B77=\"\",\"\",'Maklumat Umum'!B77)","v":""},{"$f":"IF('Maklumat Umum'!C77=\"\",\"\",'Maklumat Umum'!C77)","v":""},null,null,null,null,null,null,null,null,null,null,null,null,null,null,null,null,null,null,null,null,null,null,null,null,null,null,null,null,null,null,null,null,"","","","","",null,0,0,0]
[56,{"$f":"IF('Maklumat Umum'!B78=\"\",\"\",'Maklumat Umum'!B78)","v":""},{"$f":"IF('Maklumat Umum'!C78=\"\",\"\",'Maklumat Umum'!C78)","v":""},{"$f":"IF('Maklumat Umum'!D78=\"\",\"\",'Maklumat Umum'!D78)","v":""},null,null,null,null,null,null,null,null,null,null,null,null,null,null,null,null,null,null,null,null,null,null,null,null,null,null,null,null,null,null,null,"","","","","",null,0,0,0]
[57,{"$f":"IF('Maklumat Umum'!B79=\"\",\"\",'Maklumat Umum'!B79)","v":""},{"$f":"IF('Maklumat Umum'!C79=\"\",\"\",'Maklumat Umum'!C79)","v":""},null,null,null,null,null,null,null,null,null,null,null,null,null,null,null,null,null,null,null,null,null,null,null,null,null,null,null,null,null,null,null,null,"","","","","",null,0,0,0]
[58,{"$f":"IF('Maklumat Umum'!B80=\"\",\"\",'Maklumat Umum'!B80)","v":""},{"$f":"IF('Maklumat Umum'!C80=\"\",\"\",'Maklumat Umum'!C80)","v":""},null,null,null,null,null,null,null,null,null,null,null,null,null,null,null,null,null,null,null,null,null,null,null,null,null,null,null,null,null,null,null,null,"","","","","",null,0,0,0]
[59,{"$f":"IF('Maklumat Umum'!B81=\"\",\"\",'Maklumat Umum'!B81)","v":""},{"$f":"IF('Maklumat Umum'!C81=\"\",\"\",'Maklumat Umum'!C81)","v":""},null,null,null,null,null,null,null,null,null,null,null,null,null,null,null,null,null,null,null,null,null,null,null,null,null,null,null,null,null,null,null,null,"","","","","",null,0,0,0]
[60,{"$f":"IF('Maklumat Umum'!B82=\"\",\"\",'Maklumat Umum'!B82)","v":""},{"$f":"IF('Maklumat Umum'!C82=\"\",\"\",'Maklumat Umum'!C82)","v":""},null,null,null,null,null,null,null,null,null,null,null,null,null,null,null,null,null,null,null,null,null,null,null,null,null,null,null,null,null,null,null,null,"","","","","",null,0,0,0]
[61,{"$f":"IF('Maklumat Umum'!B83=\"\",\"\",'Maklumat Umum'!B83)","v":""},{"$f":"IF('Maklumat Umum'!C83=\"\",\"\",'Maklumat Umum'!C83)","v":""},{"$f":"IF('Maklumat Umum'!D83=\"\",\"\",'Maklumat Umum'!D83)","v":""},null,null,null,null,null,null,null,null,null,null,null,null,null,null,null,null,null,null,null,null,null,null,null,null,null,null,null,null,null,null,null,"","","","","",null,0,0,0]
[62,{"$f":"IF('Maklumat Umum'!B84=\"\",\"\",'Maklumat Umum'!B84)","v":""},{"$f":"IF('Maklumat Umum'!C84=\"\",\"\",'Maklumat Umum'!C84)","v":""},null,null,null,null,null,null,null,null,null,null,null,null,null,null,null,null,null,null,null,null,null,null,null,null,null,null,null,null,null,null,null,null,"","","","","",null,0,0,0]
[63,{"$f":"IF('Maklumat Umum'!B85=\"\",\"\",'Maklumat Umum'!B85)","v":""},{"$f":"IF('Maklumat Umum'!C85=\"\",\"\",'Maklumat Umum'!C85)","v":""},null,null,null,null,null,null,null,null,null,null,null,null,null,null,null,null,null,null,null,null,null,null,null,null,null,null,null,null,null,null,null,null,"","","","","",null,0,0,0]
[64,{"$f":"IF('Maklumat Umum'!B86=\"\",\"\",'Maklumat Umum'!B86)","v":""},{"$f":"IF('Maklumat Umum'!C86=\"\",\"\",'Maklumat Umum'!C86)","v":""},null,null,null,null,null,null,null,null,null,null,null,null,null,null,null,null,null,null,null,null,null,null,null,null,null,null,null,null,null,null,null,null,"","","","","",null,0,0,0]
[65,{"$f":"IF('Maklumat Umum'!B87=\"\",\"\",'Maklumat Umum'!B87)","v":""},{"$f":"IF('Maklumat Umum'!C87=\"\",\"\",'Maklumat Umum'!C87)","v":""},null,null,null,null,null,null,null,null,null,null,null,null,null,null,null,null,null,null,null,null,null,null,null,null,null,null,null,null,null,null,null,null,"","",{"$f":"IF(COUNTBLANK(E87:AI87)=31,\"\",IF(AK87<16,0,AK87*25))","v":""},{"$f":"IF(AL87=\"\",\"\",IF(AL87=0,AK87*15,(AL87/0.5)*0.3))","v":""},{"$f":"IF(AL87=\"\",\"\",IF(AL87=0,AK87*10,(AL87/0.5)*0.2))","v":""},null,0,0,0]
[66,{"$f":"IF('Maklumat Umum'!B88=\"\",\"\",'Maklumat Umum'!B88)","v":""},{"$f":"IF('Maklumat Umum'!C88=\"\",\"\",'Maklumat Umum'!C88)","v":""},{"$f":"IF('Maklumat Umum'!D88=\"\",\"\",'Maklumat Umum'!D88)","v":""},null,null,null,null,null,null,null,null,null,null,null,null,null,null,null,null,null,null,null,null,null,null,null,null,null,null,null,null,null,null,null,"","","","","",null,0,0,0]
[67,{"$f":"IF('Maklumat Umum'!B89=\"\",\"\",'Maklumat Umum'!B89)","v":""},{"$f":"IF('Maklumat Umum'!C89=\"\",\"\",'Maklumat Umum'!C89)","v":""},null,null,null,null,null,null,null,null,null,null,null,null,null,null,null,null,null,null,null,null,null,null,null,null,null,null,null,null,null,null,null,null,"","","","","",null,0,0,0]
[68,{"$f":"IF('Maklumat Umum'!B90=\"\",\"\",'Maklumat Umum'!B90)","v":""},{"$f":"IF('Maklumat Umum'!C90=\"\",\"\",'Maklumat Umum'!C90)","v":""},null,null,null,null,null,null,null,null,null,null,null,null,null,null,null,null,null,null,null,null,null,null,null,null,null,null,null,null,null,null,null,null,"","","","","",null,0,0,0]
[69,{"$f":"IF('Maklumat Umum'!B91=\"\",\"\",'Maklumat Umum'!B91)","v":""},{"$f":"IF('Maklumat Umum'!C91=\"\",\"\",'Maklumat Umum'!C91)","v":""},null,null,null,null,null,null,null,null,null,null,null,null,null,null,null,null,null,null,null,null,null,null,null,null,null,null,null,null,null,null,null,null,"","","","","",null,0,0,0]
[70,{"$f":"IF('Maklumat Umum'!B92=\"\",\"\",'Maklumat Umum'!B92)","v":""},{"$f":"IF('Maklumat Umum'!C92=\"\",\"\",'Maklumat Umum'!C92)","v":""},null,null,null,null,null,null,null,null,null,null,null,null,null,null,null,null,null,null,null,null,null,null,null,null,null,null,null,null,null,null,null,null,"","","","","",null,0,0,0]
[71,{"$f":"IF('Maklumat Umum'!B93=\"\",\"\",'Maklumat Umum'!B93)","v":""},{"$f":"IF('Maklumat Umum'!C93=\"\",\"\",'Maklumat Umum'!C93)","v":""},{"$f":"IF('Maklumat Umum'!D93=\"\",\"\",'Maklumat Umum'!D93)","v":""},null,null,null,null,null,null,null,null,null,null,null,null,null,null,null,null,null,null,null,null,null,null,null,null,null,null,null,null,null,null,null,"","","","","",null,0,0,0]
[72,{"$f":"IF('Maklumat Umum'!B94=\"\",\"\",'Maklumat Umum'!B94)","v":""},{"$f":"IF('Maklumat Umum'!C94=\"\",\"\",'Maklumat Umum'!C94)","v":""},null,null,null,null,null,null,null,null,null,null,null,null,null,null,null,null,null,null,null,null,null,null,null,null,null,null,null,null,null,null,null,null,"","","","","",null,0,0,0]
[73,{"$f":"IF('Maklumat Umum'!B95=\"\",\"\",'Maklumat Umum'!B95)","v":""},{"$f":"IF('Maklumat Umum'!C95=\"\",\"\",'Maklumat Umum'!C95)","v":""},null,null,null,null,null,null,null,null,null,null,null,null,null,null,null,null,null,null,null,null,null,null,null,null,null,null,null,null,null,null,null,null,"","","","","",null,0,0,0]
[74,{"$f":"IF('Maklumat Umum'!B96=\"\",\"\",'Maklumat Umum'!B96)","v":""},{"$f":"IF('Maklumat Umum'!C96=\"\",\"\",'Maklumat Umum'!C96)","v":""},null,null,null,null,null,null,null,null,null,null,null,null,null,null,null,null,null,null,null,null,null,null,null,null,null,null,null,null,null,null,null,null,{"$f":"IF(COUNTBLANK(E96:AI96)=31,\"\",AP96+AQ96+AR96)","v":""},{"$f":"IF(COUNTBLANK(E96:AI96)=31,\"\",IF(SUM(E96:AI96)+AJ96>20,20,SUM(E96:AI96)+AJ96))","v":""},"","","",null,0,0,0]
[75,{"$f":"IF('Maklumat Umum'!B97=\"\",\"\",'Maklumat Umum'!B97)","v":""},{"$f":"IF('Maklumat Umum'!C97=\"\",\"\",'Maklumat Umum'!C97)","v":""},null,null,null,null,null,null,null,null,null,null,null,null,null,null,null,null,null,null,null,null,null,null,null,null,null,null,null,null,null,null,null,null,{"$f":"IF(COUNTBLANK(E97:AI97)=31,\"\",AP97+AQ97+AR97)","v":""},{"$f":"IF(COUNTBLANK(E97:AI97)=31,\"\",IF(SUM(E97:AI97)+AJ97>20,20,SUM(E97:AI97)+AJ97))","v":""},"","","",null,{"$f":"IF(COUNTIF(E97:AI97,\"CS\")>14,14,COUNTIF(E97:AI97,\"CS\"))","v":0},{"$f":"COUNTIF(E97:AI97,\"CK\")","v":0},{"$f":"COUNTIF(E97:AI97,\"CU\")","v":0}]
[76,{"$f":"IF('Maklumat Umum'!B98=\"\",\"\",'Maklumat Umum'!B98)","v":""},{"$f":"IF('Maklumat Umum'!C98=\"\",\"\",'Maklumat Umum'!C98)","v":""},{"$f":"IF('Maklumat Umum'!D98=\"\",\"\",'Maklumat Umum'!D98)","v":""},null,null,null,null,null,null,null,null,null,null,null,null,null,null,null,null,null,null,null,null,null,null,null,null,null,null,null,null,null,null,null,{"$f":"IF(COUNTBLANK(E98:AI98)=31,\"\",AP98+AQ98+AR98)","v":""},{"$f":"IF(COUNTBLANK(E98:AI98)=31,\"\",IF(SUM(E98:AI98)+AJ98>20,20,SUM(E98:AI98)+AJ98))","v":""},"","","",null,{"$f":"IF(COUNTIF(E98:AI98,\"CS\")>14,14,COUNTIF(E98:AI98,\"CS\"))","v":0},{"$f":"COUNTIF(E98:AI98,\"CK\")","v":0},{"$f":"COUNTIF(E98:AI98,\"CU\")","v":0}]
[77,{"$f":"IF('Maklumat Umum'!B99=\"\",\"\",'Maklumat Umum'!B99)","v":""},{"$f":"IF('Maklumat Umum'!C99=\"\",\"\",'Maklumat Umum'!C99)","v":""},null,null,null,null,null,null,null,null,null,null,null,null,null,null,null,null,null,null,null,null,null,null,null,null,null,null,null,null,null,null,null,null,{"$f":"IF(COUNTBLANK(E99:AI99)=31,\"\",AP99+AQ99+AR99)","v":""},{"$f":"IF(COUNTBLANK(E99:AI99)=31,\"\",IF(SUM(E99:AI99)+AJ99>20,20,SUM(E99:AI99)+AJ99))","v":""},"","","",null,{"$f":"IF(COUNTIF(E99:AI99,\"CS\")>14,14,COUNTIF(E99:AI99,\"CS\"))","v":0},{"$f":"COUNTIF(E99:AI99,\"CK\")","v":0},{"$f":"COUNTIF(E99:AI99,\"CU\")","v":0}]
[78,{"$f":"IF('Maklumat Umum'!B100=\"\",\"\",'Maklumat Umum'!B100)","v":""},{"$f":"IF('Maklumat Umum'!C100=\"\",\"\",'Maklumat Umum'!C100)","v":""},null,null,null,null,null,null,null,null,null,null,null,null,null,null,null,null,null,null,null,null,null,null,null,null,null,null,null,null,null,null,null,null,"","","","","",null,0,0,0]
[79,{"$f":"IF('Maklumat Umum'!B101=\"\",\"\",'Maklumat Umum'!B101)","v":""},{"$f":"IF('Maklumat Umum'!C101=\"\",\"\",'Maklumat Umum'!C101)","v":""},null,null,null,null,null,null,null,null,null,null,null,null,null,null,null,null,null,null,null,null,null,null,null,null,null,null,null,null,null,null,null,null,"","","","","",null,0,0,0]
[80,{"$f":"IF('Maklumat Umum'!B102=\"\",\"\",'Maklumat Umum'!B102)","v":""},{"$f":"IF('Maklumat Umum'!C102=\"\",\"\",'Maklumat Umum'!C102)","v":""},null,null,null,null,null,null,null,null,null,null,null,null,null,null,null,null,null,null,null,null,null,null,null,null,null,null,null,null,null,null,null,null,"","","","","",null,0,0,0]
[81,{"$f":"IF('Maklumat Umum'!B103=\"\",\"\",'Maklumat Umum'!B103)","v":""},{"$f":"IF('Maklumat Umum'!C103=\"\",\"\",'Maklumat Umum'!C103)","v":""},{"$f":"IF('Maklumat Umum'!D103=\"\",\"\",'Maklumat Umum'!D103)","v":""},null,null,null,null,null,null,null,null,null,null,null,null,null,null,null,null,null,null,null,null,null,null,null,null,null,null,null,null,null,null,null,"","","","","",null,0,0,0]
[82,{"$f":"IF('Maklumat Umum'!B104=\"\",\"\",'Maklumat Umum'!B104)","v":""},{"$f":"IF('Maklumat Umum'!C104=\"\",\"\",'Maklumat Umum'!C104)","v":""},null,null,null,null,null,null,null,null,null,null,null,null,null,null,null,null,null,null,null,null,null,null,null,null,null,null,null,null,null,null,null,null,"","","","","",null,0,0,0]
[83,{"$f":"IF('Maklumat Umum'!B105=\"\",\"\",'Maklumat Umum'!B105)","v":""},{"$f":"IF('Maklumat Umum'!C105=\"\",\"\",'Maklumat Umum'!C105)","v":""},null,null,null,null,null,null,null,null,null,null,null,null,null,null,null,null,null,null,null,null,null,null,null,null,null,null,null,null,null,null,null,null,"","","","","",null,0,0,0]
[84,{"$f":"IF('Maklumat Umum'!B106=\"\",\"\",'Maklumat Umum'!B106)","v":""},{"$f":"IF('Maklumat Umum'!C106=\"\",\"\",'Maklumat Umum'!C106)","v":""},null,null,null,null,null,null,null,null,null,null,null,null,null,null,null,null,null,null,null,null,null,null,null,null,null,null,null,null,null,null,null,null,"","","","","",null,0,0,0]
[85,{"$f":"IF('Maklumat Umum'!B107=\"\",\"\",'Maklumat Umum'!B107)","v":""},{"$f":"IF('Maklumat Umum'!C107=\"\",\"\",'Maklumat Umum'!C107)","v":""},null,null,null,null,null,null,null,null,null,null,null,null,null,null,null,null,null,null,null,null,null,null,null,null,null,null,null,null,null,null,null,null,"","","","","",null,0,0,0]
[86,{"$f":"IF('Maklumat Umum'!B108=\"\",\"\",'Maklumat Umum'!B108)","v":""},{"$f":"IF('Maklumat Umum'!C108=\"\",\"\",'Maklumat Umum'!C108)","v":""},{"$f":"IF('Maklumat Umum'!D108=\"\",\"\",'Maklumat Umum'!D108)","v":""},null,null,null,null,null,null,null,null,null,null,null,null,null,null,null,null,null,null,null,null,null,null,null,null,null,null,null,null,null,null,null,"","","","","",null,0,0,0]
[87,{"$f":"IF('Maklumat Umum'!B109=\"\",\"\",'Maklumat Umum'!B109)","v":""},{"$f":"IF('Maklumat Umum'!C109=\"\",\"\",'Maklumat Umum'!C109)","v":""},null,null,null,null,null,null,null,null,null,null,null,null,null,null,null,null,null,null,null,null,null,null,null,null,null,null,null,null,null,null,null,null,"","","","","",null,0,0,0]
[88,{"$f":"IF('Maklumat Umum'!B110=\"\",\"\",'Maklumat Umum'!B110)","v":""},{"$f":"IF('Maklumat Umum'!C110=\"\",\"\",'Maklumat Umum'!C110)","v":""},null,null,null,null,null,null,null,null,null,null,null,null,null,null,null,null,null,null,null,null,null,null,null,null,null,null,null,null,null,null,null,null,"","","","","",null,0,0,0]
[89,{"$f":"IF('Maklumat Umum'!B111=\"\",\"\",'Maklumat Umum'!B111)","v":""},{"$f":"IF('Maklumat Umum'!C111=\"\",\"\",'Maklumat Umum'!C111)","v":""},null,null,null,null,null,null,null,null,null,null,null,null,null,null,null,null,null,null,null,null,null,null,null,null,null,null,null,null,null,null,null,null,"","","","","",null,0,0,0]
[90,{"$f":"IF('Maklumat Umum'!B112=\"\",\"\",'Maklumat Umum'!B112)","v":""},{"$f":"IF('Maklumat Umum'!C112=\"\",\"\",'Maklumat Umum'!C112)","v":""},null,null,null,null,null,null,null,null,null,null,null,null,null,null,null,null,null,null,null,null,null,null,null,null,null,null,null,null,null,null,null,null,"","","","","",null,0,0,0]
[91,{"$f":"IF('Maklumat Umum'!B113=\"\",\"\",'Maklumat Umum'!B113)","v":""},{"$f":"IF('Maklumat Umum'!C113=\"\",\"\",'Maklumat Umum'!C113)","v":""},{"$f":"IF('Maklumat Umum'!D113=\"\",\"\",'Maklumat Umum'!D113)","v":""},null,null,null,null,null,null,null,null,null,null,null,null,null,null,null,null,null,null,null,null,null,null,null,null,null,null,null,null,null,null,null,"","","","","",null,0,0,0]
[92,{"$f":"IF('Maklumat Umum'!B114=\"\",\"\",'Maklumat Umum'!B114)","v":""},{"$f":"IF('Maklumat Umum'!C114=\"\",\"\",'Maklumat Umum'!C114)","v":""},null,null,null,null,null,null,null,null,null,null,null,null,null,null,null,null,null,null,null,null,null,null,null,null,null,null,null,null,null,null,null,null,"","","","","",null,0,0,0]
[93,{"$f":"IF('Maklumat Umum'!B115=\"\",\"\",'Maklumat Umum'!B115)","v":""},{"$f":"IF('Maklumat Umum'!C115=\"\",\"\",'Maklumat Umum'!C115)","v":""},null,null,null,null,null,null,null,null,null,null,null,null,null,null,null,null,null,null,null,null,null,null,null,null,null,null,null,null,null,null,null,null,"","","","","",null,0,0,0]
[94,{"$f":"IF('Maklumat Umum'!B116=\"\",\"\",'Maklumat Umum'!B116)","v":""},{"$f":"IF('Maklumat Umum'!C116=\"\",\"\",'Maklumat Umum'!C116)","v":""},null,null,null,null,null,null,null,null,null,null,null,null,null,null,null,null,null,null,null,null,null,null,null,null,null,null,null,null,null,null,null,null,"","","","","",null,0,0,0]
[95,{"$f":"IF('Maklumat Umum'!B117=\"\",\"\",'Maklumat Umum'!B117)","v":""},{"$f":"IF('Maklumat Umum'!C117=\"\",\"\",'Maklumat Umum'!C117)","v":""},null,null,null,null,null,null,null,null,null,null,null,null,null,null,null,null,null,null,null,null,null,null,null,null,null,null,null,null,null,null,null,null,"","","","","",null,0,0,0]
[96,{"$f":"IF('Maklumat Umum'!B118=\"\",\"\",'Maklumat Umum'!B118)","v":""},{"$f":"IF('Maklumat Umum'!C118=\"\",\"\",'Maklumat Umum'!C118)","v":""},{"$f":"IF('Maklumat Umum'!D118=\"\",\"\",'Maklumat Umum'!D118)","v":""},null,null,null,null,null,null,null,null,null,null,null,null,null,null,null,null,null,null,null,null,null,null,null,null,null,null,null,null,null,null,null,"","","","","",null,0,0,0]
[97,{"$f":"IF('Maklumat Umum'!B119=\"\",\"\",'Maklumat Umum'!B119)","v":""},{"$f":"IF('Maklumat Umum'!C119=\"\",\"\",'Maklumat Umum'!C119)","v":""},null,null,null,null,null,null,null,null,null,null,null,null,null,null,null,null,null,null,null,null,null,null,null,null,null,null,null,null,null,null,null,null,"","","","","",null,0,0,0]
[98,{"$f":"IF('Maklumat Umum'!B120=\"\",\"\",'Maklumat Umum'!B120)","v":""},{"$f":"IF('Maklumat Umum'!C120=\"\",\"\",'Maklumat Umum'!C120)","v":""},null,null,null,null,null,null,null,null,null,null,null,null,null,null,null,null,null,null,null,null,null,null,null,null,null,null,null,null,null,null,null,null,"","","","","",null,0,0,0]
[99,{"$f":"IF('Maklumat Umum'!B121=\"\",\"\",'Maklumat Umum'!B121)","v":""},{"$f":"IF('Maklumat Umum'!C121=\"\",\"\",'Maklumat Umum'!C121)","v":""},null,null,null,null,null,null,null,null,null,null,null,null,null,null,null,null,null,null,null,null,null,null,null,null,null,null,null,null,null,null,null,null,{"$f":"IF(COUNTBLANK(E121:AI121)=31,\"\",AP121+AQ121+AR121)","v":""},{"$f":"IF(COUNTBLANK(E121:AI121)=31,\"\",IF(SUM(E121:AI121)+AJ121>20,20,SUM(E121:AI121)+AJ121))","v":""},"","","",null,0,0,0]
[100,{"$f":"IF('Maklumat Umum'!B122=\"\",\"\",'Maklumat Umum'!B122)","v":""},{"$f":"IF('Maklumat Umum'!C122=\"\",\"\",'Maklumat Umum'!C122)","v":""},null,null,null,null,null,null,null,null,null,null,null,null,null,null,null,null,null,null,null,null,null,null,null,null,null,null,null,null,null,null,null,null,{"$f":"IF(COUNTBLANK(E122:AI122)=31,\"\",AP122+AQ122+AR122)","v":""},{"$f":"IF(COUNTBLANK(E122:AI122)=31,\"\",IF(SUM(E122:AI122)+AJ122>20,20,SUM(E122:AI122)+AJ122))","v":""},"","","",null,{"$f":"IF(COUNTIF(E122:AI122,\"CS\")>14,14,COUNTIF(E122:AI122,\"CS\"))","v":0},{"$f":"COUNTIF(E122:AI122,\"CK\")","v":0},{"$f":"COUNTIF(E122:AI122,\"CU\")","v":0}]
["Nota: PL perlu pastikan maklumat adalah tepat dan nama perantis mengikut Kad Pengenalan serta turutan dalam Pengesahan Pendaftaran Perantis SLDN",null,null,null,null,null,null,null,null,null,null,null,null,null,null,null,null,null,null,null,null,null,null,null,null,null,null,null,null,null,null,null,null,null,null,"JUM TUNTUTAN",null,{"$f":"SUM(AL23:AL122)","v":0},{"$f":"SUM(AM23:AM122)","v":0},{"$f":"SUM(AN23:AN122)","v":0},null,null,null,null,"Pejabat Wilayah hendaklah memindahkan Jumlah tuntutan elaun perantis ini ke dalam MySPIKE bagi tujuan pembayaran "]
[null,null,null,null,null,null,null,null,null,null,null,null,null,null,null,null,null,null,null,null,null,null,null,null,null,null,null,null,null,null,null,null,null,null,null,null,null,{"$f":"SUM(AL123:AN123)","v":0}]
["Dengan ini kami mengesahkan bahawa maklumat di atas adalah benar dan perantis sedang menjalani latihan di syarikat kerjasama/ penyedia latihan seperti yang telah ditetapkan."]
[]
["Disediakan oleh",null,null,null,null,null,null,null,null,null,null,null,null,null,"Disahkan oleh"]
[]
["…………………………………………….",null,null,null,null,null,null,null,null,null,null,null,null,null,"……………………………………………."]
["(Tandatangan Penyelaras Pusat Latihan)",null,null,null,null,null,null,null,null,null,null,null,"(Tandatangan Penyelaras Syarikat 1)",null,null,null,null,null,null,null,null,null,null,null,null,null,null,null,null,null,"(Tandatangan Penyelaras Syarikat 2)"]
["Nama:  ",null,null,null,null,null,null,null,null,null,null,null,"Nama:",null,null,null,null,null,null,null,null,null,null,null,null,null,null,null,null,null,"Nama:"]
["Tarikh:",null,null,null,null,null,null,null,null,null,null,null,"Tarikh:",null,null,null,null,null,null,null,null,null,null,null,null,null,null,null,null,null,"Tarikh:"]
[]
["PENGESAHAN PENGURUS PUSAT LATIHAN:",null,null,null,null,null,null,null,null,null,null,null,"(Tandatangan Penyelaras Syarikat 3)",null,null,null,null,null,null,null,null,null,null,null,null,null,null,null,null,null,"(Tandatangan Penyelaras Syarikat 4)"]
["Saya memperakukan kenyataan di atas adalah  benar",null,null,null,null,null,null,null,null,null,null,null,"Nama:",null,null,null,null,null,null,null,null,null,null,null,null,null,null,null,null,null,"Nama:"]
[null,null,null,null,null,null,null,null,null,null,null,null,"Tarikh:",null,null,null,null,null,null,null,null,null,null,null,null,null,null,null,null,null,"Tarikh:"]
["……………………………………………."]
["(Tandatangan Pengurus Pusat Latihan)",null,null,null,null,null,null,null,null,null,null,null,"(Tandatangan Penyelaras Syarikat 5)"]
[null,null,null,null,null,null,null,null,null,null,null,null,"Nama:"]
["Nama ",null,null,null,null,null,null,null,null,null,null,null,"Tarikh:"]
["No Kad Pengenalan (Pengurus Pusat Latihan)"]
["Tarikh:",null,null,"Cop Rasmi Pusat Latihan:"]

{"sheet":"Claim_page1_May23","index":10,"n_rows":24,"n_cols":5,"rows_kept":24,"cut":false,"hidden":false,"merged":[[0,0,0,3],[0,4,7,9],[1,1,1,2],[3,1,3,3],[4,1,4,3],[5,1,5,3],[6,0,6,3],[7,1,7,3],[18,0,18,3],[8,1,8,3],[9,1,9,3],[10,1,10,3],[11,1,11,3],[12,0,12,3],[13,1,13,3],[13,4,17,4],[14,1,14,3],[15,1,15,3],[16,1,16,3],[17,1,17,3]]}
[{"$f":"\"BORANG PERMOHONAN TUNTUTAN INSENTIF \" & CHAR(10)& 'Maklumat Umum'!H1000","v":"BORANG PERMOHONAN TUNTUTAN INSENTIF \nSISTEM LATIHAN DUAL NASIONAL (SLDN) BERINSENTIF 2023"}]
["BULAN:","MAY 2023"]
[]
["No Pengambilan:",{"$f":"'Maklumat Umum'!C11","v":0}]
["Tarikh Mula Latihan",{"$f":"'Maklumat Umum'!C13","v":"00:00:00"}]
["Tarikh Tamat Latihan",{"$f":"'Maklumat Umum'!C14","v":"2024-01-26"}]
["BAHAGIAN A. MAKLUMAT PEMOHON"]
["Nama Pusat Latihan / Syarikat Inhouse (seperti dalam Surat Tawaran/ Perjanjian)",{"$f":"FebXX!C5","v":0}]
["Kod Pusat Latihan / Syarikat Inhouse",{"$f":"FebXX!C6","v":0}]
["ID Rujukan Tawaran SLDN Plus ",{"$f":"'Maklumat Tuntutan'!B5","v":0},null,null,"Cth. JPK/SP/7099"]
["Nama Penyelaras Pusat Latihan/ Syarikat Inhouse",{"$f":"'Maklumat Tuntutan'!B6","v":0}]
["No. Kad Pengenalan",{"$f":"'Maklumat Tuntutan'!B7","v":0}]
["BAHAGIAN B. MAKLUMAT PENERIMA DAN AKAUN BAYARAN INSENTIF"]
["Nama Penerima Bayaran (Pusat Latihan / Syarikat Inhouse)",{"$f":"'Maklumat Tuntutan'!B9","v":0},null,null,"Akaun Bank Mesti Sama Dengan Akaun Yang Dinyatakan Dalam Dokumen Perjanjian"]
["Nama Bank Penerima",{"$f":"'Maklumat Tuntutan'!B10","v":0}]
["Nombor Akaun Bank Penerima",{"$f":"'Maklumat Tuntutan'!B11","v":0}]
["Cawangan Bank",{"$f":"'Maklumat Tuntutan'!B12","v":0}]
["Salinan Penyata Akaun Bank (Sila pastikan maklumat pada dokumen jelas dan terang)","Dilampirkan"]
["BAHAGIAN C. MAKLUMAT TUNTUTAN INSENTIF (BERDASARKAN REKOD KEHADIRAN PERANTIS)"]
["Butiran","Kadar sehari (RM)","%","Jumlah \n(RM)"]
["i.  Insentif Pusat Latihan",15,{"$f":"B21/(B$21+B$22+B$23)","v":0.3},{"$f":"'May23'!AM123","v":0}]
["ii.  Insentif Syarikat Kerjasama",10,{"$f":"B22/(B$21+B$22+B$23)","v":0.2},{"$f":"'May23'!AN123","v":0}]
["iii. Elaun Perantis",25,{"$f":"B23/(B$21+B$22+B$23)","v":0.5},{"$f":"'May23'!AL123","v":0}]
["JUMLAH",null,null,{"$f":"SUM(D21:D23)","v":0}]

{"sheet":"Jun23","index":11,"n_rows":142,"n_cols":45,"rows_kept":142,"cut":false,"hidden":false,"merged":[[0,0,0,40],[1,0,1,40],[2,16,2,20],[5,12,8,35],[15,1,16,2],[16,4,16,33],[17,0,21,0],[17,1,21,1],[17,2,21,2],[17,3,21,3],[17,4,17,33],[19,4,19,33],[47,3,51,3],[17,36,21,36],[17,37,17,39],[17,40,21,40],[18,37,21,37],[18,38,21,38],[18,39,21,39],[17,35,21,35],[22,3,26,3],[27,3,31,3],[32,3,36,3],[37,3,41,3],[42,3,46,3],[107,3,111,3],[52,3,56,3],[57,3,61,3],[62,3,66,3],[67,3,71,3],[72,3,76,3],[77,3,81,3],[82,3,86,3],[87,3,91,3],[92,3,96,3],[97,3,101,3],[102,3,106,3],[112,3,116,3],[117,3,121,3],[122,35,123,36],[122,44,126,50],[123,37,123,39]]}
["BORANG KEHADIRAN PERANTIS"]
[{"$f":"'Maklumat Umum'!H1000","v":"SISTEM LATIHAN DUAL NASIONAL (SLDN) BERINSENTIF 2023"}]
[null,null,null,null,null,null,null,null,null,null,null,null,null,"BULAN",null,null,"JUN 2023",null,null,null,null,null,null,null,null,null,null,null,null,null,null,null,null,null,null,null,"JPK/SP/02"]
[]
[null,"NAMA PUSAT LATIHAN",{"$f":"'Maklumat Umum'!C8","v":0},null,null,null,null,null,null,null,null,null,"Nota: "]
[null,"KOD PUSAT LATIHAN",{"$f":"'Maklumat Umum'!C9","v":0},null,null,null,null,null,null,null,null,null,"1. Bil maksimum hari latihan sebulan yang layak dibayar insentif adalah 20 hari termasuklah:\n(1) Cuti Sakit terhad kepada 14 hari sahaja  - Perlu sertakan Perakuan dari Klinik/Hospital\n(2) Cuti Kecemasan seperti kematian ahli keluarga, kebakaran, banjir dan lain-lain -  Perlu sertakan Surat Pihak Berkuasa Berkaitan (Klinik/Hospital, polis dll) \n(3) Cuti Umum Negeri atau Nasional\n(4) Cuti Kuarantin - Perlu sertakan kelulusan"]
[null,"NAMA PROGRAM",{"$f":"'Maklumat Umum'!C10","v":0}]
[null,"NO PENGAMBILAN",{"$f":"'Maklumat Umum'!C11","v":0}]
[null,"TARIKH MULA LATIHAN",{"$f":"'Maklumat Umum'!C13","v":"00:00:00"}]
[null,"TARIKH TAMAT LATIHAN",{"$f":"'Maklumat Umum'!C14","v":"2024-01-26"},null,null,null,null,null,null,null,null,null,"2. Kadar sehari elaun perantis adalah RM25"]
[null,"TEMPOH LATIHAN DILULUSKAN (BULAN)",{"$f":"'Maklumat Umum'!C12","v":0},null,null,null,null,null,null,null,null,null,"3. Perantis hanya layak dibayar jika kehadiran sekurang-kurangnya 80% (16 hari). PL dan syarikat dibayar mengikut bil hari perantis hadir"]
[]
[]
[]
[]
[null,"TARIKH BELUM DIISI"]
[null,null,null,null,"1 = Hadir            Kosongkan (Blank) = Tidak Hadir            CS = Cuti Sakit             CK = Cuti Kecemasan/Kurantin          CU = Cuti Umum"]
["BIL","Nama Perantis","No Kad \nPengenalan","Syarikat","BIL HARI LATIHAN",null,null,null,null,null,null,null,null,null,null,null,null,null,null,null,null,null,null,null,null,null,null,null,null,null,null,null,null,null,null,"Bil Hari\nCS,CK,\nCU Layak","Bil \nHari Boleh Dibayar","Tuntutan (RM)",null,null,"Tandatangan Perantis"]
[null,null,null,null,1,2,3,4,5,6,7,8,9,10,11,12,13,14,15,16,17,18,19,20,21,22,23,24,25,26,27,28,29,30,31,null,null,"Perantis","Pusat Latihan","Syarikat"]
[null,null,null,null,"TARIKH & HARI"]
[]
[]
[1,{"$f":"IF('Maklumat Umum'!B23=\"\",\"\",'Maklumat Umum'!B23)","v":""},{"$f":"IF('Maklumat Umum'!C23=\"\",\"\",'Maklumat Umum'!C23)","v":""},{"$f":"IF('Maklumat Umum'!D23=\"\",\"\",'Maklumat Umum'!D23)","v":""},null,null,null,null,null,null,null,null,null,null,null,null,null,null,null,null,null,null,null,null,null,null,null,null,null,null,null,null,null,null,null,{"$f":"IF(COUNTBLANK(E23:AI23)=31,\"\",AP23+AQ23+AR23)","v":""},{"$f":"IF(COUNTBLANK(E23:AI23)=31,\"\",IF(SUM(E23:AI23)+AJ23>20,20,SUM(E23:AI23)+AJ23))","v":""},{"$f":"IF(COUNTBLANK(E23:AI23)=31,\"\",IF(AK23<16,0,AK23*25))","v":""},{"$f":"IF(AL23=\"\",\"\",IF(AL23=0,AK23*15,(AL23/0.5)*0.3))","v":""},{"$f":"IF(AL23=\"\",\"\",IF(AL23=0,AK23*10,(AL23/0.5)*0.2))","v":""},null,{"$f":"IF(COUNTIF(E23:AI23,\"CS\")>14,14,COUNTIF(E23:AI23,\"CS\"))","v":0},{"$f":"COUNTIF(E23:AI23,\"CK\")","v":0},{"$f":"COUNTIF(E23:AI23,\"CU\")","v":0}]
[2,{"$f":"IF('Maklumat Umum'!B24=\"\",\"\",'Maklumat Umum'!B24)","v":""},{"$f":"IF('Maklumat Umum'!C24=\"\",\"\",'Maklumat Umum'!C24)","v":""},null,null,null,null,null,null,null,null,null,null,null,null,null,null,null,null,null,null,null,null,null,null,null,null,null,null,null,null,null,null,null,null,{"$f":"IF(COUNTBLANK(E24:AI24)=31,\"\",AP24+AQ24+AR24)","v":""},{"$f":"IF(COUNTBLANK(E24:AI24)=31,\"\",IF(SUM(E24:AI24)+AJ24>20,20,SUM(E24:AI24)+AJ24))","v":""},"","","",null,{"$f":"IF(COUNTIF(E24:AI24,\"CS\")>14,14,COUNTIF(E24:AI24,\"CS\"))","v":0},{"$f":"COUNTIF(E24:AI24,\"CK\")","v":0},{"$f":"COUNTIF(E24:AI24,\"CU\")","v":0}]
[3,{"$f":"IF('Maklumat Umum'!B25=\"\",\"\",'Maklumat Umum'!B25)","v":""},{"$f":"IF('Maklumat Umum'!C25=\"\",\"\",'Maklumat Umum'!C25)","v":""},null,null,null,null,null,null,null,null,null,null,null,null,null,null,null,null,null,null,null,null,null,null,null,null,null,null,null,null,null,null,null,null,"","","","","",null,0,0,0]
[4,{"$f":"IF('Maklumat Umum'!B26=\"\",\"\",'Maklumat Umum'!B26)","v":""},{"$f":"IF('Maklumat Umum'!C26=\"\",\"\",'Maklumat Umum'!C26)","v":""},null,null,null,null,null,null,null,null,null,null,null,null,null,null,null,null,null,null,null,null,null,null,null,null,null,null,null,null,null,null,null,null,"","","","","",null,0,0,0]
[5,{"$f":"IF('Maklumat Umum'!B27=\"\",\"\",'Maklumat Umum'!B27)","v":""},{"$f":"IF('Maklumat Umum'!C27=\"\",\"\",'Maklumat Umum'!C27)","v":""},null,null,null,null,null,null,null,null,null,null,null,null,null,null,null,null,null,null,null,null,null,null,null,null,null,null,null,null,null,null,null,null,"","","","","",null,0,0,0]
[6,{"$f":"IF('Maklumat Umum'!B28=\"\",\"\",'Maklumat Umum'!B28)","v":""},{"$f":"IF('Maklumat Umum'!C28=\"\",\"\",'Maklumat Umum'!C28)","v":""},{"$f":"IF('Maklumat Umum'!D28=\"\",\"\",'Maklumat Umum'!D28)","v":""},null,null,null,null,null,null,null,null,null,null,null,null,null,null,null,null,null,null,null,null,null,null,null,null,null,null,null,null,null,null,null,"","","","","",null,0,0,0]
[7,{"$f":"IF('Maklumat Umum'!B29=\"\",\"\",'Maklumat Umum'!B29)","v":""},{"$f":"IF('Maklumat Umum'!C29=\"\",\"\",'Maklumat Umum'!C29)","v":""},null,null,null,null,null,null,null,null,null,null,null,null,null,null,null,null,null,null,null,null,null,null,null,null,null,null,null,null,null,null,null,null,"","","","","",null,0,0,0]
[8,{"$f":"IF('Maklumat Umum'!B30=\"\",\"\",'Maklumat Umum'!B30)","v":""},{"$f":"IF('Maklumat Umum'!C30=\"\",\"\",'Maklumat Umum'!C30)","v":""},null,null,null,null,null,null,null,null,null,null,null,null,null,null,null,null,null,null,null,null,null,null,null,null,null,null,null,null,null,null,null,null,"","","","","",null,0,0,0]
[9,{"$f":"IF('Maklumat Umum'!B31=\"\",\"\",'Maklumat Umum'!B31)","v":""},{"$f":"IF('Maklumat Umum'!C31=\"\",\"\",'Maklumat Umum'!C31)","v":""},null,null,null,null,null,null,null,null,null,null,null,null,null,null,null,null,null,null,null,null,null,null,null,null,null,null,null,null,null,null,null,null,"","","","","",null,0,0,0]
[10,{"$f":"IF('Maklumat Umum'!B32=\"\",\"\",'Maklumat Umum'!B32)","v":""},{"$f":"IF('Maklumat Umum'!C32=\"\",\"\",'Maklumat Umum'!C32)","v":""},null,null,null,null,null,null,null,null,null,null,null,null,null,null,null,null,null,null,null,null,null,null,null,null,null,null,null,null,null,null,null,null,"","","","","",null,0,0,0]
[11,{"$f":"IF('Maklumat Umum'!B33=\"\",\"\",'Maklumat Umum'!B33)","v":""},{"$f":"IF('Maklumat Umum'!C33=\"\",\"\",'Maklumat Umum'!C33)","v":""},{"$f":"IF('Maklumat Umum'!D33=\"\",\"\",'Maklumat Umum'!D33)","v":""},null,null,null,null,null,null,null,null,null,null,null,null,null,null,null,null,null,null,null,null,null,null,null,null,null,null,null,null,null,null,null,"","","","","",null,0,0,0]
[12,{"$f":"IF('Maklumat Umum'!B34=\"\",\"\",'Maklumat Umum'!B34)","v":""},{"$f":"IF('Maklumat Umum'!C34=\"\",\"\",'Maklumat Umum'!C34)","v":""},null,null,null,null,null,null,null,null,null,null,null,null,null,null,null,null,null,null,null,null,null,null,null,null,null,null,null,null,null,null,null,null,"","","","","",null,0,0,0]
[13,{"$f":"IF('Maklumat Umum'!B35=\"\",\"\",'Maklumat Umum'!B35)","v":""},{"$f":"IF('Maklumat Umum'!C35=\"\",\"\",'Maklumat Umum'!C35)","v":""},null,null,null,null,null,null,null,null,null,null,null,null,null,null,null,null,null,null,null,null,null,null,null,null,null,null,null,null,null,null,null,null,"","","","","",null,0,0,0]
[14,{"$f":"IF('Maklumat Umum'!B36=\"\",\"\",'Maklumat Umum'!B36)","v":""},{"$f":"IF('Maklumat Umum'!C36=\"\",\"\",'Maklumat Umum'!C36)","v":""},null,null,null,null,null,null,null,null,null,null,null,null,null,null,null,null,null,null,null,null,null,null,null,null,null,null,null,null,null,null,null,null,"","","","","",null,0,0,0]
[15,{"$f":"IF('Maklumat Umum'!B37=\"\",\"\",'Maklumat Umum'!B37)","v":""},{"$f":"IF('Maklumat Umum'!C37=\"\",\"\",'Maklumat Umum'!C37)","v":""},null,null,null,null,null,null,null,null,null,null,null,null,null,null,null,null,null,null,null,null,null,null,null,null,null,null,null,null,null,null,null,null,"","","","","",null,0,0,0]
[16,{"$f":"IF('Maklumat Umum'!B38=\"\",\"\",'Maklumat Umum'!B38)","v":""},{"$f":"IF('Maklumat Umum'!C38=\"\",\"\",'Maklumat Umum'!C38)","v":""},{"$f":"IF('Maklumat Umum'!D38=\"\",\"\",'Maklumat Umum'!D38)","v":""},null,null,null,null,null,null,null,null,null,null,null,null,null,null,null,null,null,null,null,null,null,null,null,null,null,null,null,null,null,null,null,"","","","","",null,0,0,0]
[17,{"$f":"IF('Maklumat Umum'!B39=\"\",\"\",'Maklumat Umum'!B39)","v":""},{"$f":"IF('Maklumat Umum'!C39=\"\",\"\",'Maklumat Umum'!C39)","v":""},null,null,null,null,null,null,null,null,null,null,null,null,null,null,null,null,null,null,null,null,null,null,null,null,null,null,null,null,null,null,null,null,"","","","","",null,0,0,0]
[18,{"$f":"IF('Maklumat Umum'!B40=\"\",\"\",'Maklumat Umum'!B40)","v":""},{"$f":"IF('Maklumat Umum'!C40=\"\",\"\",'Maklumat Umum'!C40)","v":""},null,null,null,null,null,null,null,null,null,null,null,null,null,null,null,null,null,null,null,null,null,null,null,null,null,null,null,null,null,null,null,null,"","","","","",null,0,0,0]
[19,{"$f":"IF('Maklumat Umum'!B41=\"\",\"\",'Maklumat Umum'!B41)","v":""},{"$f":"IF('Maklumat Umum'!C41=\"\",\"\",'Maklumat Umum'!C41)","v":""},null,null,null,null,null,null,null,null,null,null,null,null,null,null,null,null,null,null,null,null,null,null,null,null,null,null,null,null,null,null,null,null,"","","","","",null,0,0,0]
[20,{"$f":"IF('Maklumat Umum'!B42=\"\",\"\",'Maklumat Umum'!B42)","v":""},{"$f":"IF('Maklumat Umum'!C42=\"\",\"\",'Maklumat Umum'!C42)","v":""},null,null,null,null,null,null,null,null,null,null,null,null,null,null,null,null,null,null,null,null,null,null,null,null,null,null,null,null,null,null,null,null,"","","","","",null,0,0,0]
[21,{"$f":"IF('Maklumat Umum'!B43=\"\",\"\",'Maklumat Umum'!B43)","v":""},{"$f":"IF('Maklumat Umum'!C43=\"\",\"\",'Maklumat Umum'!C43)","v":""},{"$f":"IF('Maklumat Umum'!D43=\"\",\"\",'Maklumat Umum'!D43)","v":""},null,null,null,null,null,null,null,null,null,null,null,null,null,null,null,null,null,null,null,null,null,null,null,null,null,null,null,null,null,null,null,"","","","","",null,0,0,0]
[22,{"$f":"IF('Maklumat Umum'!B44=\"\",\"\",'Maklumat Umum'!B44)","v":""},{"$f":"IF('Maklumat Umum'!C44=\"\",\"\",'Maklumat Umum'!C44)","v":""},null,null,null,null,null,null,null,null,null,null,null,null,null,null,null,null,null,null,null,null,null,null,null,null,null,null,null,null,null,null,null,null,"","","","","",null,0,0,0]
[23,{"$f":"IF('Maklumat Umum'!B45=\"\",\"\",'Maklumat Umum'!B45)","v":""},{"$f":"IF('Maklumat Umum'!C45=\"\",\"\",'Maklumat Umum'!C45)","v":""},null,null,null,null,null,null,null,null,null,null,null,null,null,null,null,null,null,null,null,null,null,null,null,null,null,null,null,null,null,null,null,null,"","","","","",null,0,0,0]
[24,{"$f":"IF('Maklumat Umum'!B46=\"\",\"\",'Maklumat Umum'!B46)","v":""},{"$f":"IF('Maklumat Umum'!C46=\"\",\"\",'Maklumat Umum'!C46)","v":""},null,null,null,null,null,null,null,null,null,null,null,null,null,null,null,null,null,null,null,null,null,null,null,null,null,null,null,null,null,null,null,null,{"$f":"IF(COUNTBLANK(E46:AI46)=31,\"\",AP46+AQ46+AR46)","v":""},{"$f":"IF(COUNTBLANK(E46:AI46)=31,\"\",IF(SUM(E46:AI46)+AJ46>20,20,SUM(E46:AI46)+AJ46))","v":""},"","","",null,0,0,0]
[25,{"$f":"IF('Maklumat Umum'!B47=\"\",\"\",'Maklumat Umum'!B47)","v":""},{"$f":"IF('Maklumat Umum'!C47=\"\",\"\",'Maklumat Umum'!C47)","v":""},null,null,null,null,null,null,null,null,null,null,null,null,null,null,null,null,null,null,null,null,null,null,null,null,null,null,null,null,null,null,null,null,{"$f":"IF(COUNTBLANK(E47:AI47)=31,\"\",AP47+AQ47+AR47)","v":""},{"$f":"IF(COUNTBLANK(E47:AI47)=31,\"\",IF(SUM(E47:AI47)+AJ47>20,20,SUM(E47:AI47)+AJ47))","v":""},"","","",null,{"$f":"IF(COUNTIF(E47:AI47,\"CS\")>14,14,COUNTIF(E47:AI47,\"CS\"))","v":0},{"$f":"COUNTIF(E47:AI47,\"CK\")","v":0},{"$f":"COUNTIF(E47:AI47,\"CU\")","v":0}]
[26,{"$f":"IF('Maklumat Umum'!B48=\"\",\"\",'Maklumat Umum'!B48)","v":""},{"$f":"IF('Maklumat Umum'!C48=\"\",\"\",'Maklumat Umum'!C48)","v":""},{"$f":"IF('Maklumat Umum'!D48=\"\",\"\",'Maklumat Umum'!D48)","v":""},null,null,null,null,null,null,null,null,null,null,null,null,null,null,null,null,null,null,null,null,null,null,null,null,null,null,null,null,null,null,null,{"$f":"IF(COUNTBLANK(E48:AI48)=31,\"\",AP48+AQ48+AR48)","v":""},{"$f":"IF(COUNTBLANK(E48:AI48)=31,\"\",IF(SUM(E48:AI48)+AJ48>20,20,SUM(E48:AI48)+AJ48))","v":""},"","","",null,{"$f":"IF(COUNTIF(E48:AI48,\"CS\")>14,14,COUNTIF(E48:AI48,\"CS\"))","v":0},{"$f":"COUNTIF(E48:AI48,\"CK\")","v":0},{"$f":"COUNTIF(E48:AI48,\"CU\")","v":0}]
[27,{"$f":"IF('Maklumat Umum'!B49=\"\",\"\",'Maklumat Umum'!B49)","v":""},{"$f":"IF('Maklumat Umum'!C49=\"\",\"\",'Maklumat Umum'!C49)","v":""},null,null,null,null,null,null,null,null,null,null,null,null,null,null,null,null,null,null,null,null,null,null,null,null,null,null,null,null,null,null,null,null,{"$f":"IF(COUNTBLANK(E49:AI49)=31,\"\",AP49+AQ49+AR49)","v":""},{"$f":"IF(COUNTBLANK(E49:AI49)=31,\"\",IF(SUM(E49:AI49)+AJ49>20,20,SUM(E49:AI49)+AJ49))","v":""},"","","",null,{"$f":"IF(COUNTIF(E49:AI49,\"CS\")>14,14,COUNTIF(E49:AI49,\"CS\"))","v":0},{"$f":"COUNTIF(E49:AI49,\"CK\")","v":0},{"$f":"COUNTIF(E49:AI49,\"CU\")","v":0}]
[28,{"$f":"IF('Maklumat Umum'!B50=\"\",\"\",'Maklumat Umum'!B50)","v":""},{"$f":"IF('Maklumat Umum'!C50=\"\",\"\",'Maklumat Umum'!C50)","v":""},null,null,null,null,null,null,null,null,null,null,null,null,null,null,null,null,null,null,null,null,null,null,null,null,null,null,null,null,null,null,null,null,"","","","","",null,0,0,0]
[29,{"$f":"IF('Maklumat Umum'!B51=\"\",\"\",'Maklumat Umum'!B51)","v":""},{"$f":"IF('Maklumat Umum'!C51=\"\",\"\",'Maklumat Umum'!C51)","v":""},null,null,null,null,null,null,null,null,null,null,null,null,null,null,null,null,null,null,null,null,null,null,null,null,null,null,null,null,null,null,null,null,"","","","","",null,0,0,0]
[30,{"$f":"IF('Maklumat Umum'!B52=\"\",\"\",'Maklumat Umum'!B52)","v":""},{"$f":"IF('Maklumat Umum'!C52=\"\",\"\",'Maklumat Umum'!C52)","v":""},null,null,null,null,null,null,null,null,null,null,null,null,null,null,null,null,null,null,null,null,null,null,null,null,null,null,null,null,null,null,null,null,"","","","","",null,0,0,0]
[31,{"$f":"IF('Maklumat Umum'!B53=\"\",\"\",'Maklumat Umum'!B53)","v":""},{"$f":"IF('Maklumat Umum'!C53=\"\",\"\",'Maklumat Umum'!C53)","v":""},{"$f":"IF('Maklumat Umum'!D53=\"\",\"\",'Maklumat Umum'!D53)","v":""},null,null,null,null,null,null,null,null,null,null,null,null,null,null,null,null,null,null,null,null,null,null,null,null,null,null,null,null,null,null,null,"","","","","",null,0,0,0]
[32,{"$f":"IF('Maklumat Umum'!B54=\"\",\"\",'Maklumat Umum'!B54)","v":""},{"$f":"IF('Maklumat Umum'!C54=\"\",\"\",'Maklumat Umum'!C54)","v":""},null,null,null,null,null,null,null,null,null,null,null,null,null,null,null,null,null,null,null,null,null,null,null,null,null,null,null,null,null,null,null,null,"","","","","",null,0,0,0]
[33,{"$f":"IF('Maklumat Umum'!B55=\"\",\"\",'Maklumat Umum'!B55)","v":""},{"$f":"IF('Maklumat Umum'!C55=\"\",\"\",'Maklumat Umum'!C55)","v":""},null,null,null,null,null,null,null,null,null,null,null,null,null,null,null,null,null,null,null,null,null,null,null,null,null,null,null,null,null,null,null,null,"","","","","",null,0,0,0]
[34,{"$f":"IF('Maklumat Umum'!B56=\"\",\"\",'Maklumat Umum'!B56)","v":""},{"$f":"IF('Maklumat Umum'!C56=\"\",\"\",'Maklumat Umum'!C56)","v":""},null,null,null,null,null,null,null,null,null,null,null,null,null,null,null,null,null,null,null,null,null,null,null,null,null,null,null,null,null,null,null,null,"","","","","",null,0,0,0]
[35,{"$f":"IF('Maklumat Umum'!B57=\"\",\"\",'Maklumat Umum'!B57)","v":""},{"$f":"IF('Maklumat Umum'!C57=\"\",\"\",'Maklumat Umum'!C57)","v":""},null,null,null,null,null,null,null,null,null,null,null,null,null,null,null,null,null,null,null,null,null,null,null,null,null,null,null,null,null,null,null,null,"","","","","",null,0,0,0]
[36,{"$f":"IF('Maklumat Umum'!B58=\"\",\"\",'Maklumat Umum'!B58)","v":""},{"$f":"IF('Maklumat Umum'!C58=\"\",\"\",'Maklumat Umum'!C58)","v":""},{"$f":"IF('Maklumat Umum'!D58=\"\",\"\",'Maklumat Umum'!D58)","v":""},null,null,null,null,null,null,null,null,null,null,null,null,null,null,null,null,null,null,null,null,null,null,null,null,null,null,null,null,null,null,null,"","","","","",null,0,0,0]
[37,{"$f":"IF('Maklumat Umum'!B59=\"\",\"\",'Maklumat Umum'!B59)","v":""},{"$f":"IF('Maklumat Umum'!C59=\"\",\"\",'Maklumat Umum'!C59)","v":""},null,null,null,null,null,null,null,null,null,null,null,null,null,null,null,null,null,null,null,null,null,null,null,null,null,null,null,null,null,null,null,null,"","","","","",null,0,0,0]
[38,{"$f":"IF('Maklumat Umum'!B60=\"\",\"\",'Maklumat Umum'!B60)","v":""},{"$f":"IF('Maklumat Umum'!C60=\"\",\"\",'Maklumat Umum'!C60)","v":""},null,null,null,null,null,null,null,null,null,null,null,null,null,null,null,null,null,null,null,null,null,null,null,null,null,null,null,null,null,null,null,null,"","","","","",null,0,0,0]
[39,{"$f":"IF('Maklumat Umum'!B61=\"\",\"\",'Maklumat Umum'!B61)","v":""},{"$f":"IF('Maklumat Umum'!C61=\"\",\"\",'Maklumat Umum'!C61)","v":""},null,null,null,null,null,null,null,null,null,null,null,null,null,null,null,null,null,null,null,null,null,null,null,null,null,null,null,null,null,null,null,null,"","","","","",null,0,0,0]
[40,{"$f":"IF('Maklumat Umum'!B62=\"\",\"\",'Maklumat Umum'!B62)","v":""},{"$f":"IF('Maklumat Umum'!C62=\"\",\"\",'Maklumat Umum'!C62)","v":""},null,null,null,null,null,null,null,null,null,null,null,null,null,null,null,null,null,null,null,null,null,null,null,null,null,null,null,null,null,null,null,null,"","","","","",null,0,0,0]
[41,{"$f":"IF('Maklumat Umum'!B63=\"\",\"\",'Maklumat Umum'!B63)","v":""},{"$f":"IF('Maklumat Umum'!C63=\"\",\"\",'Maklumat Umum'!C63)","v":""},{"$f":"IF('Maklumat Umum'!D63=\"\",\"\",'Maklumat Umum'!D63)","v":""},null,null,null,null,null,null,null,null,null,null,null,null,null,null,null,null,null,null,null,null,null,null,null,null,null,null,null,null,null,null,null,"","","","","",null,0,0,0]
[42,{"$f":"IF('Maklumat Umum'!B64=\"\",\"\",'Maklumat Umum'!B64)","v":""},{"$f":"IF('Maklumat Umum'!C64=\"\",\"\",'Maklumat Umum'!C64)","v":""},null,null,null,null,null,null,null,null,null,null,null,null,null,null,null,null,null,null,null,null,null,null,null,null,null,null,null,null,null,null,null,null,"","","","","",null,0,0,0]
[43,{"$f":"IF('Maklumat Umum'!B65=\"\",\"\",'Maklumat Umum'!B65)","v":""},{"$f":"IF('Maklumat Umum'!C65=\"\",\"\",'Maklumat Umum'!C65)","v":""},null,null,null,null,null,null,null,null,null,null,null,null,null,null,null,null,null,null,null,null,null,null,null,null,null,null,null,null,null,null,null,null,"","","","","",null,0,0,0]
[44,{"$f":"IF('Maklumat Umum'!B66=\"\",\"\",'Maklumat Umum'!B66)","v":""},{"$f":"IF('Maklumat Umum'!C66=\"\",\"\",'Maklumat Umum'!C66)","v":""},null,null,null,null,null,null,null,null,null,null,null,null,null,null,null,null,null,null,null,null,null,null,null,null,null,null,null,null,null,null,null,null,"","","","","",null,0,0,0]
[45,{"$f":"IF('Maklumat Umum'!B67=\"\",\"\",'Maklumat Umum'!B67)","v":""},{"$f":"IF('Maklumat Umum'!C67=\"\",\"\",'Maklumat Umum'!C67)","v":""},null,null,null,null,null,null,null,null,null,null,null,null,null,null,null,null,null,null,null,null,null,null,null,null,null,null,null,null,null,null,null,null,"","","","","",null,0,0,0]
[46,{"$f":"IF('Maklumat Umum'!B68=\"\",\"\",'Maklumat Umum'!B68)","v":""},{"$f":"IF('Maklumat Umum'!C68=\"\",\"\",'Maklumat Umum'!C68)","v":""},{"$f":"IF('Maklumat Umum'!D68=\"\",\"\",'Maklumat Umum'!D68)","v":""},null,null,null,null,null,null,null,null,null,null,null,null,null,null,null,null,null,null,null,null,null,null,null,null,null,null,null,null,null,null,null,"","","","","",null,0,0,0]
[47,{"$f":"IF('Maklumat Umum'!B69=\"\",\"\",'Maklumat Umum'!B69)","v":""},{"$f":"IF('Maklumat Umum'!C69=\"\",\"\",'Maklumat Umum'!C69)","v":""},null,null,null,null,null,null,null,null,null,null,null,null,null,null,null,null,null,null,null,null,null,null,null,null,null,null,null,null,null,null,null,null,"","","","","",null,0,0,0]
[48,{"$f":"IF('Maklumat Umum'!B70=\"\",\"\",'Maklumat Umum'!B70)","v":""},{"$f":"IF('Maklumat Umum'!C70=\"\",\"\",'Maklumat Umum'!C70)","v":""},null,null,null,null,null,null,null,null,null,null,null,null,null,null,null,null,null,null,null,null,null,null,null,null,null,null,null,null,null,null,null,null,"","","","","",null,0,0,0]
[49,{"$f":"IF('Maklumat Umum'!B71=\"\",\"\",'Maklumat Umum'!B71)","v":""},{"$f":"IF('Maklumat Umum'!C71=\"\",\"\",'Maklumat Umum'!C71)","v":""},null,null,null,null,null,null,null,null,null,null,null,null,null,null,null,null,null,null,null,null,null,null,null,null,null,null,null,null,null,null,null,null,{"$f":"IF(COUNTBLANK(E71:AI71)=31,\"\",AP71+AQ71+AR71)","v":""},{"$f":"IF(COUNTBLANK(E71:AI71)=31,\"\",IF(SUM(E71:AI71)+AJ71>20,20,SUM(E71:AI71)+AJ71))","v":""},"","","",null,0,0,0]
[50,{"$f":"IF('Maklumat Umum'!B72=\"\",\"\",'Maklumat Umum'!B72)","v":""},{"$f":"IF('Maklumat Umum'!C72=\"\",\"\",'Maklumat Umum'!C72)","v":""},null,null,null,null,null,null,null,null,null,null,null,null,null,null,null,null,null,null,null,null,null,null,null,null,null,null,null,null,null,null,null,null,{"$f":"IF(COUNTBLANK(E72:AI72)=31,\"\",AP72+AQ72+AR72)","v":""},{"$f":"IF(COUNTBLANK(E72:AI72)=31,\"\",IF(SUM(E72:AI72)+AJ72>20,20,SUM(E72:AI72)+AJ72))","v":""},"","","",null,{"$f":"IF(COUNTIF(E72:AI72,\"CS\")>14,14,COUNTIF(E72:AI72,\"CS\"))","v":0},{"$f":"COUNTIF(E72:AI72,\"CK\")","v":0},{"$f":"COUNTIF(E72:AI72,\"CU\")","v":0}]
[51,{"$f":"IF('Maklumat Umum'!B73=\"\",\"\",'Maklumat Umum'!B73)","v":""},{"$f":"IF('Maklumat Umum'!C73=\"\",\"\",'Maklumat Umum'!C73)","v":""},{"$f":"IF('Maklumat Umum'!D73=\"\",\"\",'Maklumat Umum'!D73)","v":""},null,null,null,null,null,null,null,null,null,null,null,null,null,null,null,null,null,null,null,null,null,null,null,null,null,null,null,null,null,null,null,{"$f":"IF(COUNTBLANK(E73:AI73)=31,\"\",AP73+AQ73+AR73)","v":""},{"$f":"IF(COUNTBLANK(E73:AI73)=31,\"\",IF(SUM(E73:AI73)+AJ73>20,20,SUM(E73:AI73)+AJ73))","v":""},"","","",null,{"$f":"IF(COUNTIF(E73:AI73,\"CS\")>14,14,COUNTIF(E73:AI73,\"CS\"))","v":0},{"$f":"COUNTIF(E73:AI73,\"CK\")","v":0},{"$f":"COUNTIF(E73:AI73,\"CU\")","v":0}]
[52,{"$f":"IF('Maklumat Umum'!B74=\"\",\"\",'Maklumat Umum'!B74)","v":""},{"$f":"IF('Maklumat Umum'!C74=\"\",\"\",'Maklumat Umum'!C74)","v":""},null,null,null,null,null,null,null,null,null,null,null,null,null,null,null,null,null,null,null,null,null,null,null,null,null,null,null,null,null,null,null,null,{"$f":"IF(COUNTBLANK(E74:AI74)=31,\"\",AP74+AQ74+AR74)","v":""},{"$f":"IF(COUNTBLANK(E74:AI74)=31,\"\",IF(SUM(E74:AI74)+AJ74>20,20,SUM(E74:AI74)+AJ74))","v":""},"","","",null,{"$f":"IF(COUNTIF(E74:AI74,\"CS\")>14,14,COUNTIF(E74:AI74,\"CS\"))","v":0},{"$f":"COUNTIF(E74:AI74,\"CK\")","v":0},{"$f":"COUNTIF(E74:AI74,\"CU\")","v":0}]
[53,{"$f":"IF('Maklumat Umum'!B75=\"\",\"\",'Maklumat Umum'!B75)","v":""},{"$f":"IF('Maklumat Umum'!C75=\"\",\"\",'Maklumat Umum'!C75)","v":""},null,null,null,null,null,null,null,null,null,null,null,null,null,null,null,null,null,null,null,null,null,null,null,null,null,null,null,null,null,null,null,null,"","","","","",null,0,0,0]
[54,{"$f":"IF('Maklumat Umum'!B76=\"\",\"\",'Maklumat Umum'!B76)","v":""},{"$f":"IF('Maklumat Umum'!C76=\"\",\"\",'Maklumat Umum'!C76)","v":""},null,null,null,null,null,null,null,null,null,null,null,null,null,null,null,null,null,null,null,null,null,null,null,null,null,null,null,null,null,null,null,null,"","","","","",null,0,0,0]
[55,{"$f":"IF('Maklumat Umum'!B77=\"\",\"\",'Maklumat Umum'!B77)","v":""},{"$f":"IF('Maklumat Umum'!C77=\"\",\"\",'Maklumat Umum'!C77)","v":""},null,null,null,null,null,null,null,null,null,null,null,null,null,null,null,null,null,null,null,null,null,null,null,null,null,null,null,null,null,null,null,null,"","","","","",null,0,0,0]
[56,{"$f":"IF('Maklumat Umum'!B78=\"\",\"\",'Maklumat Umum'!B78)","v":""},{"$f":"IF('Maklumat Umum'!C78=\"\",\"\",'Maklumat Umum'!C78)","v":""},{"$f":"IF('Maklumat Umum'!D78=\"\",\"\",'Maklumat Umum'!D78)","v":""},null,null,null,null,null,null,null,null,null,null,null,null,null,null,null,null,null,null,null,null,null,null,null,null,null,null,null,null,null,null,null,"","","","","",null,0,0,0]
[57,{"$f":"IF('Maklumat Umum'!B79=\"\",\"\",'Maklumat Umum'!B79)","v":""},{"$f":"IF('Maklumat Umum'!C79=\"\",\"\",'Maklumat Umum'!C79)","v":""},null,null,null,null,null,null,null,null,null,null,null,null,null,null,null,null,null,null,null,null,null,null,null,null,null,null,null,null,null,null,null,null,"","","","","",null,0,0,0]
[58,{"$f":"IF('Maklumat Umum'!B80=\"\",\"\",'Maklumat Umum'!B80)","v":""},{"$f":"IF('Maklumat Umum'!C80=\"\",\"\",'Maklumat Umum'!C80)","v":""},null,null,null,null,null,null,null,null,null,null,null,null,null,null,null,null,null,null,null,null,null,null,null,null,null,null,null,null,null,null,null,null,"","","","","",null,0,0,0]
[59,{"$f":"IF('Maklumat Umum'!B81=\"\",\"\",'Maklumat Umum'!B81)","v":""},{"$f":"IF('Maklumat Umum'!C81=\"\",\"\",'Maklumat Umum'!C81)","v":""},null,null,null,null,null,null,null,null,null,null,null,null,null,null,null,null,null,null,null,null,null,null,null,null,null,null,null,null,null,null,null,null,"","","","","",null,0,0,0]
[60,{"$f":"IF('Maklumat Umum'!B82=\"\",\"\",'Maklumat Umum'!B82)","v":""},{"$f":"IF('Maklumat Umum'!C82=\"\",\"\",'Maklumat Umum'!C82)","v":""},null,null,null,null,null,null,null,null,null,null,null,null,null,null,null,null,null,null,null,null,null,null,null,null,null,null,null,null,null,null,null,null,"","","","","",null,0,0,0]
[61,{"$f":"IF('Maklumat Umum'!B83=\"\",\"\",'Maklumat Umum'!B83)","v":""},{"$f":"IF('Maklumat Umum'!C83=\"\",\"\",'Maklumat Umum'!C83)","v":""},{"$f":"IF('Maklumat Umum'!D83=\"\",\"\",'Maklumat Umum'!D83)","v":""},null,null,null,null,null,null,null,null,null,null,null,null,null,null,null,null,null,null,null,null,null,null,null,null,null,null,null,null,null,null,null,"","","","","",null,0,0,0]
[62,{"$f":"IF('Maklumat Umum'!B84=\"\",\"\",'Maklumat Umum'!B84)","v":""},{"$f":"IF('Maklumat Umum'!C84=\"\",\"\",'Maklumat Umum'!C84)","v":""},null,null,null,null,null,null,null,null,null,null,null,null,null,null,null,null,null,null,null,null,null,null,null,null,null,null,null,null,null,null,null,null,"","","","","",null,0,0,0]
[63,{"$f":"IF('Maklumat Umum'!B85=\"\",\"\",'Maklumat Umum'!B85)","v":""},{"$f":"IF('Maklumat Umum'!C85=\"\",\"\",'Maklumat Umum'!C85)","v":""},null,null,null,null,null,null,null,null,null,null,null,null,null,null,null,null,null,null,null,null,null,null,null,null,null,null,null,null,null,null,null,null,"","","","","",null,0,0,0]
[64,{"$f":"IF('Maklumat Umum'!B86=\"\",\"\",'Maklumat Umum'!B86)","v":""},{"$f":"IF('Maklumat Umum'!C86=\"\",\"\",'Maklumat Umum'!C86)","v":""},null,null,null,null,null,null,null,null,null,null,null,null,null,null,null,null,null,null,null,null,null,null,null,null,null,null,null,null,null,null,null,null,"","","","","",null,0,0,0]
[65,{"$f":"IF('Maklumat Umum'!B87=\"\",\"\",'Maklumat Umum'!B87)","v":""},{"$f":"IF('Maklumat Umum'!C87=\"\",\"\",'Maklumat Umum'!C87)","v":""},null,null,null,null,null,null,null,null,null,null,null,null,null,null,null,null,null,null,null,null,null,null,null,null,null,null,null,null,null,null,null,null,"","",{"$f":"IF(COUNTBLANK(E87:AI87)=31,\"\",IF(AK87<16,0,AK87*25))","v":""},{"$f":"IF(AL87=\"\",\"\",IF(AL87=0,AK87*15,(AL87/0.5)*0.3))","v":""},{"$f":"IF(AL87=\"\",\"\",IF(AL87=0,AK87*10,(AL87/0.5)*0.2))","v":""},null,0,0,0]
[66,{"$f":"IF('Maklumat Umum'!B88=\"\",\"\",'Maklumat Umum'!B88)","v":""},{"$f":"IF('Maklumat Umum'!C88=\"\",\"\",'Maklumat Umum'!C88)","v":""},{"$f":"IF('Maklumat Umum'!D88=\"\",\"\",'Maklumat Umum'!D88)","v":""},null,null,null,null,null,null,null,null,null,null,null,null,null,null,null,null,null,null,null,null,null,null,null,null,null,null,null,null,null,null,null,"","","","","",null,0,0,0]
[67,{"$f":"IF('Maklumat Umum'!B89=\"\",\"\",'Maklumat Umum'!B89)","v":""},{"$f":"IF('Maklumat Umum'!C89=\"\",\"\",'Maklumat Umum'!C89)","v":""},null,null,null,null,null,null,null,null,null,null,null,null,null,null,null,null,null,null,null,null,null,null,null,null,null,null,null,null,null,null,null,null,"","","","","",null,0,0,0]
[68,{"$f":"IF('Maklumat Umum'!B90=\"\",\"\",'Maklumat Umum'!B90)","v":""},{"$f":"IF('Maklumat Umum'!C90=\"\",\"\",'Maklumat Umum'!C90)","v":""},null,null,null,null,null,null,null,null,null,null,null,null,null,null,null,null,null,null,null,null,null,null,null,null,null,null,null,null,null,null,null,null,"","","","","",null,0,0,0]
[69,{"$f":"IF('Maklumat Umum'!B91=\"\",\"\",'Maklumat Umum'!B91)","v":""},{"$f":"IF('Maklumat Umum'!C91=\"\",\"\",'Maklumat Umum'!C91)","v":""},null,null,null,null,null,null,null,null,null,null,null,null,null,null,null,null,null,null,null,null,null,null,null,null,null,null,null,null,null,null,null,null,"","","","","",null,0,0,0]
[70,{"$f":"IF('Maklumat Umum'!B92=\"\",\"\",'Maklumat Umum'!B92)","v":""},{"$f":"IF('Maklumat Umum'!C92=\"\",\"\",'Maklumat Umum'!C92)","v":""},null,null,null,null,null,null,null,null,null,null,null,null,null,null,null,null,null,null,null,null,null,null,null,null,null,null,null,null,null,null,null,null,"","","","","",null,0,0,0]
[71,{"$f":"IF('Maklumat Umum'!B93=\"\",\"\",'Maklumat Umum'!B93)","v":""},{"$f":"IF('Maklumat Umum'!C93=\"\",\"\",'Maklumat Umum'!C93)","v":""},{"$f":"IF('Maklumat Umum'!D93=\"\",\"\",'Maklumat Umum'!D93)","v":""},null,null,null,null,null,null,null,null,null,null,null,null,null,null,null,null,null,null,null,null,null,null,null,null,null,null,null,null,null,null,null,"","","","","",null,0,0,0]
[72,{"$f":"IF('Maklumat Umum'!B94=\"\",\"\",'Maklumat Umum'!B94)","v":""},{"$f":"IF('Maklumat Umum'!C94=\"\",\"\",'Maklumat Umum'!C94)","v":""},null,null,null,null,null,null,null,null,null,null,null,null,null,null,null,null,null,null,null,null,null,null,null,null,null,null,null,null,null,null,null,null,"","","","","",null,0,0,0]
[73,{"$f":"IF('Maklumat Umum'!B95=\"\",\"\",'Maklumat Umum'!B95)","v":""},{"$f":"IF('Maklumat Umum'!C95=\"\",\"\",'Maklumat Umum'!C95)","v":""},null,null,null,null,null,null,null,null,null,null,null,null,null,null,null,null,null,null,null,null,null,null,null,null,null,null,null,null,null,null,null,null,"","","","","",null,0,0,0]
[74,{"$f":"IF('Maklumat Umum'!B96=\"\",\"\",'Maklumat Umum'!B96)","v":""},{"$f":"IF('Maklumat Umum'!C96=\"\",\"\",'Maklumat Umum'!C96)","v":""},null,null,null,null,null,null,null,null,null,null,null,null,null,null,null,null,null,null,null,null,null,null,null,null,null,null,null,null,null,null,null,null,{"$f":"IF(COUNTBLANK(E96:AI96)=31,\"\",AP96+AQ96+AR96)","v":""},{"$f":"IF(COUNTBLANK(E96:AI96)=31,\"\",IF(SUM(E96:AI96)+AJ96>20,20,SUM(E96:AI96)+AJ96))","v":""},"","","",null,0,0,0]
[75,{"$f":"IF('Maklumat Umum'!B97=\"\",\"\",'Maklumat Umum'!B97)","v":""},{"$f":"IF('Maklumat Umum'!C97=\"\",\"\",'Maklumat Umum'!C97)","v":""},null,null,null,null,null,null,null,null,null,null,null,null,null,null,null,null,null,null,null,null,null,null,null,null,null,null,null,null,null,null,null,null,{"$f":"IF(COUNTBLANK(E97:AI97)=31,\"\",AP97+AQ97+AR97)","v":""},{"$f":"IF(COUNTBLANK(E97:AI97)=31,\"\",IF(SUM(E97:AI97)+AJ97>20,20,SUM(E97:AI97)+AJ97))","v":""},"","","",null,{"$f":"IF(COUNTIF(E97:AI97,\"CS\")>14,14,COUNTIF(E97:AI97,\"CS\"))","v":0},{"$f":"COUNTIF(E97:AI97,\"CK\")","v":0},{"$f":"COUNTIF(E97:AI97,\"CU\")","v":0}]
[76,{"$f":"IF('Maklumat Umum'!B98=\"\",\"\",'Maklumat Umum'!B98)","v":""},{"$f":"IF('Maklumat Umum'!C98=\"\",\"\",'Maklumat Umum'!C98)","v":""},{"$f":"IF('Maklumat Umum'!D98=\"\",\"\",'Maklumat Umum'!D98)","v":""},null,null,null,null,null,null,null,null,null,null,null,null,null,null,null,null,null,null,null,null,null,null,null,null,null,null,null,null,null,null,null,{"$f":"IF(COUNTBLANK(E98:AI98)=31,\"\",AP98+AQ98+AR98)","v":""},{"$f":"IF(COUNTBLANK(E98:AI98)=31,\"\",IF(SUM(E98:AI98)+AJ98>20,20,SUM(E98:AI98)+AJ98))","v":""},"","","",null,{"$f":"IF(COUNTIF(E98:AI98,\"CS\")>14,14,COUNTIF(E98:AI98,\"CS\"))","v":0},{"$f":"COUNTIF(E98:AI98,\"CK\")","v":0},{"$f":"COUNTIF(E98:AI98,\"CU\")","v":0}]
[77,{"$f":"IF('Maklumat Umum'!B99=\"\",\"\",'Maklumat Umum'!B99)","v":""},{"$f":"IF('Maklumat Umum'!C99=\"\",\"\",'Maklumat Umum'!C99)","v":""},null,null,null,null,null,null,null,null,null,null,null,null,null,null,null,null,null,null,null,null,null,null,null,null,null,null,null,null,null,null,null,null,{"$f":"IF(COUNTBLANK(E99:AI99)=31,\"\",AP99+AQ99+AR99)","v":""},{"$f":"IF(COUNTBLANK(E99:AI99)=31,\"\",IF(SUM(E99:AI99)+AJ99>20,20,SUM(E99:AI99)+AJ99))","v":""},"","","",null,{"$f":"IF(COUNTIF(E99:AI99,\"CS\")>14,14,COUNTIF(E99:AI99,\"CS\"))","v":0},{"$f":"COUNTIF(E99:AI99,\"CK\")","v":0},{"$f":"COUNTIF(E99:AI99,\"CU\")","v":0}]
[78,{"$f":"IF('Maklumat Umum'!B100=\"\",\"\",'Maklumat Umum'!B100)","v":""},{"$f":"IF('Maklumat Umum'!C100=\"\",\"\",'Maklumat Umum'!C100)","v":""},null,null,null,null,null,null,null,null,null,null,null,null,null,null,null,null,null,null,null,null,null,null,null,null,null,null,null,null,null,null,null,null,"","","","","",null,0,0,0]
[79,{"$f":"IF('Maklumat Umum'!B101=\"\",\"\",'Maklumat Umum'!B101)","v":""},{"$f":"IF('Maklumat Umum'!C101=\"\",\"\",'Maklumat Umum'!C101)","v":""},null,null,null,null,null,null,null,null,null,null,null,null,null,null,null,null,null,null,null,null,null,null,null,null,null,null,null,null,null,null,null,null,"","","","","",null,0,0,0]
[80,{"$f":"IF('Maklumat Umum'!B102=\"\",\"\",'Maklumat Umum'!B102)","v":""},{"$f":"IF('Maklumat Umum'!C102=\"\",\"\",'Maklumat Umum'!C102)","v":""},null,null,null,null,null,null,null,null,null,null,null,null,null,null,null,null,null,null,null,null,null,null,null,null,null,null,null,null,null,null,null,null,"","","","","",null,0,0,0]
[81,{"$f":"IF('Maklumat Umum'!B103=\"\",\"\",'Maklumat Umum'!B103)","v":""},{"$f":"IF('Maklumat Umum'!C103=\"\",\"\",'Maklumat Umum'!C103)","v":""},{"$f":"IF('Maklumat Umum'!D103=\"\",\"\",'Maklumat Umum'!D103)","v":""},null,null,null,null,null,null,null,null,null,null,null,null,null,null,null,null,null,null,null,null,null,null,null,null,null,null,null,null,null,null,null,"","","","","",null,0,0,0]
[82,{"$f":"IF('Maklumat Umum'!B104=\"\",\"\",'Maklumat Umum'!B104)","v":""},{"$f":"IF('Maklumat Umum'!C104=\"\",\"\",'Maklumat Umum'!C104)","v":""},null,null,null,null,null,null,null,null,null,null,null,null,null,null,null,null,null,null,null,null,null,null,null,null,null,null,null,null,null,null,null,null,"","","","","",null,0,0,0]
[83,{"$f":"IF('Maklumat Umum'!B105=\"\",\"\",'Maklumat Umum'!B105)","v":""},{"$f":"IF('Maklumat Umum'!C105=\"\",\"\",'Maklumat Umum'!C105)","v":""},null,null,null,null,null,null,null,null,null,null,null,null,null,null,null,null,null,null,null,null,null,null,null,null,null,null,null,null,null,null,null,null,"","","","","",null,0,0,0]
[84,{"$f":"IF('Maklumat Umum'!B106=\"\",\"\",'Maklumat Umum'!B106)","v":""},{"$f":"IF('Maklumat Umum'!C106=\"\",\"\",'Maklumat Umum'!C106)","v":""},null,null,null,null,null,null,null,null,null,null,null,null,null,null,null,null,null,null,null,null,null,null,null,null,null,null,null,null,null,null,null,null,"","","","","",null,0,0,0]
[85,{"$f":"IF('Maklumat Umum'!B107=\"\",\"\",'Maklumat Umum'!B107)","v":""},{"$f":"IF('Maklumat Umum'!C107=\"\",\"\",'Maklumat Umum'!C107)","v":""},null,null,null,null,null,null,null,null,null,null,null,null,null,null,null,null,null,null,null,null,null,null,null,null,null,null,null,null,null,null,null,null,"","","","","",null,0,0,0]
[86,{"$f":"IF('Maklumat Umum'!B108=\"\",\"\",'Maklumat Umum'!B108)","v":""},{"$f":"IF('Maklumat Umum'!C108=\"\",\"\",'Maklumat Umum'!C108)","v":""},{"$f":"IF('Maklumat Umum'!D108=\"\",\"\",'Maklumat Umum'!D108)","v":""},null,null,null,null,null,null,null,null,null,null,null,null,null,null,null,null,null,null,null,null,null,null,null,null,null,null,null,null,null,null,null,"","","","","",null,0,0,0]
[87,{"$f":"IF('Maklumat Umum'!B109=\"\",\"\",'Maklumat Umum'!B109)","v":""},{"$f":"IF('Maklumat Umum'!C109=\"\",\"\",'Maklumat Umum'!C109)","v":""},null,null,null,null,null,null,null,null,null,null,null,null,null,null,null,null,null,null,null,null,null,null,null,null,null,null,null,null,null,null,null,null,"","","","","",null,0,0,0]
[88,{"$f":"IF('Maklumat Umum'!B110=\"\",\"\",'Maklumat Umum'!B110)","v":""},{"$f":"IF('Maklumat Umum'!C110=\"\",\"\",'Maklumat Umum'!C110)","v":""},null,null,null,null,null,null,null,null,null,null,null,null,null,null,null,null,null,null,null,null,null,null,null,null,null,null,null,null,null,null,null,null,"","","","","",null,0,0,0]
[89,{"$f":"IF('Maklumat Umum'!B111=\"\",\"\",'Maklumat Umum'!B111)","v":""},{"$f":"IF('Maklumat Umum'!C111=\"\",\"\",'Maklumat Umum'!C111)","v":""},null,null,null,null,null,null,null,null,null,null,null,null,null,null,null,null,null,null,null,null,null,null,null,null,null,null,null,null,null,null,null,null,"","","","","",null,0,0,0]
[90,{"$f":"IF('Maklumat Umum'!B112=\"\",\"\",'Maklumat Umum'!B112)","v":""},{"$f":"IF('Maklumat Umum'!C112=\"\",\"\",'Maklumat Umum'!C112)","v":""},null,null,null,null,null,null,null,null,null,null,null,null,null,null,null,null,null,null,null,null,null,null,null,null,null,null,null,null,null,null,null,null,"","","","","",null,0,0,0]
[91,{"$f":"IF('Maklumat Umum'!B113=\"\",\"\",'Maklumat Umum'!B113)","v":""},{"$f":"IF('Maklumat Umum'!C113=\"\",\"\",'Maklumat Umum'!C113)","v":""},{"$f":"IF('Maklumat Umum'!D113=\"\",\"\",'Maklumat Umum'!D113)","v":""},null,null,null,null,null,null,null,null,null,null,null,null,null,null,null,null,null,null,null,null,null,null,null,null,null,null,null,null,null,null,null,"","","","","",null,0,0,0]
[92,{"$f":"IF('Maklumat Umum'!B114=\"\",\"\",'Maklumat Umum'!B114)","v":""},{"$f":"IF('Maklumat Umum'!C114=\"\",\"\",'Maklumat Umum'!C114)","v":""},null,null,null,null,null,null,null,null,null,null,null,null,null,null,null,null,null,null,null,null,null,null,null,null,null,null,null,null,null,null,null,null,"","","","","",null,0,0,0]
[93,{"$f":"IF('Maklumat Umum'!B115=\"\",\"\",'Maklumat Umum'!B115)","v":""},{"$f":"IF('Maklumat Umum'!C115=\"\",\"\",'Maklumat Umum'!C115)","v":""},null,null,null,null,null,null,null,null,null,null,null,null,null,null,null,null,null,null,null,null,null,null,null,null,null,null,null,null,null,null,null,null,"","","","","",null,0,0,0]
[94,{"$f":"IF('Maklumat Umum'!B116=\"\",\"\",'Maklumat Umum'!B116)","v":""},{"$f":"IF('Maklumat Umum'!C116=\"\",\"\",'Maklumat Umum'!C116)","v":""},null,null,null,null,null,null,null,null,null,null,null,null,null,null,null,null,null,null,null,null,null,null,null,null,null,null,null,null,null,null,null,null,"","","","","",null,0,0,0]
[95,{"$f":"IF('Maklumat Umum'!B117=\"\",\"\",'Maklumat Umum'!B117)","v":""},{"$f":"IF('Maklumat Umum'!C117=\"\",\"\",'Maklumat Umum'!C117)","v":""},null,null,null,null,null,null,null,null,null,null,null,null,null,null,null,null,null,null,null,null,null,null,null,null,null,null,null,null,null,null,null,null,"","","","","",null,0,0,0]
[96,{"$f":"IF('Maklumat Umum'!B118=\"\",\"\",'Maklumat Umum'!B118)","v":""},{"$f":"IF('Maklumat Umum'!C118=\"\",\"\",'Maklumat Umum'!C118)","v":""},{"$f":"IF('Maklumat Umum'!D118=\"\",\"\",'Maklumat Umum'!D118)","v":""},null,null,null,null,null,null,null,null,null,null,null,null,null,null,null,null,null,null,null,null,null,null,null,null,null,null,null,null,null,null,null,"","","","","",null,0,0,0]
[97,{"$f":"IF('Maklumat Umum'!B119=\"\",\"\",'Maklumat Umum'!B119)","v":""},{"$f":"IF('Maklumat Umum'!C119=\"\",\"\",'Maklumat Umum'!C119)","v":""},null,null,null,null,null,null,null,null,null,null,null,null,null,null,null,null,null,null,null,null,null,null,null,null,null,null,null,null,null,null,null,null,"","","","","",null,0,0,0]
[98,{"$f":"IF('Maklumat Umum'!B120=\"\",\"\",'Maklumat Umum'!B120)","v":""},{"$f":"IF('Maklumat Umum'!C120=\"\",\"\",'Maklumat Umum'!C120)","v":""},null,null,null,null,null,null,null,null,null,null,null,null,null,null,null,null,null,null,null,null,null,null,null,null,null,null,null,null,null,null,null,null,"","","","","",null,0,0,0]
[99,{"$f":"IF('Maklumat Umum'!B121=\"\",\"\",'Maklumat Umum'!B121)","v":""},{"$f":"IF('Maklumat Umum'!C121=\"\",\"\",'Maklumat Umum'!C121)","v":""},null,null,null,null,null,null,null,null,null,null,null,null,null,null,null,null,null,null,null,null,null,null,null,null,null,null,null,null,null,null,null,null,{"$f":"IF(COUNTBLANK(E121:AI121)=31,\"\",AP121+AQ121+AR121)","v":""},{"$f":"IF(COUNTBLANK(E121:AI121)=31,\"\",IF(SUM(E121:AI121)+AJ121>20,20,SUM(E121:AI121)+AJ121))","v":""},"","","",null,0,0,0]
[100,{"$f":"IF('Maklumat Umum'!B122=\"\",\"\",'Maklumat Umum'!B122)","v":""},{"$f":"IF('Maklumat Umum'!C122=\"\",\"\",'Maklumat Umum'!C122)","v":""},null,null,null,null,null,null,null,null,null,null,null,null,null,null,null,null,null,null,null,null,null,null,null,null,null,null,null,null,null,null,null,null,{"$f":"IF(COUNTBLANK(E122:AI122)=31,\"\",AP122+AQ122+AR122)","v":""},{"$f":"IF(COUNTBLANK(E122:AI122)=31,\"\",IF(SUM(E122:AI122)+AJ122>20,20,SUM(E122:AI122)+AJ122))","v":""},"","","",null,{"$f":"IF(COUNTIF(E122:AI122,\"CS\")>14,14,COUNTIF(E122:AI122,\"CS\"))","v":0},{"$f":"COUNTIF(E122:AI122,\"CK\")","v":0},{"$f":"COUNTIF(E122:AI122,\"CU\")","v":0}]
["Nota: PL perlu pastikan maklumat adalah tepat dan nama perantis mengikut Kad Pengenalan serta turutan dalam Pengesahan Pendaftaran Perantis SLDN",null,null,null,null,null,null,null,null,null,null,null,null,null,null,null,null,null,null,null,null,null,null,null,null,null,null,null,null,null,null,null,null,null,null,"JUM TUNTUTAN",null,{"$f":"SUM(AL23:AL122)","v":0},{"$f":"SUM(AM23:AM122)","v":0},{"$f":"SUM(AN23:AN122)","v":0},null,null,null,null,"Pejabat Wilayah hendaklah memindahkan Jumlah tuntutan elaun perantis ini ke dalam MySPIKE bagi tujuan pembayaran "]
[null,null,null,null,null,null,null,null,null,null,null,null,null,null,null,null,null,null,null,null,null,null,null,null,null,null,null,null,null,null,null,null,null,null,null,null,null,{"$f":"SUM(AL123:AN123)","v":0}]
["Dengan ini kami mengesahkan bahawa maklumat di atas adalah benar dan perantis sedang menjalani latihan di syarikat kerjasama/ penyedia latihan seperti yang telah ditetapkan."]
[]
["Disediakan oleh",null,null,null,null,null,null,null,null,null,null,null,null,null,"Disahkan oleh"]
[]
["…………………………………………….",null,null,null,null,null,null,null,null,null,null,null,null,null,"……………………………………………."]
["(Tandatangan Penyelaras Pusat Latihan)",null,null,null,null,null,null,null,null,null,null,null,"(Tandatangan Penyelaras Syarikat 1)",null,null,null,null,null,null,null,null,null,null,null,null,null,null,null,null,null,"(Tandatangan Penyelaras Syarikat 2)"]
["Nama:  ",null,null,null,null,null,null,null,null,null,null,null,"Nama:",null,null,null,null,null,null,null,null,null,null,null,null,null,null,null,null,null,"Nama:"]
["Tarikh:",null,null,null,null,null,null,null,null,null,null,null,"Tarikh:",null,null,null,null,null,null,null,null,null,null,null,null,null,null,null,null,null,"Tarikh:"]
[]
["PENGESAHAN PENGURUS PUSAT LATIHAN:",null,null,null,null,null,null,null,null,null,null,null,"(Tandatangan Penyelaras Syarikat 3)",null,null,null,null,null,null,null,null,null,null,null,null,null,null,null,null,null,"(Tandatangan Penyelaras Syarikat 4)"]
["Saya memperakukan kenyataan di atas adalah  benar",null,null,null,null,null,null,null,null,null,null,null,"Nama:",null,null,null,null,null,null,null,null,null,null,null,null,null,null,null,null,null,"Nama:"]
[null,null,null,null,null,null,null,null,null,null,null,null,"Tarikh:",null,null,null,null,null,null,null,null,null,null,null,null,null,null,null,null,null,"Tarikh:"]
["……………………………………………."]
["(Tandatangan Pengurus Pusat Latihan)",null,null,null,null,null,null,null,null,null,null,null,"(Tandatangan Penyelaras Syarikat 5)"]
[null,null,null,null,null,null,null,null,null,null,null,null,"Nama:"]
["Nama ",null,null,null,null,null,null,null,null,null,null,null,"Tarikh:"]
["No Kad Pengenalan (Pengurus Pusat Latihan)"]
["Tarikh:",null,null,"Cop Rasmi Pusat Latihan:"]

{"sheet":"Claim_page1_Jun23","index":12,"n_rows":24,"n_cols":5,"rows_kept":24,"cut":false,"hidden":false,"merged":[[0,0,0,3],[0,4,7,9],[1,1,1,2],[3,1,3,3],[4,1,4,3],[5,1,5,3],[6,0,6,3],[7,1,7,3],[18,0,18,3],[8,1,8,3],[9,1,9,3],[10,1,10,3],[11,1,11,3],[12,0,12,3],[13,1,13,3],[13,4,17,4],[14,1,14,3],[15,1,15,3],[16,1,16,3],[17,1,17,3]]}
[{"$f":"\"BORANG PERMOHONAN TUNTUTAN INSENTIF \" & CHAR(10)& 'Maklumat Umum'!H1000","v":"BORANG PERMOHONAN TUNTUTAN INSENTIF \nSISTEM LATIHAN DUAL NASIONAL (SLDN) BERINSENTIF 2023"}]
["BULAN:","JUN 2023"]
[]
["No Pengambilan:",{"$f":"'Maklumat Umum'!C11","v":0}]
["Tarikh Mula Latihan",{"$f":"'Maklumat Umum'!C13","v":"00:00:00"}]
["Tarikh Tamat Latihan",{"$f":"'Maklumat Umum'!C14","v":"2024-01-26"}]
["BAHAGIAN A. MAKLUMAT PEMOHON"]
["Nama Pusat Latihan / Syarikat Inhouse (seperti dalam Surat Tawaran/ Perjanjian)",{"$f":"FebXX!C5","v":0}]
["Kod Pusat Latihan / Syarikat Inhouse",{"$f":"FebXX!C6","v":0}]
["ID Rujukan Tawaran SLDN Plus ",{"$f":"'Maklumat Tuntutan'!B5","v":0},null,null,"Cth. JPK/SP/7099"]
["Nama Penyelaras Pusat Latihan/ Syarikat Inhouse",{"$f":"'Maklumat Tuntutan'!B6","v":0}]
["No. Kad Pengenalan",{"$f":"'Maklumat Tuntutan'!B7","v":0}]
["BAHAGIAN B. MAKLUMAT PENERIMA DAN AKAUN BAYARAN INSENTIF"]
["Nama Penerima Bayaran (Pusat Latihan / Syarikat Inhouse)",{"$f":"'Maklumat Tuntutan'!B9","v":0},null,null,"Akaun Bank Mesti Sama Dengan Akaun Yang Dinyatakan Dalam Dokumen Perjanjian"]
["Nama Bank Penerima",{"$f":"'Maklumat Tuntutan'!B10","v":0}]
["Nombor Akaun Bank Penerima",{"$f":"'Maklumat Tuntutan'!B11","v":0}]
["Cawangan Bank",{"$f":"'Maklumat Tuntutan'!B12","v":0}]
["Salinan Penyata Akaun Bank (Sila pastikan maklumat pada dokumen jelas dan terang)","Dilampirkan"]
["BAHAGIAN C. MAKLUMAT TUNTUTAN INSENTIF (BERDASARKAN REKOD KEHADIRAN PERANTIS)"]
["Butiran","Kadar sehari (RM)","%","Jumlah \n(RM)"]
["i.  Insentif Pusat Latihan",15,{"$f":"B21/(B$21+B$22+B$23)","v":0.3},{"$f":"'Jun23'!AM123","v":0}]
["ii.  Insentif Syarikat Kerjasama",10,{"$f":"B22/(B$21+B$22+B$23)","v":0.2},{"$f":"'Jun23'!AN123","v":0}]
["iii. Elaun Perantis",25,{"$f":"B23/(B$21+B$22+B$23)","v":0.5},{"$f":"'Jun23'!AL123","v":0}]
["JUMLAH",null,null,{"$f":"SUM(D21:D23)","v":0}]

{"sheet":"Jul23","index":13,"n_rows":142,"n_cols":45,"rows_kept":142,"cut":false,"hidden":false,"merged":[[0,0,0,40],[1,0,1,40],[2,16,2,20],[5,12,8,35],[15,1,16,2],[16,4,16,33],[17,0,21,0],[17,1,21,1],[17,2,21,2],[17,3,21,3],[17,4,17,33],[19,4,19,33],[47,3,51,3],[17,36,21,36],[17,37,17,39],[17,40,21,40],[18,37,21,37],[18,38,21,38],[18,39,21,39],[17,35,21,35],[22,3,26,3],[27,3,31,3],[32,3,36,3],[37,3,41,3],[42,3,46,3],[107,3,111,3],[52,3,56,3],[57,3,61,3],[62,3,66,3],[67,3,71,3],[72,3,76,3],[77,3,81,3],[82,3,86,3],[87,3,91,3],[92,3,96,3],[97,3,101,3],[102,3,106,3],[112,3,116,3],[117,3,121,3],[122,35,123,36],[122,44,126,50],[123,37,123,39]]}
["BORANG KEHADIRAN PERANTIS"]
[{"$f":"'Maklumat Umum'!H1000","v":"SISTEM LATIHAN DUAL NASIONAL (SLDN) BERINSENTIF 2023"}]
[null,null,null,null,null,null,null,null,null,null,null,null,null,"BULAN",null,null,"JUL 2023",null,null,null,null,null,null,null,null,null,null,null,null,null,null,null,null,null,null,null,"JPK/SP/02"]
[]
[null,"NAMA PUSAT LATIHAN",{"$f":"'Maklumat Umum'!C8","v":0},null,null,null,null,null,null,null,null,null,"Nota: "]
[null,"KOD PUSAT LATIHAN",{"$f":"'Maklumat Umum'!C9","v":0},null,null,null,null,null,null,null,null,null,"1. Bil maksimum hari latihan sebulan yang layak dibayar insentif adalah 20 hari termasuklah:\n(1) Cuti Sakit terhad kepada 14 hari sahaja  - Perlu sertakan Perakuan dari Klinik/Hospital\n(2) Cuti Kecemasan seperti kematian ahli keluarga, kebakaran, banjir dan lain-lain -  Perlu sertakan Surat Pihak Berkuasa Berkaitan (Klinik/Hospital, polis dll) \n(3) Cuti Umum Negeri atau Nasional\n(4) Cuti Kuarantin - Perlu sertakan kelulusan"]
[null,"NAMA PROGRAM",{"$f":"'Maklumat Umum'!C10","v":0}]
[null,"NO PENGAMBILAN",{"$f":"'Maklumat Umum'!C11","v":0}]
[null,"TARIKH MULA LATIHAN",{"$f":"'Maklumat Umum'!C13","v":"00:00:00"}]
[null,"TARIKH TAMAT LATIHAN",{"$f":"'Maklumat Umum'!C14","v":"2024-01-26"},null,null,null,null,null,null,null,null,null,"2. Kadar sehari elaun perantis adalah RM25"]
[null,"TEMPOH LATIHAN DILULUSKAN (BULAN)",{"$f":"'Maklumat Umum'!C12","v":0},null,null,null,null,null,null,null,null,null,"3. Perantis hanya layak dibayar jika kehadiran sekurang-kurangnya 80% (16 hari). PL dan syarikat dibayar mengikut bil hari perantis hadir"]
[]
[]
[]
[]
[null,"TARIKH BELUM DIISI"]
[null,null,null,null,"1 = Hadir            Kosongkan (Blank) = Tidak Hadir            CS = Cuti Sakit             CK = Cuti Kecemasan/Kurantin          CU = Cuti Umum"]
["BIL","Nama Perantis","No Kad \nPengenalan","Syarikat","BIL HARI LATIHAN",null,null,null,null,null,null,null,null,null,null,null,null,null,null,null,null,null,null,null,null,null,null,null,null,null,null,null,null,null,null,"Bil Hari\nCS,CK,\nCU Layak","Bil \nHari Boleh Dibayar","Tuntutan (RM)",null,null,"Tandatangan Perantis"]
[null,null,null,null,1,2,3,4,5,6,7,8,9,10,11,12,13,14,15,16,17,18,19,20,21,22,23,24,25,26,27,28,29,30,31,null,null,"Perantis","Pusat Latihan","Syarikat"]
[null,null,null,null,"TARIKH & HARI"]
[]
[]
[1,{"$f":"IF('Maklumat Umum'!B23=\"\",\"\",'Maklumat Umum'!B23)","v":""},{"$f":"IF('Maklumat Umum'!C23=\"\",\"\",'Maklumat Umum'!C23)","v":""},{"$f":"IF('Maklumat Umum'!D23=\"\",\"\",'Maklumat Umum'!D23)","v":""},null,null,null,null,null,null,null,null,null,null,null,null,null,null,null,null,null,null,null,null,null,null,null,null,null,null,null,null,null,null,null,{"$f":"IF(COUNTBLANK(E23:AI23)=31,\"\",AP23+AQ23+AR23)","v":""},{"$f":"IF(COUNTBLANK(E23:AI23)=31,\"\",IF(SUM(E23:AI23)+AJ23>20,20,SUM(E23:AI23)+AJ23))","v":""},{"$f":"IF(COUNTBLANK(E23:AI23)=31,\"\",IF(AK23<16,0,AK23*25))","v":""},{"$f":"IF(AL23=\"\",\"\",IF(AL23=0,AK23*15,(AL23/0.5)*0.3))","v":""},{"$f":"IF(AL23=\"\",\"\",IF(AL23=0,AK23*10,(AL23/0.5)*0.2))","v":""},null,{"$f":"IF(COUNTIF(E23:AI23,\"CS\")>14,14,COUNTIF(E23:AI23,\"CS\"))","v":0},{"$f":"COUNTIF(E23:AI23,\"CK\")","v":0},{"$f":"COUNTIF(E23:AI23,\"CU\")","v":0}]
[2,{"$f":"IF('Maklumat Umum'!B24=\"\",\"\",'Maklumat Umum'!B24)","v":""},{"$f":"IF('Maklumat Umum'!C24=\"\",\"\",'Maklumat Umum'!C24)","v":""},null,null,null,null,null,null,null,null,null,null,null,null,null,null,null,null,null,null,null,null,null,null,null,null,null,null,null,null,null,null,null,null,{"$f":"IF(COUNTBLANK(E24:AI24)=31,\"\",AP24+AQ24+AR24)","v":""},{"$f":"IF(COUNTBLANK(E24:AI24)=31,\"\",IF(SUM(E24:AI24)+AJ24>20,20,SUM(E24:AI24)+AJ24))","v":""},"","","",null,{"$f":"IF(COUNTIF(E24:AI24,\"CS\")>14,14,COUNTIF(E24:AI24,\"CS\"))","v":0},{"$f":"COUNTIF(E24:AI24,\"CK\")","v":0},{"$f":"COUNTIF(E24:AI24,\"CU\")","v":0}]
[3,{"$f":"IF('Maklumat Umum'!B25=\"\",\"\",'Maklumat Umum'!B25)","v":""},{"$f":"IF('Maklumat Umum'!C25=\"\",\"\",'Maklumat Umum'!C25)","v":""},null,null,null,null,null,null,null,null,null,null,null,null,null,null,null,null,null,null,null,null,null,null,null,null,null,null,null,null,null,null,null,null,"","","","","",null,0,0,0]
[4,{"$f":"IF('Maklumat Umum'!B26=\"\",\"\",'Maklumat Umum'!B26)","v":""},{"$f":"IF('Maklumat Umum'!C26=\"\",\"\",'Maklumat Umum'!C26)","v":""},null,null,null,null,null,null,null,null,null,null,null,null,null,null,null,null,null,null,null,null,null,null,null,null,null,null,null,null,null,null,null,null,"","","","","",null,0,0,0]
[5,{"$f":"IF('Maklumat Umum'!B27=\"\",\"\",'Maklumat Umum'!B27)","v":""},{"$f":"IF('Maklumat Umum'!C27=\"\",\"\",'Maklumat Umum'!C27)","v":""},null,null,null,null,null,null,null,null,null,null,null,null,null,null,null,null,null,null,null,null,null,null,null,null,null,null,null,null,null,null,null,null,"","","","","",null,0,0,0]
[6,{"$f":"IF('Maklumat Umum'!B28=\"\",\"\",'Maklumat Umum'!B28)","v":""},{"$f":"IF('Maklumat Umum'!C28=\"\",\"\",'Maklumat Umum'!C28)","v":""},{"$f":"IF('Maklumat Umum'!D28=\"\",\"\",'Maklumat Umum'!D28)","v":""},null,null,null,null,null,null,null,null,null,null,null,null,null,null,null,null,null,null,null,null,null,null,null,null,null,null,null,null,null,null,null,"","","","","",null,0,0,0]
[7,{"$f":"IF('Maklumat Umum'!B29=\"\",\"\",'Maklumat Umum'!B29)","v":""},{"$f":"IF('Maklumat Umum'!C29=\"\",\"\",'Maklumat Umum'!C29)","v":""},null,null,null,null,null,null,null,null,null,null,null,null,null,null,null,null,null,null,null,null,null,null,null,null,null,null,null,null,null,null,null,null,"","","","","",null,0,0,0]
[8,{"$f":"IF('Maklumat Umum'!B30=\"\",\"\",'Maklumat Umum'!B30)","v":""},{"$f":"IF('Maklumat Umum'!C30=\"\",\"\",'Maklumat Umum'!C30)","v":""},null,null,null,null,null,null,null,null,null,null,null,null,null,null,null,null,null,null,null,null,null,null,null,null,null,null,null,null,null,null,null,null,"","","","","",null,0,0,0]
[9,{"$f":"IF('Maklumat Umum'!B31=\"\",\"\",'Maklumat Umum'!B31)","v":""},{"$f":"IF('Maklumat Umum'!C31=\"\",\"\",'Maklumat Umum'!C31)","v":""},null,null,null,null,null,null,null,null,null,null,null,null,null,null,null,null,null,null,null,null,null,null,null,null,null,null,null,null,null,null,null,null,"","","","","",null,0,0,0]
[10,{"$f":"IF('Maklumat Umum'!B32=\"\",\"\",'Maklumat Umum'!B32)","v":""},{"$f":"IF('Maklumat Umum'!C32=\"\",\"\",'Maklumat Umum'!C32)","v":""},null,null,null,null,null,null,null,null,null,null,null,null,null,null,null,null,null,null,null,null,null,null,null,null,null,null,null,null,null,null,null,null,"","","","","",null,0,0,0]
[11,{"$f":"IF('Maklumat Umum'!B33=\"\",\"\",'Maklumat Umum'!B33)","v":""},{"$f":"IF('Maklumat Umum'!C33=\"\",\"\",'Maklumat Umum'!C33)","v":""},{"$f":"IF('Maklumat Umum'!D33=\"\",\"\",'Maklumat Umum'!D33)","v":""},null,null,null,null,null,null,null,null,null,null,null,null,null,null,null,null,null,null,null,null,null,null,null,null,null,null,null,null,null,null,null,"","","","","",null,0,0,0]
[12,{"$f":"IF('Maklumat Umum'!B34=\"\",\"\",'Maklumat Umum'!B34)","v":""},{"$f":"IF('Maklumat Umum'!C34=\"\",\"\",'Maklumat Umum'!C34)","v":""},null,null,null,null,null,null,null,null,null,null,null,null,null,null,null,null,null,null,null,null,null,null,null,null,null,null,null,null,null,null,null,null,"","","","","",null,0,0,0]
[13,{"$f":"IF('Maklumat Umum'!B35=\"\",\"\",'Maklumat Umum'!B35)","v":""},{"$f":"IF('Maklumat Umum'!C35=\"\",\"\",'Maklumat Umum'!C35)","v":""},null,null,null,null,null,null,null,null,null,null,null,null,null,null,null,null,null,null,null,null,null,null,null,null,null,null,null,null,null,null,null,null,"","","","","",null,0,0,0]
[14,{"$f":"IF('Maklumat Umum'!B36=\"\",\"\",'Maklumat Umum'!B36)","v":""},{"$f":"IF('Maklumat Umum'!C36=\"\",\"\",'Maklumat Umum'!C36)","v":""},null,null,null,null,null,null,null,null,null,null,null,null,null,null,null,null,null,null,null,null,null,null,null,null,null,null,null,null,null,null,null,null,"","","","","",null,0,0,0]
[15,{"$f":"IF('Maklumat Umum'!B37=\"\",\"\",'Maklumat Umum'!B37)","v":""},{"$f":"IF('Maklumat Umum'!C37=\"\",\"\",'Maklumat Umum'!C37)","v":""},null,null,null,null,null,null,null,null,null,null,null,null,null,null,null,null,null,null,null,null,null,null,null,null,null,null,null,null,null,null,null,null,"","","","","",null,0,0,0]
[16,{"$f":"IF('Maklumat Umum'!B38=\"\",\"\",'Maklumat Umum'!B38)","v":""},{"$f":"IF('Maklumat Umum'!C38=\"\",\"\",'Maklumat Umum'!C38)","v":""},{"$f":"IF('Maklumat Umum'!D38=\"\",\"\",'Maklumat Umum'!D38)","v":""},null,null,null,null,null,null,null,null,null,null,null,null,null,null,null,null,null,null,null,null,null,null,null,null,null,null,null,null,null,null,null,"","","","","",null,0,0,0]
[17,{"$f":"IF('Maklumat Umum'!B39=\"\",\"\",'Maklumat Umum'!B39)","v":""},{"$f":"IF('Maklumat Umum'!C39=\"\",\"\",'Maklumat Umum'!C39)","v":""},null,null,null,null,null,null,null,null,null,null,null,null,null,null,null,null,null,null,null,null,null,null,null,null,null,null,null,null,null,null,null,null,"","","","","",null,0,0,0]
[18,{"$f":"IF('Maklumat Umum'!B40=\"\",\"\",'Maklumat Umum'!B40)","v":""},{"$f":"IF('Maklumat Umum'!C40=\"\",\"\",'Maklumat Umum'!C40)","v":""},null,null,null,null,null,null,null,null,null,null,null,null,null,null,null,null,null,null,null,null,null,null,null,null,null,null,null,null,null,null,null,null,"","","","","",null,0,0,0]
[19,{"$f":"IF('Maklumat Umum'!B41=\"\",\"\",'Maklumat Umum'!B41)","v":""},{"$f":"IF('Maklumat Umum'!C41=\"\",\"\",'Maklumat Umum'!C41)","v":""},null,null,null,null,null,null,null,null,null,null,null,null,null,null,null,null,null,null,null,null,null,null,null,null,null,null,null,null,null,null,null,null,"","","","","",null,0,0,0]
[20,{"$f":"IF('Maklumat Umum'!B42=\"\",\"\",'Maklumat Umum'!B42)","v":""},{"$f":"IF('Maklumat Umum'!C42=\"\",\"\",'Maklumat Umum'!C42)","v":""},null,null,null,null,null,null,null,null,null,null,null,null,null,null,null,null,null,null,null,null,null,null,null,null,null,null,null,null,null,null,null,null,"","","","","",null,0,0,0]
[21,{"$f":"IF('Maklumat Umum'!B43=\"\",\"\",'Maklumat Umum'!B43)","v":""},{"$f":"IF('Maklumat Umum'!C43=\"\",\"\",'Maklumat Umum'!C43)","v":""},{"$f":"IF('Maklumat Umum'!D43=\"\",\"\",'Maklumat Umum'!D43)","v":""},null,null,null,null,null,null,null,null,null,null,null,null,null,null,null,null,null,null,null,null,null,null,null,null,null,null,null,null,null,null,null,"","","","","",null,0,0,0]
[22,{"$f":"IF('Maklumat Umum'!B44=\"\",\"\",'Maklumat Umum'!B44)","v":""},{"$f":"IF('Maklumat Umum'!C44=\"\",\"\",'Maklumat Umum'!C44)","v":""},null,null,null,null,null,null,null,null,null,null,null,null,null,null,null,null,null,null,null,null,null,null,null,null,null,null,null,null,null,null,null,null,"","","","","",null,0,0,0]
[23,{"$f":"IF('Maklumat Umum'!B45=\"\",\"\",'Maklumat Umum'!B45)","v":""},{"$f":"IF('Maklumat Umum'!C45=\"\",\"\",'Maklumat Umum'!C45)","v":""},null,null,null,null,null,null,null,null,null,null,null,null,null,null,null,null,null,null,null,null,null,null,null,null,null,null,null,null,null,null,null,null,"","","","","",null,0,0,0]
[24,{"$f":"IF('Maklumat Umum'!B46=\"\",\"\",'Maklumat Umum'!B46)","v":""},{"$f":"IF('Maklumat Umum'!C46=\"\",\"\",'Maklumat Umum'!C46)","v":""},null,null,null,null,null,null,null,null,null,null,null,null,null,null,null,null,null,null,null,null,null,null,null,null,null,null,null,null,null,null,null,null,{"$f":"IF(COUNTBLANK(E46:AI46)=31,\"\",AP46+AQ46+AR46)","v":""},{"$f":"IF(COUNTBLANK(E46:AI46)=31,\"\",IF(SUM(E46:AI46)+AJ46>20,20,SUM(E46:AI46)+AJ46))","v":""},"","","",null,0,0,0]
[25,{"$f":"IF('Maklumat Umum'!B47=\"\",\"\",'Maklumat Umum'!B47)","v":""},{"$f":"IF('Maklumat Umum'!C47=\"\",\"\",'Maklumat Umum'!C47)","v":""},null,null,null,null,null,null,null,null,null,null,null,null,null,null,null,null,null,null,null,null,null,null,null,null,null,null,null,null,null,null,null,null,{"$f":"IF(COUNTBLANK(E47:AI47)=31,\"\",AP47+AQ47+AR47)","v":""},{"$f":"IF(COUNTBLANK(E47:AI47)=31,\"\",IF(SUM(E47:AI47)+AJ47>20,20,SUM(E47:AI47)+AJ47))","v":""},"","","",null,{"$f":"IF(COUNTIF(E47:AI47,\"CS\")>14,14,COUNTIF(E47:AI47,\"CS\"))","v":0},{"$f":"COUNTIF(E47:AI47,\"CK\")","v":0},{"$f":"COUNTIF(E47:AI47,\"CU\")","v":0}]
[26,{"$f":"IF('Maklumat Umum'!B48=\"\",\"\",'Maklumat Umum'!B48)","v":""},{"$f":"IF('Maklumat Umum'!C48=\"\",\"\",'Maklumat Umum'!C48)","v":""},{"$f":"IF('Maklumat Umum'!D48=\"\",\"\",'Maklumat Umum'!D48)","v":""},null,null,null,null,null,null,null,null,null,null,null,null,null,null,null,null,null,null,null,null,null,null,null,null,null,null,null,null,null,null,null,{"$f":"IF(COUNTBLANK(E48:AI48)=31,\"\",AP48+AQ48+AR48)","v":""},{"$f":"IF(COUNTBLANK(E48:AI48)=31,\"\",IF(SUM(E48:AI48)+AJ48>20,20,SUM(E48:AI48)+AJ48))","v":""},"","","",null,{"$f":"IF(COUNTIF(E48:AI48,\"CS\")>14,14,COUNTIF(E48:AI48,\"CS\"))","v":0},{"$f":"COUNTIF(E48:AI48,\"CK\")","v":0},{"$f":"COUNTIF(E48:AI48,\"CU\")","v":0}]
[27,{"$f":"IF('Maklumat Umum'!B49=\"\",\"\",'Maklumat Umum'!B49)","v":""},{"$f":"IF('Maklumat Umum'!C49=\"\",\"\",'Maklumat Umum'!C49)","v":""},null,null,null,null,null,null,null,null,null,null,null,null,null,null,null,null,null,null,null,null,null,null,null,null,null,null,null,null,null,null,null,null,{"$f":"IF(COUNTBLANK(E49:AI49)=31,\"\",AP49+AQ49+AR49)","v":""},{"$f":"IF(COUNTBLANK(E49:AI49)=31,\"\",IF(SUM(E49:AI49)+AJ49>20,20,SUM(E49:AI49)+AJ49))","v":""},"","","",null,{"$f":"IF(COUNTIF(E49:AI49,\"CS\")>14,14,COUNTIF(E49:AI49,\"CS\"))","v":0},{"$f":"COUNTIF(E49:AI49,\"CK\")","v":0},{"$f":"COUNTIF(E49:AI49,\"CU\")","v":0}]
[28,{"$f":"IF('Maklumat Umum'!B50=\"\",\"\",'Maklumat Umum'!B50)","v":""},{"$f":"IF('Maklumat Umum'!C50=\"\",\"\",'Maklumat Umum'!C50)","v":""},null,null,null,null,null,null,null,null,null,null,null,null,null,null,null,null,null,null,null,null,null,null,null,null,null,null,null,null,null,null,null,null,"","","","","",null,0,0,0]
[29,{"$f":"IF('Maklumat Umum'!B51=\"\",\"\",'Maklumat Umum'!B51)","v":""},{"$f":"IF('Maklumat Umum'!C51=\"\",\"\",'Maklumat Umum'!C51)","v":""},null,null,null,null,null,null,null,null,null,null,null,null,null,null,null,null,null,null,null,null,null,null,null,null,null,null,null,null,null,null,null,null,"","","","","",null,0,0,0]
[30,{"$f":"IF('Maklumat Umum'!B52=\"\",\"\",'Maklumat Umum'!B52)","v":""},{"$f":"IF('Maklumat Umum'!C52=\"\",\"\",'Maklumat Umum'!C52)","v":""},null,null,null,null,null,null,null,null,null,null,null,null,null,null,null,null,null,null,null,null,null,null,null,null,null,null,null,null,null,null,null,null,"","","","","",null,0,0,0]
[31,{"$f":"IF('Maklumat Umum'!B53=\"\",\"\",'Maklumat Umum'!B53)","v":""},{"$f":"IF('Maklumat Umum'!C53=\"\",\"\",'Maklumat Umum'!C53)","v":""},{"$f":"IF('Maklumat Umum'!D53=\"\",\"\",'Maklumat Umum'!D53)","v":""},null,null,null,null,null,null,null,null,null,null,null,null,null,null,null,null,null,null,null,null,null,null,null,null,null,null,null,null,null,null,null,"","","","","",null,0,0,0]
[32,{"$f":"IF('Maklumat Umum'!B54=\"\",\"\",'Maklumat Umum'!B54)","v":""},{"$f":"IF('Maklumat Umum'!C54=\"\",\"\",'Maklumat Umum'!C54)","v":""},null,null,null,null,null,null,null,null,null,null,null,null,null,null,null,null,null,null,null,null,null,null,null,null,null,null,null,null,null,null,null,null,"","","","","",null,0,0,0]
[33,{"$f":"IF('Maklumat Umum'!B55=\"\",\"\",'Maklumat Umum'!B55)","v":""},{"$f":"IF('Maklumat Umum'!C55=\"\",\"\",'Maklumat Umum'!C55)","v":""},null,null,null,null,null,null,null,null,null,null,null,null,null,null,null,null,null,null,null,null,null,null,null,null,null,null,null,null,null,null,null,null,"","","","","",null,0,0,0]
[34,{"$f":"IF('Maklumat Umum'!B56=\"\",\"\",'Maklumat Umum'!B56)","v":""},{"$f":"IF('Maklumat Umum'!C56=\"\",\"\",'Maklumat Umum'!C56)","v":""},null,null,null,null,null,null,null,null,null,null,null,null,null,null,null,null,null,null,null,null,null,null,null,null,null,null,null,null,null,null,null,null,"","","","","",null,0,0,0]
[35,{"$f":"IF('Maklumat Umum'!B57=\"\",\"\",'Maklumat Umum'!B57)","v":""},{"$f":"IF('Maklumat Umum'!C57=\"\",\"\",'Maklumat Umum'!C57)","v":""},null,null,null,null,null,null,null,null,null,null,null,null,null,null,null,null,null,null,null,null,null,null,null,null,null,null,null,null,null,null,null,null,"","","","","",null,0,0,0]
[36,{"$f":"IF('Maklumat Umum'!B58=\"\",\"\",'Maklumat Umum'!B58)","v":""},{"$f":"IF('Maklumat Umum'!C58=\"\",\"\",'Maklumat Umum'!C58)","v":""},{"$f":"IF('Maklumat Umum'!D58=\"\",\"\",'Maklumat Umum'!D58)","v":""},null,null,null,null,null,null,null,null,null,null,null,null,null,null,null,null,null,null,null,null,null,null,null,null,null,null,null,null,null,null,null,"","","","","",null,0,0,0]
[37,{"$f":"IF('Maklumat Umum'!B59=\"\",\"\",'Maklumat Umum'!B59)","v":""},{"$f":"IF('Maklumat Umum'!C59=\"\",\"\",'Maklumat Umum'!C59)","v":""},null,null,null,null,null,null,null,null,null,null,null,null,null,null,null,null,null,null,null,null,null,null,null,null,null,null,null,null,null,null,null,null,"","","","","",null,0,0,0]
[38,{"$f":"IF('Maklumat Umum'!B60=\"\",\"\",'Maklumat Umum'!B60)","v":""},{"$f":"IF('Maklumat Umum'!C60=\"\",\"\",'Maklumat Umum'!C60)","v":""},null,null,null,null,null,null,null,null,null,null,null,null,null,null,null,null,null,null,null,null,null,null,null,null,null,null,null,null,null,null,null,null,"","","","","",null,0,0,0]
[39,{"$f":"IF('Maklumat Umum'!B61=\"\",\"\",'Maklumat Umum'!B61)","v":""},{"$f":"IF('Maklumat Umum'!C61=\"\",\"\",'Maklumat Umum'!C61)","v":""},null,null,null,null,null,null,null,null,null,null,null,null,null,null,null,null,null,null,null,null,null,null,null,null,null,null,null,null,null,null,null,null,"","","","","",null,0,0,0]
[40,{"$f":"IF('Maklumat Umum'!B62=\"\",\"\",'Maklumat Umum'!B62)","v":""},{"$f":"IF('Maklumat Umum'!C62=\"\",\"\",'Maklumat Umum'!C62)","v":""},null,null,null,null,null,null,null,null,null,null,null,null,null,null,null,null,null,null,null,null,null,null,null,null,null,null,null,null,null,null,null,null,"","","","","",null,0,0,0]
[41,{"$f":"IF('Maklumat Umum'!B63=\"\",\"\",'Maklumat Umum'!B63)","v":""},{"$f":"IF('Maklumat Umum'!C63=\"\",\"\",'Maklumat Umum'!C63)","v":""},{"$f":"IF('Maklumat Umum'!D63=\"\",\"\",'Maklumat Umum'!D63)","v":""},null,null,null,null,null,null,null,null,null,null,null,null,null,null,null,null,null,null,null,null,null,null,null,null,null,null,null,null,null,null,null,"","","","","",null,0,0,0]
[42,{"$f":"IF('Maklumat Umum'!B64=\"\",\"\",'Maklumat Umum'!B64)","v":""},{"$f":"IF('Maklumat Umum'!C64=\"\",\"\",'Maklumat Umum'!C64)","v":""},null,null,null,null,null,null,null,null,null,null,null,null,null,null,null,null,null,null,null,null,null,null,null,null,null,null,null,null,null,null,null,null,"","","","","",null,0,0,0]
[43,{"$f":"IF('Maklumat Umum'!B65=\"\",\"\",'Maklumat Umum'!B65)","v":""},{"$f":"IF('Maklumat Umum'!C65=\"\",\"\",'Maklumat Umum'!C65)","v":""},null,null,null,null,null,null,null,null,null,null,null,null,null,null,null,null,null,null,null,null,null,null,null,null,null,null,null,null,null,null,null,null,"","","","","",null,0,0,0]
[44,{"$f":"IF('Maklumat Umum'!B66=\"\",\"\",'Maklumat Umum'!B66)","v":""},{"$f":"IF('Maklumat Umum'!C66=\"\",\"\",'Maklumat Umum'!C66)","v":""},null,null,null,null,null,null,null,null,null,null,null,null,null,null,null,null,null,null,null,null,null,null,null,null,null,null,null,null,null,null,null,null,"","","","","",null,0,0,0]
[45,{"$f":"IF('Maklumat Umum'!B67=\"\",\"\",'Maklumat Umum'!B67)","v":""},{"$f":"IF('Maklumat Umum'!C67=\"\",\"\",'Maklumat Umum'!C67)","v":""},null,null,null,null,null,null,null,null,null,null,null,null,null,null,null,null,null,null,null,null,null,null,null,null,null,null,null,null,null,null,null,null,"","","","","",null,0,0,0]
[46,{"$f":"IF('Maklumat Umum'!B68=\"\",\"\",'Maklumat Umum'!B68)","v":""},{"$f":"IF('Maklumat Umum'!C68=\"\",\"\",'Maklumat Umum'!C68)","v":""},{"$f":"IF('Maklumat Umum'!D68=\"\",\"\",'Maklumat Umum'!D68)","v":""},null,null,null,null,null,null,null,null,null,null,null,null,null,null,null,null,null,null,null,null,null,null,null,null,null,null,null,null,null,null,null,"","","","","",null,0,0,0]
[47,{"$f":"IF('Maklumat Umum'!B69=\"\",\"\",'Maklumat Umum'!B69)","v":""},{"$f":"IF('Maklumat Umum'!C69=\"\",\"\",'Maklumat Umum'!C69)","v":""},null,null,null,null,null,null,null,null,null,null,null,null,null,null,null,null,null,null,null,null,null,null,null,null,null,null,null,null,null,null,null,null,"","","","","",null,0,0,0]
[48,{"$f":"IF('Maklumat Umum'!B70=\"\",\"\",'Maklumat Umum'!B70)","v":""},{"$f":"IF('Maklumat Umum'!C70=\"\",\"\",'Maklumat Umum'!C70)","v":""},null,null,null,null,null,null,null,null,null,null,null,null,null,null,null,null,null,null,null,null,null,null,null,null,null,null,null,null,null,null,null,null,"","","","","",null,0,0,0]
[49,{"$f":"IF('Maklumat Umum'!B71=\"\",\"\",'Maklumat Umum'!B71)","v":""},{"$f":"IF('Maklumat Umum'!C71=\"\",\"\",'Maklumat Umum'!C71)","v":""},null,null,null,null,null,null,null,null,null,null,null,null,null,null,null,null,null,null,null,null,null,null,null,null,null,null,null,null,null,null,null,null,{"$f":"IF(COUNTBLANK(E71:AI71)=31,\"\",AP71+AQ71+AR71)","v":""},{"$f":"IF(COUNTBLANK(E71:AI71)=31,\"\",IF(SUM(E71:AI71)+AJ71>20,20,SUM(E71:AI71)+AJ71))","v":""},"","","",null,0,0,0]
[50,{"$f":"IF('Maklumat Umum'!B72=\"\",\"\",'Maklumat Umum'!B72)","v":""},{"$f":"IF('Maklumat Umum'!C72=\"\",\"\",'Maklumat Umum'!C72)","v":""},null,null,null,null,null,null,null,null,null,null,null,null,null,null,null,null,null,null,null,null,null,null,null,null,null,null,null,null,null,null,null,null,{"$f":"IF(COUNTBLANK(E72:AI72)=31,\"\",AP72+AQ72+AR72)","v":""},{"$f":"IF(COUNTBLANK(E72:AI72)=31,\"\",IF(SUM(E72:AI72)+AJ72>20,20,SUM(E72:AI72)+AJ72))","v":""},"","","",null,{"$f":"IF(COUNTIF(E72:AI72,\"CS\")>14,14,COUNTIF(E72:AI72,\"CS\"))","v":0},{"$f":"COUNTIF(E72:AI72,\"CK\")","v":0},{"$f":"COUNTIF(E72:AI72,\"CU\")","v":0}]
[51,{"$f":"IF('Maklumat Umum'!B73=\"\",\"\",'Maklumat Umum'!B73)","v":""},{"$f":"IF('Maklumat Umum'!C73=\"\",\"\",'Maklumat Umum'!C73)","v":""},{"$f":"IF('Maklumat Umum'!D73=\"\",\"\",'Maklumat Umum'!D73)","v":""},null,null,null,null,null,null,null,null,null,null,null,null,null,null,null,null,null,null,null,null,null,null,null,null,null,null,null,null,null,null,null,{"$f":"IF(COUNTBLANK(E73:AI73)=31,\"\",AP73+AQ73+AR73)","v":""},{"$f":"IF(COUNTBLANK(E73:AI73)=31,\"\",IF(SUM(E73:AI73)+AJ73>20,20,SUM(E73:AI73)+AJ73))","v":""},"","","",null,{"$f":"IF(COUNTIF(E73:AI73,\"CS\")>14,14,COUNTIF(E73:AI73,\"CS\"))","v":0},{"$f":"COUNTIF(E73:AI73,\"CK\")","v":0},{"$f":"COUNTIF(E73:AI73,\"CU\")","v":0}]
[52,{"$f":"IF('Maklumat Umum'!B74=\"\",\"\",'Maklumat Umum'!B74)","v":""},{"$f":"IF('Maklumat Umum'!C74=\"\",\"\",'Maklumat Umum'!C74)","v":""},null,null,null,null,null,null,null,null,null,null,null,null,null,null,null,null,null,null,null,null,null,null,null,null,null,null,null,null,null,null,null,null,{"$f":"IF(COUNTBLANK(E74:AI74)=31,\"\",AP74+AQ74+AR74)","v":""},{"$f":"IF(COUNTBLANK(E74:AI74)=31,\"\",IF(SUM(E74:AI74)+AJ74>20,20,SUM(E74:AI74)+AJ74))","v":""},"","","",null,{"$f":"IF(COUNTIF(E74:AI74,\"CS\")>14,14,COUNTIF(E74:AI74,\"CS\"))","v":0},{"$f":"COUNTIF(E74:AI74,\"CK\")","v":0},{"$f":"COUNTIF(E74:AI74,\"CU\")","v":0}]
[53,{"$f":"IF('Maklumat Umum'!B75=\"\",\"\",'Maklumat Umum'!B75)","v":""},{"$f":"IF('Maklumat Umum'!C75=\"\",\"\",'Maklumat Umum'!C75)","v":""},null,null,null,null,null,null,null,null,null,null,null,null,null,null,null,null,null,null,null,null,null,null,null,null,null,null,null,null,null,null,null,null,"","","","","",null,0,0,0]
[54,{"$f":"IF('Maklumat Umum'!B76=\"\",\"\",'Maklumat Umum'!B76)","v":""},{"$f":"IF('Maklumat Umum'!C76=\"\",\"\",'Maklumat Umum'!C76)","v":""},null,null,null,null,null,null,null,null,null,null,null,null,null,null,null,null,null,null,null,null,null,null,null,null,null,null,null,null,null,null,null,null,"","","","","",null,0,0,0]
[55,{"$f":"IF('Maklumat Umum'!B77=\"\",\"\",'Maklumat Umum'!B77)","v":""},{"$f":"IF('Maklumat Umum'!C77=\"\",\"\",'Maklumat Umum'!C77)","v":""},null,null,null,null,null,null,null,null,null,null,null,null,null,null,null,null,null,null,null,null,null,null,null,null,null,null,null,null,null,null,null,null,"","","","","",null,0,0,0]
[56,{"$f":"IF('Maklumat Umum'!B78=\"\",\"\",'Maklumat Umum'!B78)","v":""},{"$f":"IF('Maklumat Umum'!C78=\"\",\"\",'Maklumat Umum'!C78)","v":""},{"$f":"IF('Maklumat Umum'!D78=\"\",\"\",'Maklumat Umum'!D78)","v":""},null,null,null,null,null,null,null,null,null,null,null,null,null,null,null,null,null,null,null,null,null,null,null,null,null,null,null,null,null,null,null,"","","","","",null,0,0,0]
[57,{"$f":"IF('Maklumat Umum'!B79=\"\",\"\",'Maklumat Umum'!B79)","v":""},{"$f":"IF('Maklumat Umum'!C79=\"\",\"\",'Maklumat Umum'!C79)","v":""},null,null,null,null,null,null,null,null,null,null,null,null,null,null,null,null,null,null,null,null,null,null,null,null,null,null,null,null,null,null,null,null,"","","","","",null,0,0,0]
[58,{"$f":"IF('Maklumat Umum'!B80=\"\",\"\",'Maklumat Umum'!B80)","v":""},{"$f":"IF('Maklumat Umum'!C80=\"\",\"\",'Maklumat Umum'!C80)","v":""},null,null,null,null,null,null,null,null,null,null,null,null,null,null,null,null,null,null,null,null,null,null,null,null,null,null,null,null,null,null,null,null,"","","","","",null,0,0,0]
[59,{"$f":"IF('Maklumat Umum'!B81=\"\",\"\",'Maklumat Umum'!B81)","v":""},{"$f":"IF('Maklumat Umum'!C81=\"\",\"\",'Maklumat Umum'!C81)","v":""},null,null,null,null,null,null,null,null,null,null,null,null,null,null,null,null,null,null,null,null,null,null,null,null,null,null,null,null,null,null,null,null,"","","","","",null,0,0,0]
[60,{"$f":"IF('Maklumat Umum'!B82=\"\",\"\",'Maklumat Umum'!B82)","v":""},{"$f":"IF('Maklumat Umum'!C82=\"\",\"\",'Maklumat Umum'!C82)","v":""},null,null,null,null,null,null,null,null,null,null,null,null,null,null,null,null,null,null,null,null,null,null,null,null,null,null,null,null,null,null,null,null,"","","","","",null,0,0,0]
[61,{"$f":"IF('Maklumat Umum'!B83=\"\",\"\",'Maklumat Umum'!B83)","v":""},{"$f":"IF('Maklumat Umum'!C83=\"\",\"\",'Maklumat Umum'!C83)","v":""},{"$f":"IF('Maklumat Umum'!D83=\"\",\"\",'Maklumat Umum'!D83)","v":""},null,null,null,null,null,null,null,null,null,null,null,null,null,null,null,null,null,null,null,null,null,null,null,null,null,null,null,null,null,null,null,"","","","","",null,0,0,0]
[62,{"$f":"IF('Maklumat Umum'!B84=\"\",\"\",'Maklumat Umum'!B84)","v":""},{"$f":"IF('Maklumat Umum'!C84=\"\",\"\",'Maklumat Umum'!C84)","v":""},null,null,null,null,null,null,null,null,null,null,null,null,null,null,null,null,null,null,null,null,null,null,null,null,null,null,null,null,null,null,null,null,"","","","","",null,0,0,0]
[63,{"$f":"IF('Maklumat Umum'!B85=\"\",\"\",'Maklumat Umum'!B85)","v":""},{"$f":"IF('Maklumat Umum'!C85=\"\",\"\",'Maklumat Umum'!C85)","v":""},null,null,null,null,null,null,null,null,null,null,null,null,null,null,null,null,null,null,null,null,null,null,null,null,null,null,null,null,null,null,null,null,"","","","","",null,0,0,0]
[64,{"$f":"IF('Maklumat Umum'!B86=\"\",\"\",'Maklumat Umum'!B86)","v":""},{"$f":"IF('Maklumat Umum'!C86=\"\",\"\",'Maklumat Umum'!C86)","v":""},null,null,null,null,null,null,null,null,null,null,null,null,null,null,null,null,null,null,null,null,null,null,null,null,null,null,null,null,null,null,null,null,"","","","","",null,0,0,0]
[65,{"$f":"IF('Maklumat Umum'!B87=\"\",\"\",'Maklumat Umum'!B87)","v":""},{"$f":"IF('Maklumat Umum'!C87=\"\",\"\",'Maklumat Umum'!C87)","v":""},null,null,null,null,null,null,null,null,null,null,null,null,null,null,null,null,null,null,null,null,null,null,null,null,null,null,null,null,null,null,null,null,"","",{"$f":"IF(COUNTBLANK(E87:AI87)=31,\"\",IF(AK87<16,0,AK87*25))","v":""},{"$f":"IF(AL87=\"\",\"\",IF(AL87=0,AK87*15,(AL87/0.5)*0.3))","v":""},{"$f":"IF(AL87=\"\",\"\",IF(AL87=0,AK87*10,(AL87/0.5)*0.2))","v":""},null,0,0,0]
[66,{"$f":"IF('Maklumat Umum'!B88=\"\",\"\",'Maklumat Umum'!B88)","v":""},{"$f":"IF('Maklumat Umum'!C88=\"\",\"\",'Maklumat Umum'!C88)","v":""},{"$f":"IF('Maklumat Umum'!D88=\"\",\"\",'Maklumat Umum'!D88)","v":""},null,null,null,null,null,null,null,null,null,null,null,null,null,null,null,null,null,null,null,null,null,null,null,null,null,null,null,null,null,null,null,"","","","","",null,0,0,0]
[67,{"$f":"IF('Maklumat Umum'!B89=\"\",\"\",'Maklumat Umum'!B89)","v":""},{"$f":"IF('Maklumat Umum'!C89=\"\",\"\",'Maklumat Umum'!C89)","v":""},null,null,null,null,null,null,null,null,null,null,null,null,null,null,null,null,null,null,null,null,null,null,null,null,null,null,null,null,null,null,null,null,"","","","","",null,0,0,0]
[68,{"$f":"IF('Maklumat Umum'!B90=\"\",\"\",'Maklumat Umum'!B90)","v":""},{"$f":"IF('Maklumat Umum'!C90=\"\",\"\",'Maklumat Umum'!C90)","v":""},null,null,null,null,null,null,null,null,null,null,null,null,null,null,null,null,null,null,null,null,null,null,null,null,null,null,null,null,null,null,null,null,"","","","","",null,0,0,0]
[69,{"$f":"IF('Maklumat Umum'!B91=\"\",\"\",'Maklumat Umum'!B91)","v":""},{"$f":"IF('Maklumat Umum'!C91=\"\",\"\",'Maklumat Umum'!C91)","v":""},null,null,null,null,null,null,null,null,null,null,null,null,null,null,null,null,null,null,null,null,null,null,null,null,null,null,null,null,null,null,null,null,"","","","","",null,0,0,0]
[70,{"$f":"IF('Maklumat Umum'!B92=\"\",\"\",'Maklumat Umum'!B92)","v":""},{"$f":"IF('Maklumat Umum'!C92=\"\",\"\",'Maklumat Umum'!C92)","v":""},null,null,null,null,null,null,null,null,null,null,null,null,null,null,null,null,null,null,null,null,null,null,null,null,null,null,null,null,null,null,null,null,"","","","","",null,0,0,0]
[71,{"$f":"IF('Maklumat Umum'!B93=\"\",\"\",'Maklumat Umum'!B93)","v":""},{"$f":"IF('Maklumat Umum'!C93=\"\",\"\",'Maklumat Umum'!C93)","v":""},{"$f":"IF('Maklumat Umum'!D93=\"\",\"\",'Maklumat Umum'!D93)","v":""},null,null,null,null,null,null,null,null,null,null,null,null,null,null,null,null,null,null,null,null,null,null,null,null,null,null,null,null,null,null,null,"","","","","",null,0,0,0]
[72,{"$f":"IF('Maklumat Umum'!B94=\"\",\"\",'Maklumat Umum'!B94)","v":""},{"$f":"IF('Maklumat Umum'!C94=\"\",\"\",'Maklumat Umum'!C94)","v":""},null,null,null,null,null,null,null,null,null,null,null,null,null,null,null,null,null,null,null,null,null,null,null,null,null,null,null,null,null,null,null,null,"","","","","",null,0,0,0]
[73,{"$f":"IF('Maklumat Umum'!B95=\"\",\"\",'Maklumat Umum'!B95)","v":""},{"$f":"IF('Maklumat Umum'!C95=\"\",\"\",'Maklumat Umum'!C95)","v":""},null,null,null,null,null,null,null,null,null,null,null,null,null,null,null,null,null,null,null,null,null,null,null,null,null,null,null,null,null,null,null,null,"","","","","",null,0,0,0]
[74,{"$f":"IF('Maklumat Umum'!B96=\"\",\"\",'Maklumat Umum'!B96)","v":""},{"$f":"IF('Maklumat Umum'!C96=\"\",\"\",'Maklumat Umum'!C96)","v":""},null,null,null,null,null,null,null,null,null,null,null,null,null,null,null,null,null,null,null,null,null,null,null,null,null,null,null,null,null,null,null,null,{"$f":"IF(COUNTBLANK(E96:AI96)=31,\"\",AP96+AQ96+AR96)","v":""},{"$f":"IF(COUNTBLANK(E96:AI96)=31,\"\",IF(SUM(E96:AI96)+AJ96>20,20,SUM(E96:AI96)+AJ96))","v":""},"","","",null,0,0,0]
[75,{"$f":"IF('Maklumat Umum'!B97=\"\",\"\",'Maklumat Umum'!B97)","v":""},{"$f":"IF('Maklumat Umum'!C97=\"\",\"\",'Maklumat Umum'!C97)","v":""},null,null,null,null,null,null,null,null,null,null,null,null,null,null,null,null,null,null,null,null,null,null,null,null,null,null,null,null,null,null,null,null,{"$f":"IF(COUNTBLANK(E97:AI97)=31,\"\",AP97+AQ97+AR97)","v":""},{"$f":"IF(COUNTBLANK(E97:AI97)=31,\"\",IF(SUM(E97:AI97)+AJ97>20,20,SUM(E97:AI97)+AJ97))","v":""},"","","",null,{"$f":"IF(COUNTIF(E97:AI97,\"CS\")>14,14,COUNTIF(E97:AI97,\"CS\"))","v":0},{"$f":"COUNTIF(E97:AI97,\"CK\")","v":0},{"$f":"COUNTIF(E97:AI97,\"CU\")","v":0}]
[76,{"$f":"IF('Maklumat Umum'!B98=\"\",\"\",'Maklumat Umum'!B98)","v":""},{"$f":"IF('Maklumat Umum'!C98=\"\",\"\",'Maklumat Umum'!C98)","v":""},{"$f":"IF('Maklumat Umum'!D98=\"\",\"\",'Maklumat Umum'!D98)","v":""},null,null,null,null,null,null,null,null,null,null,null,null,null,null,null,null,null,null,null,null,null,null,null,null,null,null,null,null,null,null,null,{"$f":"IF(COUNTBLANK(E98:AI98)=31,\"\",AP98+AQ98+AR98)","v":""},{"$f":"IF(COUNTBLANK(E98:AI98)=31,\"\",IF(SUM(E98:AI98)+AJ98>20,20,SUM(E98:AI98)+AJ98))","v":""},"","","",null,{"$f":"IF(COUNTIF(E98:AI98,\"CS\")>14,14,COUNTIF(E98:AI98,\"CS\"))","v":0},{"$f":"COUNTIF(E98:AI98,\"CK\")","v":0},{"$f":"COUNTIF(E98:AI98,\"CU\")","v":0}]
[77,{"$f":"IF('Maklumat Umum'!B99=\"\",\"\",'Maklumat Umum'!B99)","v":""},{"$f":"IF('Maklumat Umum'!C99=\"\",\"\",'Maklumat Umum'!C99)","v":""},null,null,null,null,null,null,null,null,null,null,null,null,null,null,null,null,null,null,null,null,null,null,null,null,null,null,null,null,null,null,null,null,{"$f":"IF(COUNTBLANK(E99:AI99)=31,\"\",AP99+AQ99+AR99)","v":""},{"$f":"IF(COUNTBLANK(E99:AI99)=31,\"\",IF(SUM(E99:AI99)+AJ99>20,20,SUM(E99:AI99)+AJ99))","v":""},"","","",null,{"$f":"IF(COUNTIF(E99:AI99,\"CS\")>14,14,COUNTIF(E99:AI99,\"CS\"))","v":0},{"$f":"COUNTIF(E99:AI99,\"CK\")","v":0},{"$f":"COUNTIF(E99:AI99,\"CU\")","v":0}]
[78,{"$f":"IF('Maklumat Umum'!B100=\"\",\"\",'Maklumat Umum'!B100)","v":""},{"$f":"IF('Maklumat Umum'!C100=\"\",\"\",'Maklumat Umum'!C100)","v":""},null,null,null,null,null,null,null,null,null,null,null,null,null,null,null,null,null,null,null,null,null,null,null,null,null,null,null,null,null,null,null,null,"","","","","",null,0,0,0]
[79,{"$f":"IF('Maklumat Umum'!B101=\"\",\"\",'Maklumat Umum'!B101)","v":""},{"$f":"IF('Maklumat Umum'!C101=\"\",\"\",'Maklumat Umum'!C101)","v":""},null,null,null,null,null,null,null,null,null,null,null,null,null,null,null,null,null,null,null,null,null,null,null,null,null,null,null,null,null,null,null,null,"","","","","",null,0,0,0]
[80,{"$f":"IF('Maklumat Umum'!B102=\"\",\"\",'Maklumat Umum'!B102)","v":""},{"$f":"IF('Maklumat Umum'!C102=\"\",\"\",'Maklumat Umum'!C102)","v":""},null,null,null,null,null,null,null,null,null,null,null,null,null,null,null,null,null,null,null,null,null,null,null,null,null,null,null,null,null,null,null,null,"","","","","",null,0,0,0]
[81,{"$f":"IF('Maklumat Umum'!B103=\"\",\"\",'Maklumat Umum'!B103)","v":""},{"$f":"IF('Maklumat Umum'!C103=\"\",\"\",'Maklumat Umum'!C103)","v":""},{"$f":"IF('Maklumat Umum'!D103=\"\",\"\",'Maklumat Umum'!D103)","v":""},null,null,null,null,null,null,null,null,null,null,null,null,null,null,null,null,null,null,null,null,null,null,null,null,null,null,null,null,null,null,null,"","","","","",null,0,0,0]
[82,{"$f":"IF('Maklumat Umum'!B104=\"\",\"\",'Maklumat Umum'!B104)","v":""},{"$f":"IF('Maklumat Umum'!C104=\"\",\"\",'Maklumat Umum'!C104)","v":""},null,null,null,null,null,null,null,null,null,null,null,null,null,null,null,null,null,null,null,null,null,null,null,null,null,null,null,null,null,null,null,null,"","","","","",null,0,0,0]
[83,{"$f":"IF('Maklumat Umum'!B105=\"\",\"\",'Maklumat Umum'!B105)","v":""},{"$f":"IF('Maklumat Umum'!C105=\"\",\"\",'Maklumat Umum'!C105)","v":""},null,null,null,null,null,null,null,null,null,null,null,null,null,null,null,null,null,null,null,null,null,null,null,null,null,null,null,null,null,null,null,null,"","","","","",null,0,0,0]
[84,{"$f":"IF('Maklumat Umum'!B106=\"\",\"\",'Maklumat Umum'!B106)","v":""},{"$f":"IF('Maklumat Umum'!C106=\"\",\"\",'Maklumat Umum'!C106)","v":""},null,null,null,null,null,null,null,null,null,null,null,null,null,null,null,null,null,null,null,null,null,null,null,null,null,null,null,null,null,null,null,null,"","","","","",null,0,0,0]
[85,{"$f":"IF('Maklumat Umum'!B107=\"\",\"\",'Maklumat Umum'!B107)","v":""},{"$f":"IF('Maklumat Umum'!C107=\"\",\"\",'Maklumat Umum'!C107)","v":""},null,null,null,null,null,null,null,null,null,null,null,null,null,null,null,null,null,null,null,null,null,null,null,null,null,null,null,null,null,null,null,null,"","","","","",null,0,0,0]
[86,{"$f":"IF('Maklumat Umum'!B108=\"\",\"\",'Maklumat Umum'!B108)","v":""},{"$f":"IF('Maklumat Umum'!C108=\"\",\"\",'Maklumat Umum'!C108)","v":""},{"$f":"IF('Maklumat Umum'!D108=\"\",\"\",'Maklumat Umum'!D108)","v":""},null,null,null,null,null,null,null,null,null,null,null,null,null,null,null,null,null,null,null,null,null,null,null,null,null,null,null,null,null,null,null,"","","","","",null,0,0,0]
[87,{"$f":"IF('Maklumat Umum'!B109=\"\",\"\",'Maklumat Umum'!B109)","v":""},{"$f":"IF('Maklumat Umum'!C109=\"\",\"\",'Maklumat Umum'!C109)","v":""},null,null,null,null,null,null,null,null,null,null,null,null,null,null,null,null,null,null,null,null,null,null,null,null,null,null,null,null,null,null,null,null,"","","","","",null,0,0,0]
[88,{"$f":"IF('Maklumat Umum'!B110=\"\",\"\",'Maklumat Umum'!B110)","v":""},{"$f":"IF('Maklumat Umum'!C110=\"\",\"\",'Maklumat Umum'!C110)","v":""},null,null,null,null,null,null,null,null,null,null,null,null,null,null,null,null,null,null,null,null,null,null,null,null,null,null,null,null,null,null,null,null,"","","","","",null,0,0,0]
[89,{"$f":"IF('Maklumat Umum'!B111=\"\",\"\",'Maklumat Umum'!B111)","v":""},{"$f":"IF('Maklumat Umum'!C111=\"\",\"\",'Maklumat Umum'!C111)","v":""},null,null,null,null,null,null,null,null,null,null,null,null,null,null,null,null,null,null,null,null,null,null,null,null,null,null,null,null,null,null,null,null,"","","","","",null,0,0,0]
[90,{"$f":"IF('Maklumat Umum'!B112=\"\",\"\",'Maklumat Umum'!B112)","v":""},{"$f":"IF('Maklumat Umum'!C112=\"\",\"\",'Maklumat Umum'!C112)","v":""},null,null,null,null,null,null,null,null,null,null,null,null,null,null,null,null,null,null,null,null,null,null,null,null,null,null,null,null,null,null,null,null,"","","","","",null,0,0,0]
[91,{"$f":"IF('Maklumat Umum'!B113=\"\",\"\",'Maklumat Umum'!B113)","v":""},{"$f":"IF('Maklumat Umum'!C113=\"\",\"\",'Maklumat Umum'!C113)","v":""},{"$f":"IF('Maklumat Umum'!D113=\"\",\"\",'Maklumat Umum'!D113)","v":""},null,null,null,null,null,null,null,null,null,null,null,null,null,null,null,null,null,null,null,null,null,null,null,null,null,null,null,null,null,null,null,"","","","","",null,0,0,0]
[92,{"$f":"IF('Maklumat Umum'!B114=\"\",\"\",'Maklumat Umum'!B114)","v":""},{"$f":"IF('Maklumat Umum'!C114=\"\",\"\",'Maklumat Umum'!C114)","v":""},null,null,null,null,null,null,null,null,null,null,null,null,null,null,null,null,null,null,null,null,null,null,null,null,null,null,null,null,null,null,null,null,"","","","","",null,0,0,0]
[93,{"$f":"IF('Maklumat Umum'!B115=\"\",\"\",'Maklumat Umum'!B115)","v":""},{"$f":"IF('Maklumat Umum'!C115=\"\",\"\",'Maklumat Umum'!C115)","v":""},null,null,null,null,null,null,null,null,null,null,null,null,null,null,null,null,null,null,null,null,null,null,null,null,null,null,null,null,null,null,null,null,"","","","","",null,0,0,0]
[94,{"$f":"IF('Maklumat Umum'!B116=\"\",\"\",'Maklumat Umum'!B116)","v":""},{"$f":"IF('Maklumat Umum'!C116=\"\",\"\",'Maklumat Umum'!C116)","v":""},null,null,null,null,null,null,null,null,null,null,null,null,null,null,null,null,null,null,null,null,null,null,null,null,null,null,null,null,null,null,null,null,"","","","","",null,0,0,0]
[95,{"$f":"IF('Maklumat Umum'!B117=\"\",\"\",'Maklumat Umum'!B117)","v":""},{"$f":"IF('Maklumat Umum'!C117=\"\",\"\",'Maklumat Umum'!C117)","v":""},null,null,null,null,null,null,null,null,null,null,null,null,null,null,null,null,null,null,null,null,null,null,null,null,null,null,null,null,null,null,null,null,"","","","","",null,0,0,0]
[96,{"$f":"IF('Maklumat Umum'!B118=\"\",\"\",'Maklumat Umum'!B118)","v":""},{"$f":"IF('Maklumat Umum'!C118=\"\",\"\",'Maklumat Umum'!C118)","v":""},{"$f":"IF('Maklumat Umum'!D118=\"\",\"\",'Maklumat Umum'!D118)","v":""},null,null,null,null,null,null,null,null,null,null,null,null,null,null,null,null,null,null,null,null,null,null,null,null,null,null,null,null,null,null,null,"","","","","",null,0,0,0]
[97,{"$f":"IF('Maklumat Umum'!B119=\"\",\"\",'Maklumat Umum'!B119)","v":""},{"$f":"IF('Maklumat Umum'!C119=\"\",\"\",'Maklumat Umum'!C119)","v":""},null,null,null,null,null,null,null,null,null,null,null,null,null,null,null,null,null,null,null,null,null,null,null,null,null,null,null,null,null,null,null,null,"","","","","",null,0,0,0]
[98,{"$f":"IF('Maklumat Umum'!B120=\"\",\"\",'Maklumat Umum'!B120)","v":""},{"$f":"IF('Maklumat Umum'!C120=\"\",\"\",'Maklumat Umum'!C120)","v":""},null,null,null,null,null,null,null,null,null,null,null,null,null,null,null,null,null,null,null,null,null,null,null,null,null,null,null,null,null,null,null,null,"","","","","",null,0,0,0]
[99,{"$f":"IF('Maklumat Umum'!B121=\"\",\"\",'Maklumat Umum'!B121)","v":""},{"$f":"IF('Maklumat Umum'!C121=\"\",\"\",'Maklumat Umum'!C121)","v":""},null,null,null,null,null,null,null,null,null,null,null,null,null,null,null,null,null,null,null,null,null,null,null,null,null,null,null,null,null,null,null,null,{"$f":"IF(COUNTBLANK(E121:AI121)=31,\"\",AP121+AQ121+AR121)","v":""},{"$f":"IF(COUNTBLANK(E121:AI121)=31,\"\",IF(SUM(E121:AI121)+AJ121>20,20,SUM(E121:AI121)+AJ121))","v":""},"","","",null,0,0,0]
[100,{"$f":"IF('Maklumat Umum'!B122=\"\",\"\",'Maklumat Umum'!B122)","v":""},{"$f":"IF('Maklumat Umum'!C122=\"\",\"\",'Maklumat Umum'!C122)","v":""},null,null,null,null,null,null,null,null,null,null,null,null,null,null,null,null,null,null,null,null,null,null,null,null,null,null,null,null,null,null,null,null,{"$f":"IF(COUNTBLANK(E122:AI122)=31,\"\",AP122+AQ122+AR122)","v":""},{"$f":"IF(COUNTBLANK(E122:AI122)=31,\"\",IF(SUM(E122:AI122)+AJ122>20,20,SUM(E122:AI122)+AJ122))","v":""},"","","",null,{"$f":"IF(COUNTIF(E122:AI122,\"CS\")>14,14,COUNTIF(E122:AI122,\"CS\"))","v":0},{"$f":"COUNTIF(E122:AI122,\"CK\")","v":0},{"$f":"COUNTIF(E122:AI122,\"CU\")","v":0}]
["Nota: PL perlu pastikan maklumat adalah tepat dan nama perantis mengikut Kad Pengenalan serta turutan dalam Pengesahan Pendaftaran Perantis SLDN",null,null,null,null,null,null,null,null,null,null,null,null,null,null,null,null,null,null,null,null,null,null,null,null,null,null,null,null,null,null,null,null,null,null,"JUM TUNTUTAN",null,{"$f":"SUM(AL23:AL122)","v":0},{"$f":"SUM(AM23:AM122)","v":0},{"$f":"SUM(AN23:AN122)","v":0},null,null,null,null,"Pejabat Wilayah hendaklah memindahkan Jumlah tuntutan elaun perantis ini ke dalam MySPIKE bagi tujuan pembayaran "]
[null,null,null,null,null,null,null,null,null,null,null,null,null,null,null,null,null,null,null,null,null,null,null,null,null,null,null,null,null,null,null,null,null,null,null,null,null,{"$f":"SUM(AL123:AN123)","v":0}]
["Dengan ini kami mengesahkan bahawa maklumat di atas adalah benar dan perantis sedang menjalani latihan di syarikat kerjasama/ penyedia latihan seperti yang telah ditetapkan."]
[]
["Disediakan oleh",null,null,null,null,null,null,null,null,null,null,null,null,null,"Disahkan oleh"]
[]
["…………………………………………….",null,null,null,null,null,null,null,null,null,null,null,null,null,"……………………………………………."]
["(Tandatangan Penyelaras Pusat Latihan)",null,null,null,null,null,null,null,null,null,null,null,"(Tandatangan Penyelaras Syarikat 1)",null,null,null,null,null,null,null,null,null,null,null,null,null,null,null,null,null,"(Tandatangan Penyelaras Syarikat 2)"]
["Nama:  ",null,null,null,null,null,null,null,null,null,null,null,"Nama:",null,null,null,null,null,null,null,null,null,null,null,null,null,null,null,null,null,"Nama:"]
["Tarikh:",null,null,null,null,null,null,null,null,null,null,null,"Tarikh:",null,null,null,null,null,null,null,null,null,null,null,null,null,null,null,null,null,"Tarikh:"]
[]
["PENGESAHAN PENGURUS PUSAT LATIHAN:",null,null,null,null,null,null,null,null,null,null,null,"(Tandatangan Penyelaras Syarikat 3)",null,null,null,null,null,null,null,null,null,null,null,null,null,null,null,null,null,"(Tandatangan Penyelaras Syarikat 4)"]
["Saya memperakukan kenyataan di atas adalah  benar",null,null,null,null,null,null,null,null,null,null,null,"Nama:",null,null,null,null,null,null,null,null,null,null,null,null,null,null,null,null,null,"Nama:"]
[null,null,null,null,null,null,null,null,null,null,null,null,"Tarikh:",null,null,null,null,null,null,null,null,null,null,null,null,null,null,null,null,null,"Tarikh:"]
["……………………………………………."]
["(Tandatangan Pengurus Pusat Latihan)",null,null,null,null,null,null,null,null,null,null,null,"(Tandatangan Penyelaras Syarikat 5)"]
[null,null,null,null,null,null,null,null,null,null,null,null,"Nama:"]
["Nama ",null,null,null,null,null,null,null,null,null,null,null,"Tarikh:"]
["No Kad Pengenalan (Pengurus Pusat Latihan)"]
["Tarikh:",null,null,"Cop Rasmi Pusat Latihan:"]

{"sheet":"Claim_page1_Jul23","index":14,"n_rows":24,"n_cols":5,"rows_kept":24,"cut":false,"hidden":false,"merged":[[0,0,0,3],[0,4,7,9],[1,1,1,2],[3,1,3,3],[4,1,4,3],[5,1,5,3],[6,0,6,3],[7,1,7,3],[18,0,18,3],[8,1,8,3],[9,1,9,3],[10,1,10,3],[11,1,11,3],[12,0,12,3],[13,1,13,3],[13,4,17,4],[14,1,14,3],[15,1,15,3],[16,1,16,3],[17,1,17,3]]}
[{"$f":"\"BORANG PERMOHONAN TUNTUTAN INSENTIF \" & CHAR(10)& 'Maklumat Umum'!H1000","v":"BORANG PERMOHONAN TUNTUTAN INSENTIF \nSISTEM LATIHAN DUAL NASIONAL (SLDN) BERINSENTIF 2023"}]
["BULAN:","JUL 2023"]
[]
["No Pengambilan:",{"$f":"'Maklumat Umum'!C11","v":0}]
["Tarikh Mula Latihan",{"$f":"'Maklumat Umum'!C13","v":"00:00:00"}]
["Tarikh Tamat Latihan",{"$f":"'Maklumat Umum'!C14","v":"2024-01-26"}]
["BAHAGIAN A. MAKLUMAT PEMOHON"]
["Nama Pusat Latihan / Syarikat Inhouse (seperti dalam Surat Tawaran/ Perjanjian)",{"$f":"FebXX!C5","v":0}]
["Kod Pusat Latihan / Syarikat Inhouse",{"$f":"FebXX!C6","v":0}]
["ID Rujukan Tawaran SLDN Plus ",{"$f":"'Maklumat Tuntutan'!B5","v":0},null,null,"Cth. JPK/SP/7099"]
["Nama Penyelaras Pusat Latihan/ Syarikat Inhouse",{"$f":"'Maklumat Tuntutan'!B6","v":0}]
["No. Kad Pengenalan",{"$f":"'Maklumat Tuntutan'!B7","v":0}]
["BAHAGIAN B. MAKLUMAT PENERIMA DAN AKAUN BAYARAN INSENTIF"]
["Nama Penerima Bayaran (Pusat Latihan / Syarikat Inhouse)",{"$f":"'Maklumat Tuntutan'!B9","v":0},null,null,"Akaun Bank Mesti Sama Dengan Akaun Yang Dinyatakan Dalam Dokumen Perjanjian"]
["Nama Bank Penerima",{"$f":"'Maklumat Tuntutan'!B10","v":0}]
["Nombor Akaun Bank Penerima",{"$f":"'Maklumat Tuntutan'!B11","v":0}]
["Cawangan Bank",{"$f":"'Maklumat Tuntutan'!B12","v":0}]
["Salinan Penyata Akaun Bank (Sila pastikan maklumat pada dokumen jelas dan terang)","Dilampirkan"]
["BAHAGIAN C. MAKLUMAT TUNTUTAN INSENTIF (BERDASARKAN REKOD KEHADIRAN PERANTIS)"]
["Butiran","Kadar sehari (RM)","%","Jumlah \n(RM)"]
["i.  Insentif Pusat Latihan",15,{"$f":"B21/(B$21+B$22+B$23)","v":0.3},{"$f":"'Jul23'!AM123","v":0}]
["ii.  Insentif Syarikat Kerjasama",10,{"$f":"B22/(B$21+B$22+B$23)","v":0.2},{"$f":"'Jul23'!AN123","v":0}]
["iii. Elaun Perantis",25,{"$f":"B23/(B$21+B$22+B$23)","v":0.5},{"$f":"'Jul23'!AL123","v":0}]
["JUMLAH",null,null,{"$f":"SUM(D21:D23)","v":0}]

{"sheet":"Aug23","index":15,"n_rows":142,"n_cols":45,"rows_kept":142,"cut":false,"hidden":false,"merged":[[0,0,0,40],[1,0,1,40],[2,16,2,20],[5,12,8,35],[15,1,16,2],[16,4,16,33],[17,0,21,0],[17,1,21,1],[17,2,21,2],[17,3,21,3],[17,4,17,33],[19,4,19,33],[47,3,51,3],[17,36,21,36],[17,37,17,39],[17,40,21,40],[18,37,21,37],[18,38,21,38],[18,39,21,39],[17,35,21,35],[22,3,26,3],[27,3,31,3],[32,3,36,3],[37,3,41,3],[42,3,46,3],[107,3,111,3],[52,3,56,3],[57,3,61,3],[62,3,66,3],[67,3,71,3],[72,3,76,3],[77,3,81,3],[82,3,86,3],[87,3,91,3],[92,3,96,3],[97,3,101,3],[102,3,106,3],[112,3,116,3],[117,3,121,3],[122,35,123,36],[122,44,126,50],[123,37,123,39]]}
["BORANG KEHADIRAN PERANTIS"]
[{"$f":"'Maklumat Umum'!H1000","v":"SISTEM LATIHAN DUAL NASIONAL (SLDN) BERINSENTIF 2023"}]
[null,null,null,null,null,null,null,null,null,null,null,null,null,"BULAN",null,null,"AUG 2023",null,null,null,null,null,null,null,null,null,null,null,null,null,null,null,null,null,null,null,"JPK/SP/02"]
[]
[null,"NAMA PUSAT LATIHAN",{"$f":"'Maklumat Umum'!C8","v":0},null,null,null,null,null,null,null,null,null,"Nota: "]
[null,"KOD PUSAT LATIHAN",{"$f":"'Maklumat Umum'!C9","v":0},null,null,null,null,null,null,null,null,null,"1. Bil maksimum hari latihan sebulan yang layak dibayar insentif adalah 20 hari termasuklah:\n(1) Cuti Sakit terhad kepada 14 hari sahaja  - Perlu sertakan Perakuan dari Klinik/Hospital\n(2) Cuti Kecemasan seperti kematian ahli keluarga, kebakaran, banjir dan lain-lain -  Perlu sertakan Surat Pihak Berkuasa Berkaitan (Klinik/Hospital, polis dll) \n(3) Cuti Umum Negeri atau Nasional\n(4) Cuti Kuarantin - Perlu sertakan kelulusan"]
[null,"NAMA PROGRAM",{"$f":"'Maklumat Umum'!C10","v":0}]
[null,"NO PENGAMBILAN",{"$f":"'Maklumat Umum'!C11","v":0}]
[null,"TARIKH MULA LATIHAN",{"$f":"'Maklumat Umum'!C13","v":"00:00:00"}]
[null,"TARIKH TAMAT LATIHAN",{"$f":"'Maklumat Umum'!C14","v":"2024-01-26"},null,null,null,null,null,null,null,null,null,"2. Kadar sehari elaun perantis adalah RM25"]
[null,"TEMPOH LATIHAN DILULUSKAN (BULAN)",{"$f":"'Maklumat Umum'!C12","v":0},null,null,null,null,null,null,null,null,null,"3. Perantis hanya layak dibayar jika kehadiran sekurang-kurangnya 80% (16 hari). PL dan syarikat dibayar mengikut bil hari perantis hadir"]
[]
[]
[]
[]
[null,"TARIKH BELUM DIISI"]
[null,null,null,null,"1 = Hadir            Kosongkan (Blank) = Tidak Hadir            CS = Cuti Sakit             CK = Cuti Kecemasan/Kurantin          CU = Cuti Umum"]
["BIL","Nama Perantis","No Kad \nPengenalan","Syarikat","BIL HARI LATIHAN",null,null,null,null,null,null,null,null,null,null,null,null,null,null,null,null,null,null,null,null,null,null,null,null,null,null,null,null,null,null,"Bil Hari\nCS,CK,\nCU Layak","Bil \nHari Boleh Dibayar","Tuntutan (RM)",null,null,"Tandatangan Perantis"]
[null,null,null,null,1,2,3,4,5,6,7,8,9,10,11,12,13,14,15,16,17,18,19,20,21,22,23,24,25,26,27,28,29,30,31,null,null,"Perantis","Pusat Latihan","Syarikat"]
[null,null,null,null,"TARIKH & HARI"]
[]
[]
[1,{"$f":"IF('Maklumat Umum'!B23=\"\",\"\",'Maklumat Umum'!B23)","v":""},{"$f":"IF('Maklumat Umum'!C23=\"\",\"\",'Maklumat Umum'!C23)","v":""},{"$f":"IF('Maklumat Umum'!D23=\"\",\"\",'Maklumat Umum'!D23)","v":""},null,null,null,null,null,null,null,null,null,null,null,null,null,null,null,null,null,null,null,null,null,null,null,null,null,null,null,null,null,null,null,{"$f":"IF(COUNTBLANK(E23:AI23)=31,\"\",AP23+AQ23+AR23)","v":""},{"$f":"IF(COUNTBLANK(E23:AI23)=31,\"\",IF(SUM(E23:AI23)+AJ23>20,20,SUM(E23:AI23)+AJ23))","v":""},{"$f":"IF(COUNTBLANK(E23:AI23)=31,\"\",IF(AK23<16,0,AK23*25))","v":""},{"$f":"IF(AL23=\"\",\"\",IF(AL23=0,AK23*15,(AL23/0.5)*0.3))","v":""},{"$f":"IF(AL23=\"\",\"\",IF(AL23=0,AK23*10,(AL23/0.5)*0.2))","v":""},null,{"$f":"IF(COUNTIF(E23:AI23,\"CS\")>14,14,COUNTIF(E23:AI23,\"CS\"))","v":0},{"$f":"COUNTIF(E23:AI23,\"CK\")","v":0},{"$f":"COUNTIF(E23:AI23,\"CU\")","v":0}]
[2,{"$f":"IF('Maklumat Umum'!B24=\"\",\"\",'Maklumat Umum'!B24)","v":""},{"$f":"IF('Maklumat Umum'!C24=\"\",\"\",'Maklumat Umum'!C24)","v":""},null,null,null,null,null,null,null,null,null,null,null,null,null,null,null,null,null,null,null,null,null,null,null,null,null,null,null,null,null,null,null,null,{"$f":"IF(COUNTBLANK(E24:AI24)=31,\"\",AP24+AQ24+AR24)","v":""},{"$f":"IF(COUNTBLANK(E24:AI24)=31,\"\",IF(SUM(E24:AI24)+AJ24>20,20,SUM(E24:AI24)+AJ24))","v":""},"","","",null,{"$f":"IF(COUNTIF(E24:AI24,\"CS\")>14,14,COUNTIF(E24:AI24,\"CS\"))","v":0},{"$f":"COUNTIF(E24:AI24,\"CK\")","v":0},{"$f":"COUNTIF(E24:AI24,\"CU\")","v":0}]
[3,{"$f":"IF('Maklumat Umum'!B25=\"\",\"\",'Maklumat Umum'!B25)","v":""},{"$f":"IF('Maklumat Umum'!C25=\"\",\"\",'Maklumat Umum'!C25)","v":""},null,null,null,null,null,null,null,null,null,null,null,null,null,null,null,null,null,null,null,null,null,null,null,null,null,null,null,null,null,null,null,null,"","","","","",null,0,0,0]
[4,{"$f":"IF('Maklumat Umum'!B26=\"\",\"\",'Maklumat Umum'!B26)","v":""},{"$f":"IF('Maklumat Umum'!C26=\"\",\"\",'Maklumat Umum'!C26)","v":""},null,null,null,null,null,null,null,null,null,null,null,null,null,null,null,null,null,null,null,null,null,null,null,null,null,null,null,null,null,null,null,null,"","","","","",null,0,0,0]
[5,{"$f":"IF('Maklumat Umum'!B27=\"\",\"\",'Maklumat Umum'!B27)","v":""},{"$f":"IF('Maklumat Umum'!C27=\"\",\"\",'Maklumat Umum'!C27)","v":""},null,null,null,null,null,null,null,null,null,null,null,null,null,null,null,null,null,null,null,null,null,null,null,null,null,null,null,null,null,null,null,null,"","","","","",null,0,0,0]
[6,{"$f":"IF('Maklumat Umum'!B28=\"\",\"\",'Maklumat Umum'!B28)","v":""},{"$f":"IF('Maklumat Umum'!C28=\"\",\"\",'Maklumat Umum'!C28)","v":""},{"$f":"IF('Maklumat Umum'!D28=\"\",\"\",'Maklumat Umum'!D28)","v":""},null,null,null,null,null,null,null,null,null,null,null,null,null,null,null,null,null,null,null,null,null,null,null,null,null,null,null,null,null,null,null,"","","","","",null,0,0,0]
[7,{"$f":"IF('Maklumat Umum'!B29=\"\",\"\",'Maklumat Umum'!B29)","v":""},{"$f":"IF('Maklumat Umum'!C29=\"\",\"\",'Maklumat Umum'!C29)","v":""},null,null,null,null,null,null,null,null,null,null,null,null,null,null,null,null,null,null,null,null,null,null,null,null,null,null,null,null,null,null,null,null,"","","","","",null,0,0,0]
[8,{"$f":"IF('Maklumat Umum'!B30=\"\",\"\",'Maklumat Umum'!B30)","v":""},{"$f":"IF('Maklumat Umum'!C30=\"\",\"\",'Maklumat Umum'!C30)","v":""},null,null,null,null,null,null,null,null,null,null,null,null,null,null,null,null,null,null,null,null,null,null,null,null,null,null,null,null,null,null,null,null,"","","","","",null,0,0,0]
[9,{"$f":"IF('Maklumat Umum'!B31=\"\",\"\",'Maklumat Umum'!B31)","v":""},{"$f":"IF('Maklumat Umum'!C31=\"\",\"\",'Maklumat Umum'!C31)","v":""},null,null,null,null,null,null,null,null,null,null,null,null,null,null,null,null,null,null,null,null,null,null,null,null,null,null,null,null,null,null,null,null,"","","","","",null,0,0,0]
[10,{"$f":"IF('Maklumat Umum'!B32=\"\",\"\",'Maklumat Umum'!B32)","v":""},{"$f":"IF('Maklumat Umum'!C32=\"\",\"\",'Maklumat Umum'!C32)","v":""},null,null,null,null,null,null,null,null,null,null,null,null,null,null,null,null,null,null,null,null,null,null,null,null,null,null,null,null,null,null,null,null,"","","","","",null,0,0,0]
[11,{"$f":"IF('Maklumat Umum'!B33=\"\",\"\",'Maklumat Umum'!B33)","v":""},{"$f":"IF('Maklumat Umum'!C33=\"\",\"\",'Maklumat Umum'!C33)","v":""},{"$f":"IF('Maklumat Umum'!D33=\"\",\"\",'Maklumat Umum'!D33)","v":""},null,null,null,null,null,null,null,null,null,null,null,null,null,null,null,null,null,null,null,null,null,null,null,null,null,null,null,null,null,null,null,"","","","","",null,0,0,0]
[12,{"$f":"IF('Maklumat Umum'!B34=\"\",\"\",'Maklumat Umum'!B34)","v":""},{"$f":"IF('Maklumat Umum'!C34=\"\",\"\",'Maklumat Umum'!C34)","v":""},null,null,null,null,null,null,null,null,null,null,null,null,null,null,null,null,null,null,null,null,null,null,null,null,null,null,null,null,null,null,null,null,"","","","","",null,0,0,0]
[13,{"$f":"IF('Maklumat Umum'!B35=\"\",\"\",'Maklumat Umum'!B35)","v":""},{"$f":"IF('Maklumat Umum'!C35=\"\",\"\",'Maklumat Umum'!C35)","v":""},null,null,null,null,null,null,null,null,null,null,null,null,null,null,null,null,null,null,null,null,null,null,null,null,null,null,null,null,null,null,null,null,"","","","","",null,0,0,0]
[14,{"$f":"IF('Maklumat Umum'!B36=\"\",\"\",'Maklumat Umum'!B36)","v":""},{"$f":"IF('Maklumat Umum'!C36=\"\",\"\",'Maklumat Umum'!C36)","v":""},null,null,null,null,null,null,null,null,null,null,null,null,null,null,null,null,null,null,null,null,null,null,null,null,null,null,null,null,null,null,null,null,"","","","","",null,0,0,0]
[15,{"$f":"IF('Maklumat Umum'!B37=\"\",\"\",'Maklumat Umum'!B37)","v":""},{"$f":"IF('Maklumat Umum'!C37=\"\",\"\",'Maklumat Umum'!C37)","v":""},null,null,null,null,null,null,null,null,null,null,null,null,null,null,null,null,null,null,null,null,null,null,null,null,null,null,null,null,null,null,null,null,"","","","","",null,0,0,0]
[16,{"$f":"IF('Maklumat Umum'!B38=\"\",\"\",'Maklumat Umum'!B38)","v":""},{"$f":"IF('Maklumat Umum'!C38=\"\",\"\",'Maklumat Umum'!C38)","v":""},{"$f":"IF('Maklumat Umum'!D38=\"\",\"\",'Maklumat Umum'!D38)","v":""},null,null,null,null,null,null,null,null,null,null,null,null,null,null,null,null,null,null,null,null,null,null,null,null,null,null,null,null,null,null,null,"","","","","",null,0,0,0]
[17,{"$f":"IF('Maklumat Umum'!B39=\"\",\"\",'Maklumat Umum'!B39)","v":""},{"$f":"IF('Maklumat Umum'!C39=\"\",\"\",'Maklumat Umum'!C39)","v":""},null,null,null,null,null,null,null,null,null,null,null,null,null,null,null,null,null,null,null,null,null,null,null,null,null,null,null,null,null,null,null,null,"","","","","",null,0,0,0]
[18,{"$f":"IF('Maklumat Umum'!B40=\"\",\"\",'Maklumat Umum'!B40)","v":""},{"$f":"IF('Maklumat Umum'!C40=\"\",\"\",'Maklumat Umum'!C40)","v":""},null,null,null,null,null,null,null,null,null,null,null,null,null,null,null,null,null,null,null,null,null,null,null,null,null,null,null,null,null,null,null,null,"","","","","",null,0,0,0]
[19,{"$f":"IF('Maklumat Umum'!B41=\"\",\"\",'Maklumat Umum'!B41)","v":""},{"$f":"IF('Maklumat Umum'!C41=\"\",\"\",'Maklumat Umum'!C41)","v":""},null,null,null,null,null,null,null,null,null,null,null,null,null,null,null,null,null,null,null,null,null,null,null,null,null,null,null,null,null,null,null,null,"","","","","",null,0,0,0]
[20,{"$f":"IF('Maklumat Umum'!B42=\"\",\"\",'Maklumat Umum'!B42)","v":""},{"$f":"IF('Maklumat Umum'!C42=\"\",\"\",'Maklumat Umum'!C42)","v":""},null,null,null,null,null,null,null,null,null,null,null,null,null,null,null,null,null,null,null,null,null,null,null,null,null,null,null,null,null,null,null,null,"","","","","",null,0,0,0]
[21,{"$f":"IF('Maklumat Umum'!B43=\"\",\"\",'Maklumat Umum'!B43)","v":""},{"$f":"IF('Maklumat Umum'!C43=\"\",\"\",'Maklumat Umum'!C43)","v":""},{"$f":"IF('Maklumat Umum'!D43=\"\",\"\",'Maklumat Umum'!D43)","v":""},null,null,null,null,null,null,null,null,null,null,null,null,null,null,null,null,null,null,null,null,null,null,null,null,null,null,null,null,null,null,null,"","","","","",null,0,0,0]
[22,{"$f":"IF('Maklumat Umum'!B44=\"\",\"\",'Maklumat Umum'!B44)","v":""},{"$f":"IF('Maklumat Umum'!C44=\"\",\"\",'Maklumat Umum'!C44)","v":""},null,null,null,null,null,null,null,null,null,null,null,null,null,null,null,null,null,null,null,null,null,null,null,null,null,null,null,null,null,null,null,null,"","","","","",null,0,0,0]
[23,{"$f":"IF('Maklumat Umum'!B45=\"\",\"\",'Maklumat Umum'!B45)","v":""},{"$f":"IF('Maklumat Umum'!C45=\"\",\"\",'Maklumat Umum'!C45)","v":""},null,null,null,null,null,null,null,null,null,null,null,null,null,null,null,null,null,null,null,null,null,null,null,null,null,null,null,null,null,null,null,null,"","","","","",null,0,0,0]
[24,{"$f":"IF('Maklumat Umum'!B46=\"\",\"\",'Maklumat Umum'!B46)","v":""},{"$f":"IF('Maklumat Umum'!C46=\"\",\"\",'Maklumat Umum'!C46)","v":""},null,null,null,null,null,null,null,null,null,null,null,null,null,null,null,null,null,null,null,null,null,null,null,null,null,null,null,null,null,null,null,null,{"$f":"IF(COUNTBLANK(E46:AI46)=31,\"\",AP46+AQ46+AR46)","v":""},{"$f":"IF(COUNTBLANK(E46:AI46)=31,\"\",IF(SUM(E46:AI46)+AJ46>20,20,SUM(E46:AI46)+AJ46))","v":""},"","","",null,0,0,0]
[25,{"$f":"IF('Maklumat Umum'!B47=\"\",\"\",'Maklumat Umum'!B47)","v":""},{"$f":"IF('Maklumat Umum'!C47=\"\",\"\",'Maklumat Umum'!C47)","v":""},null,null,null,null,null,null,null,null,null,null,null,null,null,null,null,null,null,null,null,null,null,null,null,null,null,null,null,null,null,null,null,null,{"$f":"IF(COUNTBLANK(E47:AI47)=31,\"\",AP47+AQ47+AR47)","v":""},{"$f":"IF(COUNTBLANK(E47:AI47)=31,\"\",IF(SUM(E47:AI47)+AJ47>20,20,SUM(E47:AI47)+AJ47))","v":""},"","","",null,{"$f":"IF(COUNTIF(E47:AI47,\"CS\")>14,14,COUNTIF(E47:AI47,\"CS\"))","v":0},{"$f":"COUNTIF(E47:AI47,\"CK\")","v":0},{"$f":"COUNTIF(E47:AI47,\"CU\")","v":0}]
[26,{"$f":"IF('Maklumat Umum'!B48=\"\",\"\",'Maklumat Umum'!B48)","v":""},{"$f":"IF('Maklumat Umum'!C48=\"\",\"\",'Maklumat Umum'!C48)","v":""},{"$f":"IF('Maklumat Umum'!D48=\"\",\"\",'Maklumat Umum'!D48)","v":""},null,null,null,null,null,null,null,null,null,null,null,null,null,null,null,null,null,null,null,null,null,null,null,null,null,null,null,null,null,null,null,{"$f":"IF(COUNTBLANK(E48:AI48)=31,\"\",AP48+AQ48+AR48)","v":""},{"$f":"IF(COUNTBLANK(E48:AI48)=31,\"\",IF(SUM(E48:AI48)+AJ48>20,20,SUM(E48:AI48)+AJ48))","v":""},"","","",null,{"$f":"IF(COUNTIF(E48:AI48,\"CS\")>14,14,COUNTIF(E48:AI48,\"CS\"))","v":0},{"$f":"COUNTIF(E48:AI48,\"CK\")","v":0},{"$f":"COUNTIF(E48:AI48,\"CU\")","v":0}]
[27,{"$f":"IF('Maklumat Umum'!B49=\"\",\"\",'Maklumat Umum'!B49)","v":""},{"$f":"IF('Maklumat Umum'!C49=\"\",\"\",'Maklumat Umum'!C49)","v":""},null,null,null,null,null,null,null,null,null,null,null,null,null,null,null,null,null,null,null,null,null,null,null,null,null,null,null,null,null,null,null,null,{"$f":"IF(COUNTBLANK(E49:AI49)=31,\"\",AP49+AQ49+AR49)","v":""},{"$f":"IF(COUNTBLANK(E49:AI49)=31,\"\",IF(SUM(E49:AI49)+AJ49>20,20,SUM(E49:AI49)+AJ49))","v":""},"","","",null,{"$f":"IF(COUNTIF(E49:AI49,\"CS\")>14,14,COUNTIF(E49:AI49,\"CS\"))","v":0},{"$f":"COUNTIF(E49:AI49,\"CK\")","v":0},{"$f":"COUNTIF(E49:AI49,\"CU\")","v":0}]
[28,{"$f":"IF('Maklumat Umum'!B50=\"\",\"\",'Maklumat Umum'!B50)","v":""},{"$f":"IF('Maklumat Umum'!C50=\"\",\"\",'Maklumat Umum'!C50)","v":""},null,null,null,null,null,null,null,null,null,null,null,null,null,null,null,null,null,null,null,null,null,null,null,null,null,null,null,null,null,null,null,null,"","","","","",null,0,0,0]
[29,{"$f":"IF('Maklumat Umum'!B51=\"\",\"\",'Maklumat Umum'!B51)","v":""},{"$f":"IF('Maklumat Umum'!C51=\"\",\"\",'Maklumat Umum'!C51)","v":""},null,null,null,null,null,null,null,null,null,null,null,null,null,null,null,null,null,null,null,null,null,null,null,null,null,null,null,null,null,null,null,null,"","","","","",null,0,0,0]
[30,{"$f":"IF('Maklumat Umum'!B52=\"\",\"\",'Maklumat Umum'!B52)","v":""},{"$f":"IF('Maklumat Umum'!C52=\"\",\"\",'Maklumat Umum'!C52)","v":""},null,null,null,null,null,null,null,null,null,null,null,null,null,null,null,null,null,null,null,null,null,null,null,null,null,null,null,null,null,null,null,null,"","","","","",null,0,0,0]
[31,{"$f":"IF('Maklumat Umum'!B53=\"\",\"\",'Maklumat Umum'!B53)","v":""},{"$f":"IF('Maklumat Umum'!C53=\"\",\"\",'Maklumat Umum'!C53)","v":""},{"$f":"IF('Maklumat Umum'!D53=\"\",\"\",'Maklumat Umum'!D53)","v":""},null,null,null,null,null,null,null,null,null,null,null,null,null,null,null,null,null,null,null,null,null,null,null,null,null,null,null,null,null,null,null,"","","","","",null,0,0,0]
[32,{"$f":"IF('Maklumat Umum'!B54=\"\",\"\",'Maklumat Umum'!B54)","v":""},{"$f":"IF('Maklumat Umum'!C54=\"\",\"\",'Maklumat Umum'!C54)","v":""},null,null,null,null,null,null,null,null,null,null,null,null,null,null,null,null,null,null,null,null,null,null,null,null,null,null,null,null,null,null,null,null,"","","","","",null,0,0,0]
[33,{"$f":"IF('Maklumat Umum'!B55=\"\",\"\",'Maklumat Umum'!B55)","v":""},{"$f":"IF('Maklumat Umum'!C55=\"\",\"\",'Maklumat Umum'!C55)","v":""},null,null,null,null,null,null,null,null,null,null,null,null,null,null,null,null,null,null,null,null,null,null,null,null,null,null,null,null,null,null,null,null,"","","","","",null,0,0,0]
[34,{"$f":"IF('Maklumat Umum'!B56=\"\",\"\",'Maklumat Umum'!B56)","v":""},{"$f":"IF('Maklumat Umum'!C56=\"\",\"\",'Maklumat Umum'!C56)","v":""},null,null,null,null,null,null,null,null,null,null,null,null,null,null,null,null,null,null,null,null,null,null,null,null,null,null,null,null,null,null,null,null,"","","","","",null,0,0,0]
[35,{"$f":"IF('Maklumat Umum'!B57=\"\",\"\",'Maklumat Umum'!B57)","v":""},{"$f":"IF('Maklumat Umum'!C57=\"\",\"\",'Maklumat Umum'!C57)","v":""},null,null,null,null,null,null,null,null,null,null,null,null,null,null,null,null,null,null,null,null,null,null,null,null,null,null,null,null,null,null,null,null,"","","","","",null,0,0,0]
[36,{"$f":"IF('Maklumat Umum'!B58=\"\",\"\",'Maklumat Umum'!B58)","v":""},{"$f":"IF('Maklumat Umum'!C58=\"\",\"\",'Maklumat Umum'!C58)","v":""},{"$f":"IF('Maklumat Umum'!D58=\"\",\"\",'Maklumat Umum'!D58)","v":""},null,null,null,null,null,null,null,null,null,null,null,null,null,null,null,null,null,null,null,null,null,null,null,null,null,null,null,null,null,null,null,"","","","","",null,0,0,0]
[37,{"$f":"IF('Maklumat Umum'!B59=\"\",\"\",'Maklumat Umum'!B59)","v":""},{"$f":"IF('Maklumat Umum'!C59=\"\",\"\",'Maklumat Umum'!C59)","v":""},null,null,null,null,null,null,null,null,null,null,null,null,null,null,null,null,null,null,null,null,null,null,null,null,null,null,null,null,null,null,null,null,"","","","","",null,0,0,0]
[38,{"$f":"IF('Maklumat Umum'!B60=\"\",\"\",'Maklumat Umum'!B60)","v":""},{"$f":"IF('Maklumat Umum'!C60=\"\",\"\",'Maklumat Umum'!C60)","v":""},null,null,null,null,null,null,null,null,null,null,null,null,null,null,null,null,null,null,null,null,null,null,null,null,null,null,null,null,null,null,null,null,"","","","","",null,0,0,0]
[39,{"$f":"IF('Maklumat Umum'!B61=\"\",\"\",'Maklumat Umum'!B61)","v":""},{"$f":"IF('Maklumat Umum'!C61=\"\",\"\",'Maklumat Umum'!C61)","v":""},null,null,null,null,null,null,null,null,null,null,null,null,null,null,null,null,null,null,null,null,null,null,null,null,null,null,null,null,null,null,null,null,"","","","","",null,0,0,0]
[40,{"$f":"IF('Maklumat Umum'!B62=\"\",\"\",'Maklumat Umum'!B62)","v":""},{"$f":"IF('Maklumat Umum'!C62=\"\",\"\",'Maklumat Umum'!C62)","v":""},null,null,null,null,null,null,null,null,null,null,null,null,null,null,null,null,null,null,null,null,null,null,null,null,null,null,null,null,null,null,null,null,"","","","","",null,0,0,0]
[41,{"$f":"IF('Maklumat Umum'!B63=\"\",\"\",'Maklumat Umum'!B63)","v":""},{"$f":"IF('Maklumat Umum'!C63=\"\",\"\",'Maklumat Umum'!C63)","v":""},{"$f":"IF('Maklumat Umum'!D63=\"\",\"\",'Maklumat Umum'!D63)","v":""},null,null,null,null,null,null,null,null,null,null,null,null,null,null,null,null,null,null,null,null,null,null,null,null,null,null,null,null,null,null,null,"","","","","",null,0,0,0]
[42,{"$f":"IF('Maklumat Umum'!B64=\"\",\"\",'Maklumat Umum'!B64)","v":""},{"$f":"IF('Maklumat Umum'!C64=\"\",\"\",'Maklumat Umum'!C64)","v":""},null,null,null,null,null,null,null,null,null,null,null,null,null,null,null,null,null,null,null,null,null,null,null,null,null,null,null,null,null,null,null,null,"","","","","",null,0,0,0]
[43,{"$f":"IF('Maklumat Umum'!B65=\"\",\"\",'Maklumat Umum'!B65)","v":""},{"$f":"IF('Maklumat Umum'!C65=\"\",\"\",'Maklumat Umum'!C65)","v":""},null,null,null,null,null,null,null,null,null,null,null,null,null,null,null,null,null,null,null,null,null,null,null,null,null,null,null,null,null,null,null,null,"","","","","",null,0,0,0]
[44,{"$f":"IF('Maklumat Umum'!B66=\"\",\"\",'Maklumat Umum'!B66)","v":""},{"$f":"IF('Maklumat Umum'!C66=\"\",\"\",'Maklumat Umum'!C66)","v":""},null,null,null,null,null,null,null,null,null,null,null,null,null,null,null,null,null,null,null,null,null,null,null,null,null,null,null,null,null,null,null,null,"","","","","",null,0,0,0]
[45,{"$f":"IF('Maklumat Umum'!B67=\"\",\"\",'Maklumat Umum'!B67)","v":""},{"$f":"IF('Maklumat Umum'!C67=\"\",\"\",'Maklumat Umum'!C67)","v":""},null,null,null,null,null,null,null,null,null,null,null,null,null,null,null,null,null,null,null,null,null,null,null,null,null,null,null,null,null,null,null,null,"","","","","",null,0,0,0]
[46,{"$f":"IF('Maklumat Umum'!B68=\"\",\"\",'Maklumat Umum'!B68)","v":""},{"$f":"IF('Maklumat Umum'!C68=\"\",\"\",'Maklumat Umum'!C68)","v":""},{"$f":"IF('Maklumat Umum'!D68=\"\",\"\",'Maklumat Umum'!D68)","v":""},null,null,null,null,null,null,null,null,null,null,null,null,null,null,null,null,null,null,null,null,null,null,null,null,null,null,null,null,null,null,null,"","","","","",null,0,0,0]
[47,{"$f":"IF('Maklumat Umum'!B69=\"\",\"\",'Maklumat Umum'!B69)","v":""},{"$f":"IF('Maklumat Umum'!C69=\"\",\"\",'Maklumat Umum'!C69)","v":""},null,null,null,null,null,null,null,null,null,null,null,null,null,null,null,null,null,null,null,null,null,null,null,null,null,null,null,null,null,null,null,null,"","","","","",null,0,0,0]
[48,{"$f":"IF('Maklumat Umum'!B70=\"\",\"\",'Maklumat Umum'!B70)","v":""},{"$f":"IF('Maklumat Umum'!C70=\"\",\"\",'Maklumat Umum'!C70)","v":""},null,null,null,null,null,null,null,null,null,null,null,null,null,null,null,null,null,null,null,null,null,null,null,null,null,null,null,null,null,null,null,null,"","","","","",null,0,0,0]
[49,{"$f":"IF('Maklumat Umum'!B71=\"\",\"\",'Maklumat Umum'!B71)","v":""},{"$f":"IF('Maklumat Umum'!C71=\"\",\"\",'Maklumat Umum'!C71)","v":""},null,null,null,null,null,null,null,null,null,null,null,null,null,null,null,null,null,null,null,null,null,null,null,null,null,null,null,null,null,null,null,null,{"$f":"IF(COUNTBLANK(E71:AI71)=31,\"\",AP71+AQ71+AR71)","v":""},{"$f":"IF(COUNTBLANK(E71:AI71)=31,\"\",IF(SUM(E71:AI71)+AJ71>20,20,SUM(E71:AI71)+AJ71))","v":""},"","","",null,0,0,0]
[50,{"$f":"IF('Maklumat Umum'!B72=\"\",\"\",'Maklumat Umum'!B72)","v":""},{"$f":"IF('Maklumat Umum'!C72=\"\",\"\",'Maklumat Umum'!C72)","v":""},null,null,null,null,null,null,null,null,null,null,null,null,null,null,null,null,null,null,null,null,null,null,null,null,null,null,null,null,null,null,null,null,{"$f":"IF(COUNTBLANK(E72:AI72)=31,\"\",AP72+AQ72+AR72)","v":""},{"$f":"IF(COUNTBLANK(E72:AI72)=31,\"\",IF(SUM(E72:AI72)+AJ72>20,20,SUM(E72:AI72)+AJ72))","v":""},"","","",null,{"$f":"IF(COUNTIF(E72:AI72,\"CS\")>14,14,COUNTIF(E72:AI72,\"CS\"))","v":0},{"$f":"COUNTIF(E72:AI72,\"CK\")","v":0},{"$f":"COUNTIF(E72:AI72,\"CU\")","v":0}]
[51,{"$f":"IF('Maklumat Umum'!B73=\"\",\"\",'Maklumat Umum'!B73)","v":""},{"$f":"IF('Maklumat Umum'!C73=\"\",\"\",'Maklumat Umum'!C73)","v":""},{"$f":"IF('Maklumat Umum'!D73=\"\",\"\",'Maklumat Umum'!D73)","v":""},null,null,null,null,null,null,null,null,null,null,null,null,null,null,null,null,null,null,null,null,null,null,null,null,null,null,null,null,null,null,null,{"$f":"IF(COUNTBLANK(E73:AI73)=31,\"\",AP73+AQ73+AR73)","v":""},{"$f":"IF(COUNTBLANK(E73:AI73)=31,\"\",IF(SUM(E73:AI73)+AJ73>20,20,SUM(E73:AI73)+AJ73))","v":""},"","","",null,{"$f":"IF(COUNTIF(E73:AI73,\"CS\")>14,14,COUNTIF(E73:AI73,\"CS\"))","v":0},{"$f":"COUNTIF(E73:AI73,\"CK\")","v":0},{"$f":"COUNTIF(E73:AI73,\"CU\")","v":0}]
[52,{"$f":"IF('Maklumat Umum'!B74=\"\",\"\",'Maklumat Umum'!B74)","v":""},{"$f":"IF('Maklumat Umum'!C74=\"\",\"\",'Maklumat Umum'!C74)","v":""},null,null,null,null,null,null,null,null,null,null,null,null,null,null,null,null,null,null,null,null,null,null,null,null,null,null,null,null,null,null,null,null,{"$f":"IF(COUNTBLANK(E74:AI74)=31,\"\",AP74+AQ74+AR74)","v":""},{"$f":"IF(COUNTBLANK(E74:AI74)=31,\"\",IF(SUM(E74:AI74)+AJ74>20,20,SUM(E74:AI74)+AJ74))","v":""},"","","",null,{"$f":"IF(COUNTIF(E74:AI74,\"CS\")>14,14,COUNTIF(E74:AI74,\"CS\"))","v":0},{"$f":"COUNTIF(E74:AI74,\"CK\")","v":0},{"$f":"COUNTIF(E74:AI74,\"CU\")","v":0}]
[53,{"$f":"IF('Maklumat Umum'!B75=\"\",\"\",'Maklumat Umum'!B75)","v":""},{"$f":"IF('Maklumat Umum'!C75=\"\",\"\",'Maklumat Umum'!C75)","v":""},null,null,null,null,null,null,null,null,null,null,null,null,null,null,null,null,null,null,null,null,null,null,null,null,null,null,null,null,null,null,null,null,"","","","","",null,0,0,0]
[54,{"$f":"IF('Maklumat Umum'!B76=\"\",\"\",'Maklumat Umum'!B76)","v":""},{"$f":"IF('Maklumat Umum'!C76=\"\",\"\",'Maklumat Umum'!C76)","v":""},null,null,null,null,null,null,null,null,null,null,null,null,null,null,null,null,null,null,null,null,null,null,null,null,null,null,null,null,null,null,null,null,"","","","","",null,0,0,0]
[55,{"$f":"IF('Maklumat Umum'!B77=\"\",\"\",'Maklumat Umum'!B77)","v":""},{"$f":"IF('Maklumat Umum'!C77=\"\",\"\",'Maklumat Umum'!C77)","v":""},null,null,null,null,null,null,null,null,null,null,null,null,null,null,null,null,null,null,null,null,null,null,null,null,null,null,null,null,null,null,null,null,"","","","","",null,0,0,0]
[56,{"$f":"IF('Maklumat Umum'!B78=\"\",\"\",'Maklumat Umum'!B78)","v":""},{"$f":"IF('Maklumat Umum'!C78=\"\",\"\",'Maklumat Umum'!C78)","v":""},{"$f":"IF('Maklumat Umum'!D78=\"\",\"\",'Maklumat Umum'!D78)","v":""},null,null,null,null,null,null,null,null,null,null,null,null,null,null,null,null,null,null,null,null,null,null,null,null,null,null,null,null,null,null,null,"","","","","",null,0,0,0]
[57,{"$f":"IF('Maklumat Umum'!B79=\"\",\"\",'Maklumat Umum'!B79)","v":""},{"$f":"IF('Maklumat Umum'!C79=\"\",\"\",'Maklumat Umum'!C79)","v":""},null,null,null,null,null,null,null,null,null,null,null,null,null,null,null,null,null,null,null,null,null,null,null,null,null,null,null,null,null,null,null,null,"","","","","",null,0,0,0]
[58,{"$f":"IF('Maklumat Umum'!B80=\"\",\"\",'Maklumat Umum'!B80)","v":""},{"$f":"IF('Maklumat Umum'!C80=\"\",\"\",'Maklumat Umum'!C80)","v":""},null,null,null,null,null,null,null,null,null,null,null,null,null,null,null,null,null,null,null,null,null,null,null,null,null,null,null,null,null,null,null,null,"","","","","",null,0,0,0]
[59,{"$f":"IF('Maklumat Umum'!B81=\"\",\"\",'Maklumat Umum'!B81)","v":""},{"$f":"IF('Maklumat Umum'!C81=\"\",\"\",'Maklumat Umum'!C81)","v":""},null,null,null,null,null,null,null,null,null,null,null,null,null,null,null,null,null,null,null,null,null,null,null,null,null,null,null,null,null,null,null,null,"","","","","",null,0,0,0]
[60,{"$f":"IF('Maklumat Umum'!B82=\"\",\"\",'Maklumat Umum'!B82)","v":""},{"$f":"IF('Maklumat Umum'!C82=\"\",\"\",'Maklumat Umum'!C82)","v":""},null,null,null,null,null,null,null,null,null,null,null,null,null,null,null,null,null,null,null,null,null,null,null,null,null,null,null,null,null,null,null,null,"","","","","",null,0,0,0]
[61,{"$f":"IF('Maklumat Umum'!B83=\"\",\"\",'Maklumat Umum'!B83)","v":""},{"$f":"IF('Maklumat Umum'!C83=\"\",\"\",'Maklumat Umum'!C83)","v":""},{"$f":"IF('Maklumat Umum'!D83=\"\",\"\",'Maklumat Umum'!D83)","v":""},null,null,null,null,null,null,null,null,null,null,null,null,null,null,null,null,null,null,null,null,null,null,null,null,null,null,null,null,null,null,null,"","","","","",null,0,0,0]
[62,{"$f":"IF('Maklumat Umum'!B84=\"\",\"\",'Maklumat Umum'!B84)","v":""},{"$f":"IF('Maklumat Umum'!C84=\"\",\"\",'Maklumat Umum'!C84)","v":""},null,null,null,null,null,null,null,null,null,null,null,null,null,null,null,null,null,null,null,null,null,null,null,null,null,null,null,null,null,null,null,null,"","","","","",null,0,0,0]
[63,{"$f":"IF('Maklumat Umum'!B85=\"\",\"\",'Maklumat Umum'!B85)","v":""},{"$f":"IF('Maklumat Umum'!C85=\"\",\"\",'Maklumat Umum'!C85)","v":""},null,null,null,null,null,null,null,null,null,null,null,null,null,null,null,null,null,null,null,null,null,null,null,null,null,null,null,null,null,null,null,null,"","","","","",null,0,0,0]
[64,{"$f":"IF('Maklumat Umum'!B86=\"\",\"\",'Maklumat Umum'!B86)","v":""},{"$f":"IF('Maklumat Umum'!C86=\"\",\"\",'Maklumat Umum'!C86)","v":""},null,null,null,null,null,null,null,null,null,null,null,null,null,null,null,null,null,null,null,null,null,null,null,null,null,null,null,null,null,null,null,null,"","","","","",null,0,0,0]
[65,{"$f":"IF('Maklumat Umum'!B87=\"\",\"\",'Maklumat Umum'!B87)","v":""},{"$f":"IF('Maklumat Umum'!C87=\"\",\"\",'Maklumat Umum'!C87)","v":""},null,null,null,null,null,null,null,null,null,null,null,null,null,null,null,null,null,null,null,null,null,null,null,null,null,null,null,null,null,null,null,null,"","",{"$f":"IF(COUNTBLANK(E87:AI87)=31,\"\",IF(AK87<16,0,AK87*25))","v":""},{"$f":"IF(AL87=\"\",\"\",IF(AL87=0,AK87*15,(AL87/0.5)*0.3))","v":""},{"$f":"IF(AL87=\"\",\"\",IF(AL87=0,AK87*10,(AL87/0.5)*0.2))","v":""},null,0,0,0]
[66,{"$f":"IF('Maklumat Umum'!B88=\"\",\"\",'Maklumat Umum'!B88)","v":""},{"$f":"IF('Maklumat Umum'!C88=\"\",\"\",'Maklumat Umum'!C88)","v":""},{"$f":"IF('Maklumat Umum'!D88=\"\",\"\",'Maklumat Umum'!D88)","v":""},null,null,null,null,null,null,null,null,null,null,null,null,null,null,null,null,null,null,null,null,null,null,null,null,null,null,null,null,null,null,null,"","","","","",null,0,0,0]
[67,{"$f":"IF('Maklumat Umum'!B89=\"\",\"\",'Maklumat Umum'!B89)","v":""},{"$f":"IF('Maklumat Umum'!C89=\"\",\"\",'Maklumat Umum'!C89)","v":""},null,null,null,null,null,null,null,null,null,null,null,null,null,null,null,null,null,null,null,null,null,null,null,null,null,null,null,null,null,null,null,null,"","","","","",null,0,0,0]
[68,{"$f":"IF('Maklumat Umum'!B90=\"\",\"\",'Maklumat Umum'!B90)","v":""},{"$f":"IF('Maklumat Umum'!C90=\"\",\"\",'Maklumat Umum'!C90)","v":""},null,null,null,null,null,null,null,null,null,null,null,null,null,null,null,null,null,null,null,null,null,null,null,null,null,null,null,null,null,null,null,null,"","","","","",null,0,0,0]
[69,{"$f":"IF('Maklumat Umum'!B91=\"\",\"\",'Maklumat Umum'!B91)","v":""},{"$f":"IF('Maklumat Umum'!C91=\"\",\"\",'Maklumat Umum'!C91)","v":""},null,null,null,null,null,null,null,null,null,null,null,null,null,null,null,null,null,null,null,null,null,null,null,null,null,null,null,null,null,null,null,null,"","","","","",null,0,0,0]
[70,{"$f":"IF('Maklumat Umum'!B92=\"\",\"\",'Maklumat Umum'!B92)","v":""},{"$f":"IF('Maklumat Umum'!C92=\"\",\"\",'Maklumat Umum'!C92)","v":""},null,null,null,null,null,null,null,null,null,null,null,null,null,null,null,null,null,null,null,null,null,null,null,null,null,null,null,null,null,null,null,null,"","","","","",null,0,0,0]
[71,{"$f":"IF('Maklumat Umum'!B93=\"\",\"\",'Maklumat Umum'!B93)","v":""},{"$f":"IF('Maklumat Umum'!C93=\"\",\"\",'Maklumat Umum'!C93)","v":""},{"$f":"IF('Maklumat Umum'!D93=\"\",\"\",'Maklumat Umum'!D93)","v":""},null,null,null,null,null,null,null,null,null,null,null,null,null,null,null,null,null,null,null,null,null,null,null,null,null,null,null,null,null,null,null,"","","","","",null,0,0,0]
[72,{"$f":"IF('Maklumat Umum'!B94=\"\",\"\",'Maklumat Umum'!B94)","v":""},{"$f":"IF('Maklumat Umum'!C94=\"\",\"\",'Maklumat Umum'!C94)","v":""},null,null,null,null,null,null,null,null,null,null,null,null,null,null,null,null,null,null,null,null,null,null,null,null,null,null,null,null,null,null,null,null,"","","","","",null,0,0,0]
[73,{"$f":"IF('Maklumat Umum'!B95=\"\",\"\",'Maklumat Umum'!B95)","v":""},{"$f":"IF('Maklumat Umum'!C95=\"\",\"\",'Maklumat Umum'!C95)","v":""},null,null,null,null,null,null,null,null,null,null,null,null,null,null,null,null,null,null,null,null,null,null,null,null,null,null,null,null,null,null,null,null,"","","","","",null,0,0,0]
[74,{"$f":"IF('Maklumat Umum'!B96=\"\",\"\",'Maklumat Umum'!B96)","v":""},{"$f":"IF('Maklumat Umum'!C96=\"\",\"\",'Maklumat Umum'!C96)","v":""},null,null,null,null,null,null,null,null,null,null,null,null,null,null,null,null,null,null,null,null,null,null,null,null,null,null,null,null,null,null,null,null,{"$f":"IF(COUNTBLANK(E96:AI96)=31,\"\",AP96+AQ96+AR96)","v":""},{"$f":"IF(COUNTBLANK(E96:AI96)=31,\"\",IF(SUM(E96:AI96)+AJ96>20,20,SUM(E96:AI96)+AJ96))","v":""},"","","",null,0,0,0]
[75,{"$f":"IF('Maklumat Umum'!B97=\"\",\"\",'Maklumat Umum'!B97)","v":""},{"$f":"IF('Maklumat Umum'!C97=\"\",\"\",'Maklumat Umum'!C97)","v":""},null,null,null,null,null,null,null,null,null,null,null,null,null,null,null,null,null,null,null,null,null,null,null,null,null,null,null,null,null,null,null,null,{"$f":"IF(COUNTBLANK(E97:AI97)=31,\"\",AP97+AQ97+AR97)","v":""},{"$f":"IF(COUNTBLANK(E97:AI97)=31,\"\",IF(SUM(E97:AI97)+AJ97>20,20,SUM(E97:AI97)+AJ97))","v":""},"","","",null,{"$f":"IF(COUNTIF(E97:AI97,\"CS\")>14,14,COUNTIF(E97:AI97,\"CS\"))","v":0},{"$f":"COUNTIF(E97:AI97,\"CK\")","v":0},{"$f":"COUNTIF(E97:AI97,\"CU\")","v":0}]
[76,{"$f":"IF('Maklumat Umum'!B98=\"\",\"\",'Maklumat Umum'!B98)","v":""},{"$f":"IF('Maklumat Umum'!C98=\"\",\"\",'Maklumat Umum'!C98)","v":""},{"$f":"IF('Maklumat Umum'!D98=\"\",\"\",'Maklumat Umum'!D98)","v":""},null,null,null,null,null,null,null,null,null,null,null,null,null,null,null,null,null,null,null,null,null,null,null,null,null,null,null,null,null,null,null,{"$f":"IF(COUNTBLANK(E98:AI98)=31,\"\",AP98+AQ98+AR98)","v":""},{"$f":"IF(COUNTBLANK(E98:AI98)=31,\"\",IF(SUM(E98:AI98)+AJ98>20,20,SUM(E98:AI98)+AJ98))","v":""},"","","",null,{"$f":"IF(COUNTIF(E98:AI98,\"CS\")>14,14,COUNTIF(E98:AI98,\"CS\"))","v":0},{"$f":"COUNTIF(E98:AI98,\"CK\")","v":0},{"$f":"COUNTIF(E98:AI98,\"CU\")","v":0}]
[77,{"$f":"IF('Maklumat Umum'!B99=\"\",\"\",'Maklumat Umum'!B99)","v":""},{"$f":"IF('Maklumat Umum'!C99=\"\",\"\",'Maklumat Umum'!C99)","v":""},null,null,null,null,null,null,null,null,null,null,null,null,null,null,null,null,null,null,null,null,null,null,null,null,null,null,null,null,null,null,null,null,{"$f":"IF(COUNTBLANK(E99:AI99)=31,\"\",AP99+AQ99+AR99)","v":""},{"$f":"IF(COUNTBLANK(E99:AI99)=31,\"\",IF(SUM(E99:AI99)+AJ99>20,20,SUM(E99:AI99)+AJ99))","v":""},"","","",null,{"$f":"IF(COUNTIF(E99:AI99,\"CS\")>14,14,COUNTIF(E99:AI99,\"CS\"))","v":0},{"$f":"COUNTIF(E99:AI99,\"CK\")","v":0},{"$f":"COUNTIF(E99:AI99,\"CU\")","v":0}]
[78,{"$f":"IF('Maklumat Umum'!B100=\"\",\"\",'Maklumat Umum'!B100)","v":""},{"$f":"IF('Maklumat Umum'!C100=\"\",\"\",'Maklumat Umum'!C100)","v":""},null,null,null,null,null,null,null,null,null,null,null,null,null,null,null,null,null,null,null,null,null,null,null,null,null,null,null,null,null,null,null,null,"","","","","",null,0,0,0]
[79,{"$f":"IF('Maklumat Umum'!B101=\"\",\"\",'Maklumat Umum'!B101)","v":""},{"$f":"IF('Maklumat Umum'!C101=\"\",\"\",'Maklumat Umum'!C101)","v":""},null,null,null,null,null,null,null,null,null,null,null,null,null,null,null,null,null,null,null,null,null,null,null,null,null,null,null,null,null,null,null,null,"","","","","",null,0,0,0]
[80,{"$f":"IF('Maklumat Umum'!B102=\"\",\"\",'Maklumat Umum'!B102)","v":""},{"$f":"IF('Maklumat Umum'!C102=\"\",\"\",'Maklumat Umum'!C102)","v":""},null,null,null,null,null,null,null,null,null,null,null,null,null,null,null,null,null,null,null,null,null,null,null,null,null,null,null,null,null,null,null,null,"","","","","",null,0,0,0]
[81,{"$f":"IF('Maklumat Umum'!B103=\"\",\"\",'Maklumat Umum'!B103)","v":""},{"$f":"IF('Maklumat Umum'!C103=\"\",\"\",'Maklumat Umum'!C103)","v":""},{"$f":"IF('Maklumat Umum'!D103=\"\",\"\",'Maklumat Umum'!D103)","v":""},null,null,null,null,null,null,null,null,null,null,null,null,null,null,null,null,null,null,null,null,null,null,null,null,null,null,null,null,null,null,null,"","","","","",null,0,0,0]
[82,{"$f":"IF('Maklumat Umum'!B104=\"\",\"\",'Maklumat Umum'!B104)","v":""},{"$f":"IF('Maklumat Umum'!C104=\"\",\"\",'Maklumat Umum'!C104)","v":""},null,null,null,null,null,null,null,null,null,null,null,null,null,null,null,null,null,null,null,null,null,null,null,null,null,null,null,null,null,null,null,null,"","","","","",null,0,0,0]
[83,{"$f":"IF('Maklumat Umum'!B105=\"\",\"\",'Maklumat Umum'!B105)","v":""},{"$f":"IF('Maklumat Umum'!C105=\"\",\"\",'Maklumat Umum'!C105)","v":""},null,null,null,null,null,null,null,null,null,null,null,null,null,null,null,null,null,null,null,null,null,null,null,null,null,null,null,null,null,null,null,null,"","","","","",null,0,0,0]
[84,{"$f":"IF('Maklumat Umum'!B106=\"\",\"\",'Maklumat Umum'!B106)","v":""},{"$f":"IF('Maklumat Umum'!C106=\"\",\"\",'Maklumat Umum'!C106)","v":""},null,null,null,null,null,null,null,null,null,null,null,null,null,null,null,null,null,null,null,null,null,null,null,null,null,null,null,null,null,null,null,null,"","","","","",null,0,0,0]
[85,{"$f":"IF('Maklumat Umum'!B107=\"\",\"\",'Maklumat Umum'!B107)","v":""},{"$f":"IF('Maklumat Umum'!C107=\"\",\"\",'Maklumat Umum'!C107)","v":""},null,null,null,null,null,null,null,null,null,null,null,null,null,null,null,null,null,null,null,null,null,null,null,null,null,null,null,null,null,null,null,null,"","","","","",null,0,0,0]
[86,{"$f":"IF('Maklumat Umum'!B108=\"\",\"\",'Maklumat Umum'!B108)","v":""},{"$f":"IF('Maklumat Umum'!C108=\"\",\"\",'Maklumat Umum'!C108)","v":""},{"$f":"IF('Maklumat Umum'!D108=\"\",\"\",'Maklumat Umum'!D108)","v":""},null,null,null,null,null,null,null,null,null,null,null,null,null,null,null,null,null,null,null,null,null,null,null,null,null,null,null,null,null,null,null,"","","","","",null,0,0,0]
[87,{"$f":"IF('Maklumat Umum'!B109=\"\",\"\",'Maklumat Umum'!B109)","v":""},{"$f":"IF('Maklumat Umum'!C109=\"\",\"\",'Maklumat Umum'!C109)","v":""},null,null,null,null,null,null,null,null,null,null,null,null,null,null,null,null,null,null,null,null,null,null,null,null,null,null,null,null,null,null,null,null,"","","","","",null,0,0,0]
[88,{"$f":"IF('Maklumat Umum'!B110=\"\",\"\",'Maklumat Umum'!B110)","v":""},{"$f":"IF('Maklumat Umum'!C110=\"\",\"\",'Maklumat Umum'!C110)","v":""},null,null,null,null,null,null,null,null,null,null,null,null,null,null,null,null,null,null,null,null,null,null,null,null,null,null,null,null,null,null,null,null,"","","","","",null,0,0,0]
[89,{"$f":"IF('Maklumat Umum'!B111=\"\",\"\",'Maklumat Umum'!B111)","v":""},{"$f":"IF('Maklumat Umum'!C111=\"\",\"\",'Maklumat Umum'!C111)","v":""},null,null,null,null,null,null,null,null,null,null,null,null,null,null,null,null,null,null,null,null,null,null,null,null,null,null,null,null,null,null,null,null,"","","","","",null,0,0,0]
[90,{"$f":"IF('Maklumat Umum'!B112=\"\",\"\",'Maklumat Umum'!B112)","v":""},{"$f":"IF('Maklumat Umum'!C112=\"\",\"\",'Maklumat Umum'!C112)","v":""},null,null,null,null,null,null,null,null,null,null,null,null,null,null,null,null,null,null,null,null,null,null,null,null,null,null,null,null,null,null,null,null,"","","","","",null,0,0,0]
[91,{"$f":"IF('Maklumat Umum'!B113=\"\",\"\",'Maklumat Umum'!B113)","v":""},{"$f":"IF('Maklumat Umum'!C113=\"\",\"\",'Maklumat Umum'!C113)","v":""},{"$f":"IF('Maklumat Umum'!D113=\"\",\"\",'Maklumat Umum'!D113)","v":""},null,null,null,null,null,null,null,null,null,null,null,null,null,null,null,null,null,null,null,null,null,null,null,null,null,null,null,null,null,null,null,"","","","","",null,0,0,0]
[92,{"$f":"IF('Maklumat Umum'!B114=\"\",\"\",'Maklumat Umum'!B114)","v":""},{"$f":"IF('Maklumat Umum'!C114=\"\",\"\",'Maklumat Umum'!C114)","v":""},null,null,null,null,null,null,null,null,null,null,null,null,null,null,null,null,null,null,null,null,null,null,null,null,null,null,null,null,null,null,null,null,"","","","","",null,0,0,0]
[93,{"$f":"IF('Maklumat Umum'!B115=\"\",\"\",'Maklumat Umum'!B115)","v":""},{"$f":"IF('Maklumat Umum'!C115=\"\",\"\",'Maklumat Umum'!C115)","v":""},null,null,null,null,null,null,null,null,null,null,null,null,null,null,null,null,null,null,null,null,null,null,null,null,null,null,null,null,null,null,null,null,"","","","","",null,0,0,0]
[94,{"$f":"IF('Maklumat Umum'!B116=\"\",\"\",'Maklumat Umum'!B116)","v":""},{"$f":"IF('Maklumat Umum'!C116=\"\",\"\",'Maklumat Umum'!C116)","v":""},null,null,null,null,null,null,null,null,null,null,null,null,null,null,null,null,null,null,null,null,null,null,null,null,null,null,null,null,null,null,null,null,"","","","","",null,0,0,0]
[95,{"$f":"IF('Maklumat Umum'!B117=\"\",\"\",'Maklumat Umum'!B117)","v":""},{"$f":"IF('Maklumat Umum'!C117=\"\",\"\",'Maklumat Umum'!C117)","v":""},null,null,null,null,null,null,null,null,null,null,null,null,null,null,null,null,null,null,null,null,null,null,null,null,null,null,null,null,null,null,null,null,"","","","","",null,0,0,0]
[96,{"$f":"IF('Maklumat Umum'!B118=\"\",\"\",'Maklumat Umum'!B118)","v":""},{"$f":"IF('Maklumat Umum'!C118=\"\",\"\",'Maklumat Umum'!C118)","v":""},{"$f":"IF('Maklumat Umum'!D118=\"\",\"\",'Maklumat Umum'!D118)","v":""},null,null,null,null,null,null,null,null,null,null,null,null,null,null,null,null,null,null,null,null,null,null,null,null,null,null,null,null,null,null,null,"","","","","",null,0,0,0]
[97,{"$f":"IF('Maklumat Umum'!B119=\"\",\"\",'Maklumat Umum'!B119)","v":""},{"$f":"IF('Maklumat Umum'!C119=\"\",\"\",'Maklumat Umum'!C119)","v":""},null,null,null,null,null,null,null,null,null,null,null,null,null,null,null,null,null,null,null,null,null,null,null,null,null,null,null,null,null,null,null,null,"","","","","",null,0,0,0]
[98,{"$f":"IF('Maklumat Umum'!B120=\"\",\"\",'Maklumat Umum'!B120)","v":""},{"$f":"IF('Maklumat Umum'!C120=\"\",\"\",'Maklumat Umum'!C120)","v":""},null,null,null,null,null,null,null,null,null,null,null,null,null,null,null,null,null,null,null,null,null,null,null,null,null,null,null,null,null,null,null,null,"","","","","",null,0,0,0]
[99,{"$f":"IF('Maklumat Umum'!B121=\"\",\"\",'Maklumat Umum'!B121)","v":""},{"$f":"IF('Maklumat Umum'!C121=\"\",\"\",'Maklumat Umum'!C121)","v":""},null,null,null,null,null,null,null,null,null,null,null,null,null,null,null,null,null,null,null,null,null,null,null,null,null,null,null,null,null,null,null,null,{"$f":"IF(COUNTBLANK(E121:AI121)=31,\"\",AP121+AQ121+AR121)","v":""},{"$f":"IF(COUNTBLANK(E121:AI121)=31,\"\",IF(SUM(E121:AI121)+AJ121>20,20,SUM(E121:AI121)+AJ121))","v":""},"","","",null,0,0,0]
[100,{"$f":"IF('Maklumat Umum'!B122=\"\",\"\",'Maklumat Umum'!B122)","v":""},{"$f":"IF('Maklumat Umum'!C122=\"\",\"\",'Maklumat Umum'!C122)","v":""},null,null,null,null,null,null,null,null,null,null,null,null,null,null,null,null,null,null,null,null,null,null,null,null,null,null,null,null,null,null,null,null,{"$f":"IF(COUNTBLANK(E122:AI122)=31,\"\",AP122+AQ122+AR122)","v":""},{"$f":"IF(COUNTBLANK(E122:AI122)=31,\"\",IF(SUM(E122:AI122)+AJ122>20,20,SUM(E122:AI122)+AJ122))","v":""},"","","",null,{"$f":"IF(COUNTIF(E122:AI122,\"CS\")>14,14,COUNTIF(E122:AI122,\"CS\"))","v":0},{"$f":"COUNTIF(E122:AI122,\"CK\")","v":0},{"$f":"COUNTIF(E122:AI122,\"CU\")","v":0}]
["Nota: PL perlu pastikan maklumat adalah tepat dan nama perantis mengikut Kad Pengenalan serta turutan dalam Pengesahan Pendaftaran Perantis SLDN",null,null,null,null,null,null,null,null,null,null,null,null,null,null,null,null,null,null,null,null,null,null,null,null,null,null,null,null,null,null,null,null,null,null,"JUM TUNTUTAN",null,{"$f":"SUM(AL23:AL122)","v":0},{"$f":"SUM(AM23:AM122)","v":0},{"$f":"SUM(AN23:AN122)","v":0},null,null,null,null,"Pejabat Wilayah hendaklah memindahkan Jumlah tuntutan elaun perantis ini ke dalam MySPIKE bagi tujuan pembayaran "]
[null,null,null,null,null,null,null,null,null,null,null,null,null,null,null,null,null,null,null,null,null,null,null,null,null,null,null,null,null,null,null,null,null,null,null,null,null,{"$f":"SUM(AL123:AN123)","v":0}]
["Dengan ini kami mengesahkan bahawa maklumat di atas adalah benar dan perantis sedang menjalani latihan di syarikat kerjasama/ penyedia latihan seperti yang telah ditetapkan."]
[]
["Disediakan oleh",null,null,null,null,null,null,null,null,null,null,null,null,null,"Disahkan oleh"]
[]
["…………………………………………….",null,null,null,null,null,null,null,null,null,null,null,null,null,"……………………………………………."]
["(Tandatangan Penyelaras Pusat Latihan)",null,null,null,null,null,null,null,null,null,null,null,"(Tandatangan Penyelaras Syarikat 1)",null,null,null,null,null,null,null,null,null,null,null,null,null,null,null,null,null,"(Tandatangan Penyelaras Syarikat 2)"]
["Nama:  ",null,null,null,null,null,null,null,null,null,null,null,"Nama:",null,null,null,null,null,null,null,null,null,null,null,null,null,null,null,null,null,"Nama:"]
["Tarikh:",null,null,null,null,null,null,null,null,null,null,null,"Tarikh:",null,null,null,null,null,null,null,null,null,null,null,null,null,null,null,null,null,"Tarikh:"]
[]
["PENGESAHAN PENGURUS PUSAT LATIHAN:",null,null,null,null,null,null,null,null,null,null,null,"(Tandatangan Penyelaras Syarikat 3)",null,null,null,null,null,null,null,null,null,null,null,null,null,null,null,null,null,"(Tandatangan Penyelaras Syarikat 4)"]
["Saya memperakukan kenyataan di atas adalah  benar",null,null,null,null,null,null,null,null,null,null,null,"Nama:",null,null,null,null,null,null,null,null,null,null,null,null,null,null,null,null,null,"Nama:"]
[null,null,null,null,null,null,null,null,null,null,null,null,"Tarikh:",null,null,null,null,null,null,null,null,null,null,null,null,null,null,null,null,null,"Tarikh:"]
["……………………………………………."]
["(Tandatangan Pengurus Pusat Latihan)",null,null,null,null,null,null,null,null,null,null,null,"(Tandatangan Penyelaras Syarikat 5)"]
[null,null,null,null,null,null,null,null,null,null,null,null,"Nama:"]
["Nama ",null,null,null,null,null,null,null,null,null,null,null,"Tarikh:"]
["No Kad Pengenalan (Pengurus Pusat Latihan)"]
["Tarikh:",null,null,"Cop Rasmi Pusat Latihan:"]

{"sheet":"Claim_page1_Aug23","index":16,"n_rows":24,"n_cols":5,"rows_kept":24,"cut":false,"hidden":false,"merged":[[0,0,0,3],[0,4,7,9],[1,1,1,2],[3,1,3,3],[4,1,4,3],[5,1,5,3],[6,0,6,3],[7,1,7,3],[18,0,18,3],[8,1,8,3],[9,1,9,3],[10,1,10,3],[11,1,11,3],[12,0,12,3],[13,1,13,3],[13,4,17,4],[14,1,14,3],[15,1,15,3],[16,1,16,3],[17,1,17,3]]}
[{"$f":"\"BORANG PERMOHONAN TUNTUTAN INSENTIF \" & CHAR(10)& 'Maklumat Umum'!H1000","v":"BORANG PERMOHONAN TUNTUTAN INSENTIF \nSISTEM LATIHAN DUAL NASIONAL (SLDN) BERINSENTIF 2023"}]
["BULAN:","AUG 2023"]
[]
["No Pengambilan:",{"$f":"'Maklumat Umum'!C11","v":0}]
["Tarikh Mula Latihan",{"$f":"'Maklumat Umum'!C13","v":"00:00:00"}]
["Tarikh Tamat Latihan",{"$f":"'Maklumat Umum'!C14","v":"2024-01-26"}]
["BAHAGIAN A. MAKLUMAT PEMOHON"]
["Nama Pusat Latihan / Syarikat Inhouse (seperti dalam Surat Tawaran/ Perjanjian)",{"$f":"FebXX!C5","v":0}]
["Kod Pusat Latihan / Syarikat Inhouse",{"$f":"FebXX!C6","v":0}]
["ID Rujukan Tawaran SLDN Plus ",{"$f":"'Maklumat Tuntutan'!B5","v":0},null,null,"Cth. JPK/SP/7099"]
["Nama Penyelaras Pusat Latihan/ Syarikat Inhouse",{"$f":"'Maklumat Tuntutan'!B6","v":0}]
["No. Kad Pengenalan",{"$f":"'Maklumat Tuntutan'!B7","v":0}]
["BAHAGIAN B. MAKLUMAT PENERIMA DAN AKAUN BAYARAN INSENTIF"]
["Nama Penerima Bayaran (Pusat Latihan / Syarikat Inhouse)",{"$f":"'Maklumat Tuntutan'!B9","v":0},null,null,"Akaun Bank Mesti Sama Dengan Akaun Yang Dinyatakan Dalam Dokumen Perjanjian"]
["Nama Bank Penerima",{"$f":"'Maklumat Tuntutan'!B10","v":0}]
["Nombor Akaun Bank Penerima",{"$f":"'Maklumat Tuntutan'!B11","v":0}]
["Cawangan Bank",{"$f":"'Maklumat Tuntutan'!B12","v":0}]
["Salinan Penyata Akaun Bank (Sila pastikan maklumat pada dokumen jelas dan terang)","Dilampirkan"]
["BAHAGIAN C. MAKLUMAT TUNTUTAN INSENTIF (BERDASARKAN REKOD KEHADIRAN PERANTIS)"]
["Butiran","Kadar sehari (RM)","%","Jumlah \n(RM)"]
["i.  Insentif Pusat Latihan",15,{"$f":"B21/(B$21+B$22+B$23)","v":0.3},{"$f":"'Aug23'!AM123","v":0}]
["ii.  Insentif Syarikat Kerjasama",10,{"$f":"B22/(B$21+B$22+B$23)","v":0.2},{"$f":"'Aug23'!AN123","v":0}]
["iii. Elaun Perantis",25,{"$f":"B23/(B$21+B$22+B$23)","v":0.5},{"$f":"'Aug23'!AL123","v":0}]
["JUMLAH",null,null,{"$f":"SUM(D21:D23)","v":0}]

{"sheet":"Sep23","index":17,"n_rows":142,"n_cols":45,"rows_kept":142,"cut":false,"hidden":false,"merged":[[0,0,0,40],[1,0,1,40],[2,16,2,20],[5,12,8,35],[15,1,16,2],[16,4,16,33],[17,0,21,0],[17,1,21,1],[17,2,21,2],[17,3,21,3],[17,4,17,33],[19,4,19,33],[47,3,51,3],[17,36,21,36],[17,37,17,39],[17,40,21,40],[18,37,21,37],[18,38,21,38],[18,39,21,39],[17,35,21,35],[22,3,26,3],[27,3,31,3],[32,3,36,3],[37,3,41,3],[42,3,46,3],[107,3,111,3],[52,3,56,3],[57,3,61,3],[62,3,66,3],[67,3,71,3],[72,3,76,3],[77,3,81,3],[82,3,86,3],[87,3,91,3],[92,3,96,3],[97,3,101,3],[102,3,106,3],[112,3,116,3],[117,3,121,3],[122,35,123,36],[122,44,126,50],[123,37,123,39]]}
["BORANG KEHADIRAN PERANTIS"]
[{"$f":"'Maklumat Umum'!H1000","v":"SISTEM LATIHAN DUAL NASIONAL (SLDN) BERINSENTIF 2023"}]
[null,null,null,null,null,null,null,null,null,null,null,null,null,"BULAN",null,null,"SEP 2023",null,null,null,null,null,null,null,null,null,null,null,null,null,null,null,null,null,null,null,"JPK/SP/02"]
[]
[null,"NAMA PUSAT LATIHAN",{"$f":"'Maklumat Umum'!C8","v":0},null,null,null,null,null,null,null,null,null,"Nota: "]
[null,"KOD PUSAT LATIHAN",{"$f":"'Maklumat Umum'!C9","v":0},null,null,null,null,null,null,null,null,null,"1. Bil maksimum hari latihan sebulan yang layak dibayar insentif adalah 20 hari termasuklah:\n(1) Cuti Sakit terhad kepada 14 hari sahaja  - Perlu sertakan Perakuan dari Klinik/Hospital\n(2) Cuti Kecemasan seperti kematian ahli keluarga, kebakaran, banjir dan lain-lain -  Perlu sertakan Surat Pihak Berkuasa Berkaitan (Klinik/Hospital, polis dll) \n(3) Cuti Umum Negeri atau Nasional\n(4) Cuti Kuarantin - Perlu sertakan kelulusan"]
[null,"NAMA PROGRAM",{"$f":"'Maklumat Umum'!C10","v":0}]
[null,"NO PENGAMBILAN",{"$f":"'Maklumat Umum'!C11","v":0}]
[null,"TARIKH MULA LATIHAN",{"$f":"'Maklumat Umum'!C13","v":"00:00:00"}]
[null,"TARIKH TAMAT LATIHAN",{"$f":"'Maklumat Umum'!C14","v":"2024-01-26"},null,null,null,null,null,null,null,null,null,"2. Kadar sehari elaun perantis adalah RM25"]
[null,"TEMPOH LATIHAN DILULUSKAN (BULAN)",{"$f":"'Maklumat Umum'!C12","v":0},null,null,null,null,null,null,null,null,null,"3. Perantis hanya layak dibayar jika kehadiran sekurang-kurangnya 80% (16 hari). PL dan syarikat dibayar mengikut bil hari perantis hadir"]
[]
[]
[]
[]
[null,"TARIKH BELUM DIISI"]
[null,null,null,null,"1 = Hadir            Kosongkan (Blank) = Tidak Hadir            CS = Cuti Sakit             CK = Cuti Kecemasan/Kurantin          CU = Cuti Umum"]
["BIL","Nama Perantis","No Kad \nPengenalan","Syarikat","BIL HARI LATIHAN",null,null,null,null,null,null,null,null,null,null,null,null,null,null,null,null,null,null,null,null,null,null,null,null,null,null,null,null,null,null,"Bil Hari\nCS,CK,\nCU Layak","Bil \nHari Boleh Dibayar","Tuntutan (RM)",null,null,"Tandatangan Perantis"]
[null,null,null,null,1,2,3,4,5,6,7,8,9,10,11,12,13,14,15,16,17,18,19,20,21,22,23,24,25,26,27,28,29,30,31,null,null,"Perantis","Pusat Latihan","Syarikat"]
[null,null,null,null,"TARIKH & HARI"]
[]
[]
[1,{"$f":"IF('Maklumat Umum'!B23=\"\",\"\",'Maklumat Umum'!B23)","v":""},{"$f":"IF('Maklumat Umum'!C23=\"\",\"\",'Maklumat Umum'!C23)","v":""},{"$f":"IF('Maklumat Umum'!D23=\"\",\"\",'Maklumat Umum'!D23)","v":""},null,null,null,null,null,null,null,null,null,null,null,null,null,null,null,null,null,null,null,null,null,null,null,null,null,null,null,null,null,null,null,{"$f":"IF(COUNTBLANK(E23:AI23)=31,\"\",AP23+AQ23+AR23)","v":""},{"$f":"IF(COUNTBLANK(E23:AI23)=31,\"\",IF(SUM(E23:AI23)+AJ23>20,20,SUM(E23:AI23)+AJ23))","v":""},{"$f":"IF(COUNTBLANK(E23:AI23)=31,\"\",IF(AK23<16,0,AK23*25))","v":""},{"$f":"IF(AL23=\"\",\"\",IF(AL23=0,AK23*15,(AL23/0.5)*0.3))","v":""},{"$f":"IF(AL23=\"\",\"\",IF(AL23=0,AK23*10,(AL23/0.5)*0.2))","v":""},null,{"$f":"IF(COUNTIF(E23:AI23,\"CS\")>14,14,COUNTIF(E23:AI23,\"CS\"))","v":0},{"$f":"COUNTIF(E23:AI23,\"CK\")","v":0},{"$f":"COUNTIF(E23:AI23,\"CU\")","v":0}]
[2,{"$f":"IF('Maklumat Umum'!B24=\"\",\"\",'Maklumat Umum'!B24)","v":""},{"$f":"IF('Maklumat Umum'!C24=\"\",\"\",'Maklumat Umum'!C24)","v":""},null,null,null,null,null,null,null,null,null,null,null,null,null,null,null,null,null,null,null,null,null,null,null,null,null,null,null,null,null,null,null,null,{"$f":"IF(COUNTBLANK(E24:AI24)=31,\"\",AP24+AQ24+AR24)","v":""},{"$f":"IF(COUNTBLANK(E24:AI24)=31,\"\",IF(SUM(E24:AI24)+AJ24>20,20,SUM(E24:AI24)+AJ24))","v":""},"","","",null,{"$f":"IF(COUNTIF(E24:AI24,\"CS\")>14,14,COUNTIF(E24:AI24,\"CS\"))","v":0},{"$f":"COUNTIF(E24:AI24,\"CK\")","v":0},{"$f":"COUNTIF(E24:AI24,\"CU\")","v":0}]
[3,{"$f":"IF('Maklumat Umum'!B25=\"\",\"\",'Maklumat Umum'!B25)","v":""},{"$f":"IF('Maklumat Umum'!C25=\"\",\"\",'Maklumat Umum'!C25)","v":""},null,null,null,null,null,null,null,null,null,null,null,null,null,null,null,null,null,null,null,null,null,null,null,null,null,null,null,null,null,null,null,null,"","","","","",null,0,0,0]
[4,{"$f":"IF('Maklumat Umum'!B26=\"\",\"\",'Maklumat Umum'!B26)","v":""},{"$f":"IF('Maklumat Umum'!C26=\"\",\"\",'Maklumat Umum'!C26)","v":""},null,null,null,null,null,null,null,null,null,null,null,null,null,null,null,null,null,null,null,null,null,null,null,null,null,null,null,null,null,null,null,null,"","","","","",null,0,0,0]
[5,{"$f":"IF('Maklumat Umum'!B27=\"\",\"\",'Maklumat Umum'!B27)","v":""},{"$f":"IF('Maklumat Umum'!C27=\"\",\"\",'Maklumat Umum'!C27)","v":""},null,null,null,null,null,null,null,null,null,null,null,null,null,null,null,null,null,null,null,null,null,null,null,null,null,null,null,null,null,null,null,null,"","","","","",null,0,0,0]
[6,{"$f":"IF('Maklumat Umum'!B28=\"\",\"\",'Maklumat Umum'!B28)","v":""},{"$f":"IF('Maklumat Umum'!C28=\"\",\"\",'Maklumat Umum'!C28)","v":""},{"$f":"IF('Maklumat Umum'!D28=\"\",\"\",'Maklumat Umum'!D28)","v":""},null,null,null,null,null,null,null,null,null,null,null,null,null,null,null,null,null,null,null,null,null,null,null,null,null,null,null,null,null,null,null,"","","","","",null,0,0,0]
[7,{"$f":"IF('Maklumat Umum'!B29=\"\",\"\",'Maklumat Umum'!B29)","v":""},{"$f":"IF('Maklumat Umum'!C29=\"\",\"\",'Maklumat Umum'!C29)","v":""},null,null,null,null,null,null,null,null,null,null,null,null,null,null,null,null,null,null,null,null,null,null,null,null,null,null,null,null,null,null,null,null,"","","","","",null,0,0,0]
[8,{"$f":"IF('Maklumat Umum'!B30=\"\",\"\",'Maklumat Umum'!B30)","v":""},{"$f":"IF('Maklumat Umum'!C30=\"\",\"\",'Maklumat Umum'!C30)","v":""},null,null,null,null,null,null,null,null,null,null,null,null,null,null,null,null,null,null,null,null,null,null,null,null,null,null,null,null,null,null,null,null,"","","","","",null,0,0,0]
[9,{"$f":"IF('Maklumat Umum'!B31=\"\",\"\",'Maklumat Umum'!B31)","v":""},{"$f":"IF('Maklumat Umum'!C31=\"\",\"\",'Maklumat Umum'!C31)","v":""},null,null,null,null,null,null,null,null,null,null,null,null,null,null,null,null,null,null,null,null,null,null,null,null,null,null,null,null,null,null,null,null,"","","","","",null,0,0,0]
[10,{"$f":"IF('Maklumat Umum'!B32=\"\",\"\",'Maklumat Umum'!B32)","v":""},{"$f":"IF('Maklumat Umum'!C32=\"\",\"\",'Maklumat Umum'!C32)","v":""},null,null,null,null,null,null,null,null,null,null,null,null,null,null,null,null,null,null,null,null,null,null,null,null,null,null,null,null,null,null,null,null,"","","","","",null,0,0,0]
[11,{"$f":"IF('Maklumat Umum'!B33=\"\",\"\",'Maklumat Umum'!B33)","v":""},{"$f":"IF('Maklumat Umum'!C33=\"\",\"\",'Maklumat Umum'!C33)","v":""},{"$f":"IF('Maklumat Umum'!D33=\"\",\"\",'Maklumat Umum'!D33)","v":""},null,null,null,null,null,null,null,null,null,null,null,null,null,null,null,null,null,null,null,null,null,null,null,null,null,null,null,null,null,null,null,"","","","","",null,0,0,0]
[12,{"$f":"IF('Maklumat Umum'!B34=\"\",\"\",'Maklumat Umum'!B34)","v":""},{"$f":"IF('Maklumat Umum'!C34=\"\",\"\",'Maklumat Umum'!C34)","v":""},null,null,null,null,null,null,null,null,null,null,null,null,null,null,null,null,null,null,null,null,null,null,null,null,null,null,null,null,null,null,null,null,"","","","","",null,0,0,0]
[13,{"$f":"IF('Maklumat Umum'!B35=\"\",\"\",'Maklumat Umum'!B35)","v":""},{"$f":"IF('Maklumat Umum'!C35=\"\",\"\",'Maklumat Umum'!C35)","v":""},null,null,null,null,null,null,null,null,null,null,null,null,null,null,null,null,null,null,null,null,null,null,null,null,null,null,null,null,null,null,null,null,"","","","","",null,0,0,0]
[14,{"$f":"IF('Maklumat Umum'!B36=\"\",\"\",'Maklumat Umum'!B36)","v":""},{"$f":"IF('Maklumat Umum'!C36=\"\",\"\",'Maklumat Umum'!C36)","v":""},null,null,null,null,null,null,null,null,null,null,null,null,null,null,null,null,null,null,null,null,null,null,null,null,null,null,null,null,null,null,null,null,"","","","","",null,0,0,0]
[15,{"$f":"IF('Maklumat Umum'!B37=\"\",\"\",'Maklumat Umum'!B37)","v":""},{"$f":"IF('Maklumat Umum'!C37=\"\",\"\",'Maklumat Umum'!C37)","v":""},null,null,null,null,null,null,null,null,null,null,null,null,null,null,null,null,null,null,null,null,null,null,null,null,null,null,null,null,null,null,null,null,"","","","","",null,0,0,0]
[16,{"$f":"IF('Maklumat Umum'!B38=\"\",\"\",'Maklumat Umum'!B38)","v":""},{"$f":"IF('Maklumat Umum'!C38=\"\",\"\",'Maklumat Umum'!C38)","v":""},{"$f":"IF('Maklumat Umum'!D38=\"\",\"\",'Maklumat Umum'!D38)","v":""},null,null,null,null,null,null,null,null,null,null,null,null,null,null,null,null,null,null,null,null,null,null,null,null,null,null,null,null,null,null,null,"","","","","",null,0,0,0]
[17,{"$f":"IF('Maklumat Umum'!B39=\"\",\"\",'Maklumat Umum'!B39)","v":""},{"$f":"IF('Maklumat Umum'!C39=\"\",\"\",'Maklumat Umum'!C39)","v":""},null,null,null,null,null,null,null,null,null,null,null,null,null,null,null,null,null,null,null,null,null,null,null,null,null,null,null,null,null,null,null,null,"","","","","",null,0,0,0]
[18,{"$f":"IF('Maklumat Umum'!B40=\"\",\"\",'Maklumat Umum'!B40)","v":""},{"$f":"IF('Maklumat Umum'!C40=\"\",\"\",'Maklumat Umum'!C40)","v":""},null,null,null,null,null,null,null,null,null,null,null,null,null,null,null,null,null,null,null,null,null,null,null,null,null,null,null,null,null,null,null,null,"","","","","",null,0,0,0]
[19,{"$f":"IF('Maklumat Umum'!B41=\"\",\"\",'Maklumat Umum'!B41)","v":""},{"$f":"IF('Maklumat Umum'!C41=\"\",\"\",'Maklumat Umum'!C41)","v":""},null,null,null,null,null,null,null,null,null,null,null,null,null,null,null,null,null,null,null,null,null,null,null,null,null,null,null,null,null,null,null,null,"","","","","",null,0,0,0]
[20,{"$f":"IF('Maklumat Umum'!B42=\"\",\"\",'Maklumat Umum'!B42)","v":""},{"$f":"IF('Maklumat Umum'!C42=\"\",\"\",'Maklumat Umum'!C42)","v":""},null,null,null,null,null,null,null,null,null,null,null,null,null,null,null,null,null,null,null,null,null,null,null,null,null,null,null,null,null,null,null,null,"","","","","",null,0,0,0]
[21,{"$f":"IF('Maklumat Umum'!B43=\"\",\"\",'Maklumat Umum'!B43)","v":""},{"$f":"IF('Maklumat Umum'!C43=\"\",\"\",'Maklumat Umum'!C43)","v":""},{"$f":"IF('Maklumat Umum'!D43=\"\",\"\",'Maklumat Umum'!D43)","v":""},null,null,null,null,null,null,null,null,null,null,null,null,null,null,null,null,null,null,null,null,null,null,null,null,null,null,null,null,null,null,null,"","","","","",null,0,0,0]
[22,{"$f":"IF('Maklumat Umum'!B44=\"\",\"\",'Maklumat Umum'!B44)","v":""},{"$f":"IF('Maklumat Umum'!C44=\"\",\"\",'Maklumat Umum'!C44)","v":""},null,null,null,null,null,null,null,null,null,null,null,null,null,null,null,null,null,null,null,null,null,null,null,null,null,null,null,null,null,null,null,null,"","","","","",null,0,0,0]
[23,{"$f":"IF('Maklumat Umum'!B45=\"\",\"\",'Maklumat Umum'!B45)","v":""},{"$f":"IF('Maklumat Umum'!C45=\"\",\"\",'Maklumat Umum'!C45)","v":""},null,null,null,null,null,null,null,null,null,null,null,null,null,null,null,null,null,null,null,null,null,null,null,null,null,null,null,null,null,null,null,null,"","","","","",null,0,0,0]
[24,{"$f":"IF('Maklumat Umum'!B46=\"\",\"\",'Maklumat Umum'!B46)","v":""},{"$f":"IF('Maklumat Umum'!C46=\"\",\"\",'Maklumat Umum'!C46)","v":""},null,null,null,null,null,null,null,null,null,null,null,null,null,null,null,null,null,null,null,null,null,null,null,null,null,null,null,null,null,null,null,null,{"$f":"IF(COUNTBLANK(E46:AI46)=31,\"\",AP46+AQ46+AR46)","v":""},{"$f":"IF(COUNTBLANK(E46:AI46)=31,\"\",IF(SUM(E46:AI46)+AJ46>20,20,SUM(E46:AI46)+AJ46))","v":""},"","","",null,0,0,0]
[25,{"$f":"IF('Maklumat Umum'!B47=\"\",\"\",'Maklumat Umum'!B47)","v":""},{"$f":"IF('Maklumat Umum'!C47=\"\",\"\",'Maklumat Umum'!C47)","v":""},null,null,null,null,null,null,null,null,null,null,null,null,null,null,null,null,null,null,null,null,null,null,null,null,null,null,null,null,null,null,null,null,{"$f":"IF(COUNTBLANK(E47:AI47)=31,\"\",AP47+AQ47+AR47)","v":""},{"$f":"IF(COUNTBLANK(E47:AI47)=31,\"\",IF(SUM(E47:AI47)+AJ47>20,20,SUM(E47:AI47)+AJ47))","v":""},"","","",null,{"$f":"IF(COUNTIF(E47:AI47,\"CS\")>14,14,COUNTIF(E47:AI47,\"CS\"))","v":0},{"$f":"COUNTIF(E47:AI47,\"CK\")","v":0},{"$f":"COUNTIF(E47:AI47,\"CU\")","v":0}]
[26,{"$f":"IF('Maklumat Umum'!B48=\"\",\"\",'Maklumat Umum'!B48)","v":""},{"$f":"IF('Maklumat Umum'!C48=\"\",\"\",'Maklumat Umum'!C48)","v":""},{"$f":"IF('Maklumat Umum'!D48=\"\",\"\",'Maklumat Umum'!D48)","v":""},null,null,null,null,null,null,null,null,null,null,null,null,null,null,null,null,null,null,null,null,null,null,null,null,null,null,null,null,null,null,null,{"$f":"IF(COUNTBLANK(E48:AI48)=31,\"\",AP48+AQ48+AR48)","v":""},{"$f":"IF(COUNTBLANK(E48:AI48)=31,\"\",IF(SUM(E48:AI48)+AJ48>20,20,SUM(E48:AI48)+AJ48))","v":""},"","","",null,{"$f":"IF(COUNTIF(E48:AI48,\"CS\")>14,14,COUNTIF(E48:AI48,\"CS\"))","v":0},{"$f":"COUNTIF(E48:AI48,\"CK\")","v":0},{"$f":"COUNTIF(E48:AI48,\"CU\")","v":0}]
[27,{"$f":"IF('Maklumat Umum'!B49=\"\",\"\",'Maklumat Umum'!B49)","v":""},{"$f":"IF('Maklumat Umum'!C49=\"\",\"\",'Maklumat Umum'!C49)","v":""},null,null,null,null,null,null,null,null,null,null,null,null,null,null,null,null,null,null,null,null,null,null,null,null,null,null,null,null,null,null,null,null,{"$f":"IF(COUNTBLANK(E49:AI49)=31,\"\",AP49+AQ49+AR49)","v":""},{"$f":"IF(COUNTBLANK(E49:AI49)=31,\"\",IF(SUM(E49:AI49)+AJ49>20,20,SUM(E49:AI49)+AJ49))","v":""},"","","",null,{"$f":"IF(COUNTIF(E49:AI49,\"CS\")>14,14,COUNTIF(E49:AI49,\"CS\"))","v":0},{"$f":"COUNTIF(E49:AI49,\"CK\")","v":0},{"$f":"COUNTIF(E49:AI49,\"CU\")","v":0}]
[28,{"$f":"IF('Maklumat Umum'!B50=\"\",\"\",'Maklumat Umum'!B50)","v":""},{"$f":"IF('Maklumat Umum'!C50=\"\",\"\",'Maklumat Umum'!C50)","v":""},null,null,null,null,null,null,null,null,null,null,null,null,null,null,null,null,null,null,null,null,null,null,null,null,null,null,null,null,null,null,null,null,"","","","","",null,0,0,0]
[29,{"$f":"IF('Maklumat Umum'!B51=\"\",\"\",'Maklumat Umum'!B51)","v":""},{"$f":"IF('Maklumat Umum'!C51=\"\",\"\",'Maklumat Umum'!C51)","v":""},null,null,null,null,null,null,null,null,null,null,null,null,null,null,null,null,null,null,null,null,null,null,null,null,null,null,null,null,null,null,null,null,"","","","","",null,0,0,0]
[30,{"$f":"IF('Maklumat Umum'!B52=\"\",\"\",'Maklumat Umum'!B52)","v":""},{"$f":"IF('Maklumat Umum'!C52=\"\",\"\",'Maklumat Umum'!C52)","v":""},null,null,null,null,null,null,null,null,null,null,null,null,null,null,null,null,null,null,null,null,null,null,null,null,null,null,null,null,null,null,null,null,"","","","","",null,0,0,0]
[31,{"$f":"IF('Maklumat Umum'!B53=\"\",\"\",'Maklumat Umum'!B53)","v":""},{"$f":"IF('Maklumat Umum'!C53=\"\",\"\",'Maklumat Umum'!C53)","v":""},{"$f":"IF('Maklumat Umum'!D53=\"\",\"\",'Maklumat Umum'!D53)","v":""},null,null,null,null,null,null,null,null,null,null,null,null,null,null,null,null,null,null,null,null,null,null,null,null,null,null,null,null,null,null,null,"","","","","",null,0,0,0]
[32,{"$f":"IF('Maklumat Umum'!B54=\"\",\"\",'Maklumat Umum'!B54)","v":""},{"$f":"IF('Maklumat Umum'!C54=\"\",\"\",'Maklumat Umum'!C54)","v":""},null,null,null,null,null,null,null,null,null,null,null,null,null,null,null,null,null,null,null,null,null,null,null,null,null,null,null,null,null,null,null,null,"","","","","",null,0,0,0]
[33,{"$f":"IF('Maklumat Umum'!B55=\"\",\"\",'Maklumat Umum'!B55)","v":""},{"$f":"IF('Maklumat Umum'!C55=\"\",\"\",'Maklumat Umum'!C55)","v":""},null,null,null,null,null,null,null,null,null,null,null,null,null,null,null,null,null,null,null,null,null,null,null,null,null,null,null,null,null,null,null,null,"","","","","",null,0,0,0]
[34,{"$f":"IF('Maklumat Umum'!B56=\"\",\"\",'Maklumat Umum'!B56)","v":""},{"$f":"IF('Maklumat Umum'!C56=\"\",\"\",'Maklumat Umum'!C56)","v":""},null,null,null,null,null,null,null,null,null,null,null,null,null,null,null,null,null,null,null,null,null,null,null,null,null,null,null,null,null,null,null,null,"","","","","",null,0,0,0]
[35,{"$f":"IF('Maklumat Umum'!B57=\"\",\"\",'Maklumat Umum'!B57)","v":""},{"$f":"IF('Maklumat Umum'!C57=\"\",\"\",'Maklumat Umum'!C57)","v":""},null,null,null,null,null,null,null,null,null,null,null,null,null,null,null,null,null,null,null,null,null,null,null,null,null,null,null,null,null,null,null,null,"","","","","",null,0,0,0]
[36,{"$f":"IF('Maklumat Umum'!B58=\"\",\"\",'Maklumat Umum'!B58)","v":""},{"$f":"IF('Maklumat Umum'!C58=\"\",\"\",'Maklumat Umum'!C58)","v":""},{"$f":"IF('Maklumat Umum'!D58=\"\",\"\",'Maklumat Umum'!D58)","v":""},null,null,null,null,null,null,null,null,null,null,null,null,null,null,null,null,null,null,null,null,null,null,null,null,null,null,null,null,null,null,null,"","","","","",null,0,0,0]
[37,{"$f":"IF('Maklumat Umum'!B59=\"\",\"\",'Maklumat Umum'!B59)","v":""},{"$f":"IF('Maklumat Umum'!C59=\"\",\"\",'Maklumat Umum'!C59)","v":""},null,null,null,null,null,null,null,null,null,null,null,null,null,null,null,null,null,null,null,null,null,null,null,null,null,null,null,null,null,null,null,null,"","","","","",null,0,0,0]
[38,{"$f":"IF('Maklumat Umum'!B60=\"\",\"\",'Maklumat Umum'!B60)","v":""},{"$f":"IF('Maklumat Umum'!C60=\"\",\"\",'Maklumat Umum'!C60)","v":""},null,null,null,null,null,null,null,null,null,null,null,null,null,null,null,null,null,null,null,null,null,null,null,null,null,null,null,null,null,null,null,null,"","","","","",null,0,0,0]
[39,{"$f":"IF('Maklumat Umum'!B61=\"\",\"\",'Maklumat Umum'!B61)","v":""},{"$f":"IF('Maklumat Umum'!C61=\"\",\"\",'Maklumat Umum'!C61)","v":""},null,null,null,null,null,null,null,null,null,null,null,null,null,null,null,null,null,null,null,null,null,null,null,null,null,null,null,null,null,null,null,null,"","","","","",null,0,0,0]
[40,{"$f":"IF('Maklumat Umum'!B62=\"\",\"\",'Maklumat Umum'!B62)","v":""},{"$f":"IF('Maklumat Umum'!C62=\"\",\"\",'Maklumat Umum'!C62)","v":""},null,null,null,null,null,null,null,null,null,null,null,null,null,null,null,null,null,null,null,null,null,null,null,null,null,null,null,null,null,null,null,null,"","","","","",null,0,0,0]
[41,{"$f":"IF('Maklumat Umum'!B63=\"\",\"\",'Maklumat Umum'!B63)","v":""},{"$f":"IF('Maklumat Umum'!C63=\"\",\"\",'Maklumat Umum'!C63)","v":""},{"$f":"IF('Maklumat Umum'!D63=\"\",\"\",'Maklumat Umum'!D63)","v":""},null,null,null,null,null,null,null,null,null,null,null,null,null,null,null,null,null,null,null,null,null,null,null,null,null,null,null,null,null,null,null,"","","","","",null,0,0,0]
[42,{"$f":"IF('Maklumat Umum'!B64=\"\",\"\",'Maklumat Umum'!B64)","v":""},{"$f":"IF('Maklumat Umum'!C64=\"\",\"\",'Maklumat Umum'!C64)","v":""},null,null,null,null,null,null,null,null,null,null,null,null,null,null,null,null,null,null,null,null,null,null,null,null,null,null,null,null,null,null,null,null,"","","","","",null,0,0,0]
[43,{"$f":"IF('Maklumat Umum'!B65=\"\",\"\",'Maklumat Umum'!B65)","v":""},{"$f":"IF('Maklumat Umum'!C65=\"\",\"\",'Maklumat Umum'!C65)","v":""},null,null,null,null,null,null,null,null,null,null,null,null,null,null,null,null,null,null,null,null,null,null,null,null,null,null,null,null,null,null,null,null,"","","","","",null,0,0,0]
[44,{"$f":"IF('Maklumat Umum'!B66=\"\",\"\",'Maklumat Umum'!B66)","v":""},{"$f":"IF('Maklumat Umum'!C66=\"\",\"\",'Maklumat Umum'!C66)","v":""},null,null,null,null,null,null,null,null,null,null,null,null,null,null,null,null,null,null,null,null,null,null,null,null,null,null,null,null,null,null,null,null,"","","","","",null,0,0,0]
[45,{"$f":"IF('Maklumat Umum'!B67=\"\",\"\",'Maklumat Umum'!B67)","v":""},{"$f":"IF('Maklumat Umum'!C67=\"\",\"\",'Maklumat Umum'!C67)","v":""},null,null,null,null,null,null,null,null,null,null,null,null,null,null,null,null,null,null,null,null,null,null,null,null,null,null,null,null,null,null,null,null,"","","","","",null,0,0,0]
[46,{"$f":"IF('Maklumat Umum'!B68=\"\",\"\",'Maklumat Umum'!B68)","v":""},{"$f":"IF('Maklumat Umum'!C68=\"\",\"\",'Maklumat Umum'!C68)","v":""},{"$f":"IF('Maklumat Umum'!D68=\"\",\"\",'Maklumat Umum'!D68)","v":""},null,null,null,null,null,null,null,null,null,null,null,null,null,null,null,null,null,null,null,null,null,null,null,null,null,null,null,null,null,null,null,"","","","","",null,0,0,0]
[47,{"$f":"IF('Maklumat Umum'!B69=\"\",\"\",'Maklumat Umum'!B69)","v":""},{"$f":"IF('Maklumat Umum'!C69=\"\",\"\",'Maklumat Umum'!C69)","v":""},null,null,null,null,null,null,null,null,null,null,null,null,null,null,null,null,null,null,null,null,null,null,null,null,null,null,null,null,null,null,null,null,"","","","","",null,0,0,0]
[48,{"$f":"IF('Maklumat Umum'!B70=\"\",\"\",'Maklumat Umum'!B70)","v":""},{"$f":"IF('Maklumat Umum'!C70=\"\",\"\",'Maklumat Umum'!C70)","v":""},null,null,null,null,null,null,null,null,null,null,null,null,null,null,null,null,null,null,null,null,null,null,null,null,null,null,null,null,null,null,null,null,"","","","","",null,0,0,0]
[49,{"$f":"IF('Maklumat Umum'!B71=\"\",\"\",'Maklumat Umum'!B71)","v":""},{"$f":"IF('Maklumat Umum'!C71=\"\",\"\",'Maklumat Umum'!C71)","v":""},null,null,null,null,null,null,null,null,null,null,null,null,null,null,null,null,null,null,null,null,null,null,null,null,null,null,null,null,null,null,null,null,{"$f":"IF(COUNTBLANK(E71:AI71)=31,\"\",AP71+AQ71+AR71)","v":""},{"$f":"IF(COUNTBLANK(E71:AI71)=31,\"\",IF(SUM(E71:AI71)+AJ71>20,20,SUM(E71:AI71)+AJ71))","v":""},"","","",null,0,0,0]
[50,{"$f":"IF('Maklumat Umum'!B72=\"\",\"\",'Maklumat Umum'!B72)","v":""},{"$f":"IF('Maklumat Umum'!C72=\"\",\"\",'Maklumat Umum'!C72)","v":""},null,null,null,null,null,null,null,null,null,null,null,null,null,null,null,null,null,null,null,null,null,null,null,null,null,null,null,null,null,null,null,null,{"$f":"IF(COUNTBLANK(E72:AI72)=31,\"\",AP72+AQ72+AR72)","v":""},{"$f":"IF(COUNTBLANK(E72:AI72)=31,\"\",IF(SUM(E72:AI72)+AJ72>20,20,SUM(E72:AI72)+AJ72))","v":""},"","","",null,{"$f":"IF(COUNTIF(E72:AI72,\"CS\")>14,14,COUNTIF(E72:AI72,\"CS\"))","v":0},{"$f":"COUNTIF(E72:AI72,\"CK\")","v":0},{"$f":"COUNTIF(E72:AI72,\"CU\")","v":0}]
[51,{"$f":"IF('Maklumat Umum'!B73=\"\",\"\",'Maklumat Umum'!B73)","v":""},{"$f":"IF('Maklumat Umum'!C73=\"\",\"\",'Maklumat Umum'!C73)","v":""},{"$f":"IF('Maklumat Umum'!D73=\"\",\"\",'Maklumat Umum'!D73)","v":""},null,null,null,null,null,null,null,null,null,null,null,null,null,null,null,null,null,null,null,null,null,null,null,null,null,null,null,null,null,null,null,{"$f":"IF(COUNTBLANK(E73:AI73)=31,\"\",AP73+AQ73+AR73)","v":""},{"$f":"IF(COUNTBLANK(E73:AI73)=31,\"\",IF(SUM(E73:AI73)+AJ73>20,20,SUM(E73:AI73)+AJ73))","v":""},"","","",null,{"$f":"IF(COUNTIF(E73:AI73,\"CS\")>14,14,COUNTIF(E73:AI73,\"CS\"))","v":0},{"$f":"COUNTIF(E73:AI73,\"CK\")","v":0},{"$f":"COUNTIF(E73:AI73,\"CU\")","v":0}]
[52,{"$f":"IF('Maklumat Umum'!B74=\"\",\"\",'Maklumat Umum'!B74)","v":""},{"$f":"IF('Maklumat Umum'!C74=\"\",\"\",'Maklumat Umum'!C74)","v":""},null,null,null,null,null,null,null,null,null,null,null,null,null,null,null,null,null,null,null,null,null,null,null,null,null,null,null,null,null,null,null,null,{"$f":"IF(COUNTBLANK(E74:AI74)=31,\"\",AP74+AQ74+AR74)","v":""},{"$f":"IF(COUNTBLANK(E74:AI74)=31,\"\",IF(SUM(E74:AI74)+AJ74>20,20,SUM(E74:AI74)+AJ74))","v":""},"","","",null,{"$f":"IF(COUNTIF(E74:AI74,\"CS\")>14,14,COUNTIF(E74:AI74,\"CS\"))","v":0},{"$f":"COUNTIF(E74:AI74,\"CK\")","v":0},{"$f":"COUNTIF(E74:AI74,\"CU\")","v":0}]
[53,{"$f":"IF('Maklumat Umum'!B75=\"\",\"\",'Maklumat Umum'!B75)","v":""},{"$f":"IF('Maklumat Umum'!C75=\"\",\"\",'Maklumat Umum'!C75)","v":""},null,null,null,null,null,null,null,null,null,null,null,null,null,null,null,null,null,null,null,null,null,null,null,null,null,null,null,null,null,null,null,null,"","","","","",null,0,0,0]
[54,{"$f":"IF('Maklumat Umum'!B76=\"\",\"\",'Maklumat Umum'!B76)","v":""},{"$f":"IF('Maklumat Umum'!C76=\"\",\"\",'Maklumat Umum'!C76)","v":""},null,null,null,null,null,null,null,null,null,null,null,null,null,null,null,null,null,null,null,null,null,null,null,null,null,null,null,null,null,null,null,null,"","","","","",null,0,0,0]
[55,{"$f":"IF('Maklumat Umum'!B77=\"\",\"\",'Maklumat Umum'!B77)","v":""},{"$f":"IF('Maklumat Umum'!C77=\"\",\"\",'Maklumat Umum'!C77)","v":""},null,null,null,null,null,null,null,null,null,null,null,null,null,null,null,null,null,null,null,null,null,null,null,null,null,null,null,null,null,null,null,null,"","","","","",null,0,0,0]
[56,{"$f":"IF('Maklumat Umum'!B78=\"\",\"\",'Maklumat Umum'!B78)","v":""},{"$f":"IF('Maklumat Umum'!C78=\"\",\"\",'Maklumat Umum'!C78)","v":""},{"$f":"IF('Maklumat Umum'!D78=\"\",\"\",'Maklumat Umum'!D78)","v":""},null,null,null,null,null,null,null,null,null,null,null,null,null,null,null,null,null,null,null,null,null,null,null,null,null,null,null,null,null,null,null,"","","","","",null,0,0,0]
[57,{"$f":"IF('Maklumat Umum'!B79=\"\",\"\",'Maklumat Umum'!B79)","v":""},{"$f":"IF('Maklumat Umum'!C79=\"\",\"\",'Maklumat Umum'!C79)","v":""},null,null,null,null,null,null,null,null,null,null,null,null,null,null,null,null,null,null,null,null,null,null,null,null,null,null,null,null,null,null,null,null,"","","","","",null,0,0,0]
[58,{"$f":"IF('Maklumat Umum'!B80=\"\",\"\",'Maklumat Umum'!B80)","v":""},{"$f":"IF('Maklumat Umum'!C80=\"\",\"\",'Maklumat Umum'!C80)","v":""},null,null,null,null,null,null,null,null,null,null,null,null,null,null,null,null,null,null,null,null,null,null,null,null,null,null,null,null,null,null,null,null,"","","","","",null,0,0,0]
[59,{"$f":"IF('Maklumat Umum'!B81=\"\",\"\",'Maklumat Umum'!B81)","v":""},{"$f":"IF('Maklumat Umum'!C81=\"\",\"\",'Maklumat Umum'!C81)","v":""},null,null,null,null,null,null,null,null,null,null,null,null,null,null,null,null,null,null,null,null,null,null,null,null,null,null,null,null,null,null,null,null,"","","","","",null,0,0,0]
[60,{"$f":"IF('Maklumat Umum'!B82=\"\",\"\",'Maklumat Umum'!B82)","v":""},{"$f":"IF('Maklumat Umum'!C82=\"\",\"\",'Maklumat Umum'!C82)","v":""},null,null,null,null,null,null,null,null,null,null,null,null,null,null,null,null,null,null,null,null,null,null,null,null,null,null,null,null,null,null,null,null,"","","","","",null,0,0,0]
[61,{"$f":"IF('Maklumat Umum'!B83=\"\",\"\",'Maklumat Umum'!B83)","v":""},{"$f":"IF('Maklumat Umum'!C83=\"\",\"\",'Maklumat Umum'!C83)","v":""},{"$f":"IF('Maklumat Umum'!D83=\"\",\"\",'Maklumat Umum'!D83)","v":""},null,null,null,null,null,null,null,null,null,null,null,null,null,null,null,null,null,null,null,null,null,null,null,null,null,null,null,null,null,null,null,"","","","","",null,0,0,0]
[62,{"$f":"IF('Maklumat Umum'!B84=\"\",\"\",'Maklumat Umum'!B84)","v":""},{"$f":"IF('Maklumat Umum'!C84=\"\",\"\",'Maklumat Umum'!C84)","v":""},null,null,null,null,null,null,null,null,null,null,null,null,null,null,null,null,null,null,null,null,null,null,null,null,null,null,null,null,null,null,null,null,"","","","","",null,0,0,0]
[63,{"$f":"IF('Maklumat Umum'!B85=\"\",\"\",'Maklumat Umum'!B85)","v":""},{"$f":"IF('Maklumat Umum'!C85=\"\",\"\",'Maklumat Umum'!C85)","v":""},null,null,null,null,null,null,null,null,null,null,null,null,null,null,null,null,null,null,null,null,null,null,null,null,null,null,null,null,null,null,null,null,"","","","","",null,0,0,0]
[64,{"$f":"IF('Maklumat Umum'!B86=\"\",\"\",'Maklumat Umum'!B86)","v":""},{"$f":"IF('Maklumat Umum'!C86=\"\",\"\",'Maklumat Umum'!C86)","v":""},null,null,null,null,null,null,null,null,null,null,null,null,null,null,null,null,null,null,null,null,null,null,null,null,null,null,null,null,null,null,null,null,"","","","","",null,0,0,0]
[65,{"$f":"IF('Maklumat Umum'!B87=\"\",\"\",'Maklumat Umum'!B87)","v":""},{"$f":"IF('Maklumat Umum'!C87=\"\",\"\",'Maklumat Umum'!C87)","v":""},null,null,null,null,null,null,null,null,null,null,null,null,null,null,null,null,null,null,null,null,null,null,null,null,null,null,null,null,null,null,null,null,"","",{"$f":"IF(COUNTBLANK(E87:AI87)=31,\"\",IF(AK87<16,0,AK87*25))","v":""},{"$f":"IF(AL87=\"\",\"\",IF(AL87=0,AK87*15,(AL87/0.5)*0.3))","v":""},{"$f":"IF(AL87=\"\",\"\",IF(AL87=0,AK87*10,(AL87/0.5)*0.2))","v":""},null,0,0,0]
[66,{"$f":"IF('Maklumat Umum'!B88=\"\",\"\",'Maklumat Umum'!B88)","v":""},{"$f":"IF('Maklumat Umum'!C88=\"\",\"\",'Maklumat Umum'!C88)","v":""},{"$f":"IF('Maklumat Umum'!D88=\"\",\"\",'Maklumat Umum'!D88)","v":""},null,null,null,null,null,null,null,null,null,null,null,null,null,null,null,null,null,null,null,null,null,null,null,null,null,null,null,null,null,null,null,"","","","","",null,0,0,0]
[67,{"$f":"IF('Maklumat Umum'!B89=\"\",\"\",'Maklumat Umum'!B89)","v":""},{"$f":"IF('Maklumat Umum'!C89=\"\",\"\",'Maklumat Umum'!C89)","v":""},null,null,null,null,null,null,null,null,null,null,null,null,null,null,null,null,null,null,null,null,null,null,null,null,null,null,null,null,null,null,null,null,"","","","","",null,0,0,0]
[68,{"$f":"IF('Maklumat Umum'!B90=\"\",\"\",'Maklumat Umum'!B90)","v":""},{"$f":"IF('Maklumat Umum'!C90=\"\",\"\",'Maklumat Umum'!C90)","v":""},null,null,null,null,null,null,null,null,null,null,null,null,null,null,null,null,null,null,null,null,null,null,null,null,null,null,null,null,null,null,null,null,"","","","","",null,0,0,0]
[69,{"$f":"IF('Maklumat Umum'!B91=\"\",\"\",'Maklumat Umum'!B91)","v":""},{"$f":"IF('Maklumat Umum'!C91=\"\",\"\",'Maklumat Umum'!C91)","v":""},null,null,null,null,null,null,null,null,null,null,null,null,null,null,null,null,null,null,null,null,null,null,null,null,null,null,null,null,null,null,null,null,"","","","","",null,0,0,0]
[70,{"$f":"IF('Maklumat Umum'!B92=\"\",\"\",'Maklumat Umum'!B92)","v":""},{"$f":"IF('Maklumat Umum'!C92=\"\",\"\",'Maklumat Umum'!C92)","v":""},null,null,null,null,null,null,null,null,null,null,null,null,null,null,null,null,null,null,null,null,null,null,null,null,null,null,null,null,null,null,null,null,"","","","","",null,0,0,0]
[71,{"$f":"IF('Maklumat Umum'!B93=\"\",\"\",'Maklumat Umum'!B93)","v":""},{"$f":"IF('Maklumat Umum'!C93=\"\",\"\",'Maklumat Umum'!C93)","v":""},{"$f":"IF('Maklumat Umum'!D93=\"\",\"\",'Maklumat Umum'!D93)","v":""},null,null,null,null,null,null,null,null,null,null,null,null,null,null,null,null,null,null,null,null,null,null,null,null,null,null,null,null,null,null,null,"","","","","",null,0,0,0]
[72,{"$f":"IF('Maklumat Umum'!B94=\"\",\"\",'Maklumat Umum'!B94)","v":""},{"$f":"IF('Maklumat Umum'!C94=\"\",\"\",'Maklumat Umum'!C94)","v":""},null,null,null,null,null,null,null,null,null,null,null,null,null,null,null,null,null,null,null,null,null,null,null,null,null,null,null,null,null,null,null,null,"","","","","",null,0,0,0]
[73,{"$f":"IF('Maklumat Umum'!B95=\"\",\"\",'Maklumat Umum'!B95)","v":""},{"$f":"IF('Maklumat Umum'!C95=\"\",\"\",'Maklumat Umum'!C95)","v":""},null,null,null,null,null,null,null,null,null,null,null,null,null,null,null,null,null,null,null,null,null,null,null,null,null,null,null,null,null,null,null,null,"","","","","",null,0,0,0]
[74,{"$f":"IF('Maklumat Umum'!B96=\"\",\"\",'Maklumat Umum'!B96)","v":""},{"$f":"IF('Maklumat Umum'!C96=\"\",\"\",'Maklumat Umum'!C96)","v":""},null,null,null,null,null,null,null,null,null,null,null,null,null,null,null,null,null,null,null,null,null,null,null,null,null,null,null,null,null,null,null,null,{"$f":"IF(COUNTBLANK(E96:AI96)=31,\"\",AP96+AQ96+AR96)","v":""},{"$f":"IF(COUNTBLANK(E96:AI96)=31,\"\",IF(SUM(E96:AI96)+AJ96>20,20,SUM(E96:AI96)+AJ96))","v":""},"","","",null,0,0,0]
[75,{"$f":"IF('Maklumat Umum'!B97=\"\",\"\",'Maklumat Umum'!B97)","v":""},{"$f":"IF('Maklumat Umum'!C97=\"\",\"\",'Maklumat Umum'!C97)","v":""},null,null,null,null,null,null,null,null,null,null,null,null,null,null,null,null,null,null,null,null,null,null,null,null,null,null,null,null,null,null,null,null,{"$f":"IF(COUNTBLANK(E97:AI97)=31,\"\",AP97+AQ97+AR97)","v":""},{"$f":"IF(COUNTBLANK(E97:AI97)=31,\"\",IF(SUM(E97:AI97)+AJ97>20,20,SUM(E97:AI97)+AJ97))","v":""},"","","",null,{"$f":"IF(COUNTIF(E97:AI97,\"CS\")>14,14,COUNTIF(E97:AI97,\"CS\"))","v":0},{"$f":"COUNTIF(E97:AI97,\"CK\")","v":0},{"$f":"COUNTIF(E97:AI97,\"CU\")","v":0}]
[76,{"$f":"IF('Maklumat Umum'!B98=\"\",\"\",'Maklumat Umum'!B98)","v":""},{"$f":"IF('Maklumat Umum'!C98=\"\",\"\",'Maklumat Umum'!C98)","v":""},{"$f":"IF('Maklumat Umum'!D98=\"\",\"\",'Maklumat Umum'!D98)","v":""},null,null,null,null,null,null,null,null,null,null,null,null,null,null,null,null,null,null,null,null,null,null,null,null,null,null,null,null,null,null,null,{"$f":"IF(COUNTBLANK(E98:AI98)=31,\"\",AP98+AQ98+AR98)","v":""},{"$f":"IF(COUNTBLANK(E98:AI98)=31,\"\",IF(SUM(E98:AI98)+AJ98>20,20,SUM(E98:AI98)+AJ98))","v":""},"","","",null,{"$f":"IF(COUNTIF(E98:AI98,\"CS\")>14,14,COUNTIF(E98:AI98,\"CS\"))","v":0},{"$f":"COUNTIF(E98:AI98,\"CK\")","v":0},{"$f":"COUNTIF(E98:AI98,\"CU\")","v":0}]
[77,{"$f":"IF('Maklumat Umum'!B99=\"\",\"\",'Maklumat Umum'!B99)","v":""},{"$f":"IF('Maklumat Umum'!C99=\"\",\"\",'Maklumat Umum'!C99)","v":""},null,null,null,null,null,null,null,null,null,null,null,null,null,null,null,null,null,null,null,null,null,null,null,null,null,null,null,null,null,null,null,null,{"$f":"IF(COUNTBLANK(E99:AI99)=31,\"\",AP99+AQ99+AR99)","v":""},{"$f":"IF(COUNTBLANK(E99:AI99)=31,\"\",IF(SUM(E99:AI99)+AJ99>20,20,SUM(E99:AI99)+AJ99))","v":""},"","","",null,{"$f":"IF(COUNTIF(E99:AI99,\"CS\")>14,14,COUNTIF(E99:AI99,\"CS\"))","v":0},{"$f":"COUNTIF(E99:AI99,\"CK\")","v":0},{"$f":"COUNTIF(E99:AI99,\"CU\")","v":0}]
[78,{"$f":"IF('Maklumat Umum'!B100=\"\",\"\",'Maklumat Umum'!B100)","v":""},{"$f":"IF('Maklumat Umum'!C100=\"\",\"\",'Maklumat Umum'!C100)","v":""},null,null,null,null,null,null,null,null,null,null,null,null,null,null,null,null,null,null,null,null,null,null,null,null,null,null,null,null,null,null,null,null,"","","","","",null,0,0,0]
[79,{"$f":"IF('Maklumat Umum'!B101=\"\",\"\",'Maklumat Umum'!B101)","v":""},{"$f":"IF('Maklumat Umum'!C101=\"\",\"\",'Maklumat Umum'!C101)","v":""},null,null,null,null,null,null,null,null,null,null,null,null,null,null,null,null,null,null,null,null,null,null,null,null,null,null,null,null,null,null,null,null,"","","","","",null,0,0,0]
[80,{"$f":"IF('Maklumat Umum'!B102=\"\",\"\",'Maklumat Umum'!B102)","v":""},{"$f":"IF('Maklumat Umum'!C102=\"\",\"\",'Maklumat Umum'!C102)","v":""},null,null,null,null,null,null,null,null,null,null,null,null,null,null,null,null,null,null,null,null,null,null,null,null,null,null,null,null,null,null,null,null,"","","","","",null,0,0,0]
[81,{"$f":"IF('Maklumat Umum'!B103=\"\",\"\",'Maklumat Umum'!B103)","v":""},{"$f":"IF('Maklumat Umum'!C103=\"\",\"\",'Maklumat Umum'!C103)","v":""},{"$f":"IF('Maklumat Umum'!D103=\"\",\"\",'Maklumat Umum'!D103)","v":""},null,null,null,null,null,null,null,null,null,null,null,null,null,null,null,null,null,null,null,null,null,null,null,null,null,null,null,null,null,null,null,"","","","","",null,0,0,0]
[82,{"$f":"IF('Maklumat Umum'!B104=\"\",\"\",'Maklumat Umum'!B104)","v":""},{"$f":"IF('Maklumat Umum'!C104=\"\",\"\",'Maklumat Umum'!C104)","v":""},null,null,null,null,null,null,null,null,null,null,null,null,null,null,null,null,null,null,null,null,null,null,null,null,null,null,null,null,null,null,null,null,"","","","","",null,0,0,0]
[83,{"$f":"IF('Maklumat Umum'!B105=\"\",\"\",'Maklumat Umum'!B105)","v":""},{"$f":"IF('Maklumat Umum'!C105=\"\",\"\",'Maklumat Umum'!C105)","v":""},null,null,null,null,null,null,null,null,null,null,null,null,null,null,null,null,null,null,null,null,null,null,null,null,null,null,null,null,null,null,null,null,"","","","","",null,0,0,0]
[84,{"$f":"IF('Maklumat Umum'!B106=\"\",\"\",'Maklumat Umum'!B106)","v":""},{"$f":"IF('Maklumat Umum'!C106=\"\",\"\",'Maklumat Umum'!C106)","v":""},null,null,null,null,null,null,null,null,null,null,null,null,null,null,null,null,null,null,null,null,null,null,null,null,null,null,null,null,null,null,null,null,"","","","","",null,0,0,0]
[85,{"$f":"IF('Maklumat Umum'!B107=\"\",\"\",'Maklumat Umum'!B107)","v":""},{"$f":"IF('Maklumat Umum'!C107=\"\",\"\",'Maklumat Umum'!C107)","v":""},null,null,null,null,null,null,null,null,null,null,null,null,null,null,null,null,null,null,null,null,null,null,null,null,null,null,null,null,null,null,null,null,"","","","","",null,0,0,0]
[86,{"$f":"IF('Maklumat Umum'!B108=\"\",\"\",'Maklumat Umum'!B108)","v":""},{"$f":"IF('Maklumat Umum'!C108=\"\",\"\",'Maklumat Umum'!C108)","v":""},{"$f":"IF('Maklumat Umum'!D108=\"\",\"\",'Maklumat Umum'!D108)","v":""},null,null,null,null,null,null,null,null,null,null,null,null,null,null,null,null,null,null,null,null,null,null,null,null,null,null,null,null,null,null,null,"","","","","",null,0,0,0]
[87,{"$f":"IF('Maklumat Umum'!B109=\"\",\"\",'Maklumat Umum'!B109)","v":""},{"$f":"IF('Maklumat Umum'!C109=\"\",\"\",'Maklumat Umum'!C109)","v":""},null,null,null,null,null,null,null,null,null,null,null,null,null,null,null,null,null,null,null,null,null,null,null,null,null,null,null,null,null,null,null,null,"","","","","",null,0,0,0]
[88,{"$f":"IF('Maklumat Umum'!B110=\"\",\"\",'Maklumat Umum'!B110)","v":""},{"$f":"IF('Maklumat Umum'!C110=\"\",\"\",'Maklumat Umum'!C110)","v":""},null,null,null,null,null,null,null,null,null,null,null,null,null,null,null,null,null,null,null,null,null,null,null,null,null,null,null,null,null,null,null,null,"","","","","",null,0,0,0]
[89,{"$f":"IF('Maklumat Umum'!B111=\"\",\"\",'Maklumat Umum'!B111)","v":""},{"$f":"IF('Maklumat Umum'!C111=\"\",\"\",'Maklumat Umum'!C111)","v":""},null,null,null,null,null,null,null,null,null,null,null,null,null,null,null,null,null,null,null,null,null,null,null,null,null,null,null,null,null,null,null,null,"","","","","",null,0,0,0]
[90,{"$f":"IF('Maklumat Umum'!B112=\"\",\"\",'Maklumat Umum'!B112)","v":""},{"$f":"IF('Maklumat Umum'!C112=\"\",\"\",'Maklumat Umum'!C112)","v":""},null,null,null,null,null,null,null,null,null,null,null,null,null,null,null,null,null,null,null,null,null,null,null,null,null,null,null,null,null,null,null,null,"","","","","",null,0,0,0]
[91,{"$f":"IF('Maklumat Umum'!B113=\"\",\"\",'Maklumat Umum'!B113)","v":""},{"$f":"IF('Maklumat Umum'!C113=\"\",\"\",'Maklumat Umum'!C113)","v":""},{"$f":"IF('Maklumat Umum'!D113=\"\",\"\",'Maklumat Umum'!D113)","v":""},null,null,null,null,null,null,null,null,null,null,null,null,null,null,null,null,null,null,null,null,null,null,null,null,null,null,null,null,null,null,null,"","","","","",null,0,0,0]
[92,{"$f":"IF('Maklumat Umum'!B114=\"\",\"\",'Maklumat Umum'!B114)","v":""},{"$f":"IF('Maklumat Umum'!C114=\"\",\"\",'Maklumat Umum'!C114)","v":""},null,null,null,null,null,null,null,null,null,null,null,null,null,null,null,null,null,null,null,null,null,null,null,null,null,null,null,null,null,null,null,null,"","","","","",null,0,0,0]
[93,{"$f":"IF('Maklumat Umum'!B115=\"\",\"\",'Maklumat Umum'!B115)","v":""},{"$f":"IF('Maklumat Umum'!C115=\"\",\"\",'Maklumat Umum'!C115)","v":""},null,null,null,null,null,null,null,null,null,null,null,null,null,null,null,null,null,null,null,null,null,null,null,null,null,null,null,null,null,null,null,null,"","","","","",null,0,0,0]
[94,{"$f":"IF('Maklumat Umum'!B116=\"\",\"\",'Maklumat Umum'!B116)","v":""},{"$f":"IF('Maklumat Umum'!C116=\"\",\"\",'Maklumat Umum'!C116)","v":""},null,null,null,null,null,null,null,null,null,null,null,null,null,null,null,null,null,null,null,null,null,null,null,null,null,null,null,null,null,null,null,null,"","","","","",null,0,0,0]
[95,{"$f":"IF('Maklumat Umum'!B117=\"\",\"\",'Maklumat Umum'!B117)","v":""},{"$f":"IF('Maklumat Umum'!C117=\"\",\"\",'Maklumat Umum'!C117)","v":""},null,null,null,null,null,null,null,null,null,null,null,null,null,null,null,null,null,null,null,null,null,null,null,null,null,null,null,null,null,null,null,null,"","","","","",null,0,0,0]
[96,{"$f":"IF('Maklumat Umum'!B118=\"\",\"\",'Maklumat Umum'!B118)","v":""},{"$f":"IF('Maklumat Umum'!C118=\"\",\"\",'Maklumat Umum'!C118)","v":""},{"$f":"IF('Maklumat Umum'!D118=\"\",\"\",'Maklumat Umum'!D118)","v":""},null,null,null,null,null,null,null,null,null,null,null,null,null,null,null,null,null,null,null,null,null,null,null,null,null,null,null,null,null,null,null,"","","","","",null,0,0,0]
[97,{"$f":"IF('Maklumat Umum'!B119=\"\",\"\",'Maklumat Umum'!B119)","v":""},{"$f":"IF('Maklumat Umum'!C119=\"\",\"\",'Maklumat Umum'!C119)","v":""},null,null,null,null,null,null,null,null,null,null,null,null,null,null,null,null,null,null,null,null,null,null,null,null,null,null,null,null,null,null,null,null,"","","","","",null,0,0,0]
[98,{"$f":"IF('Maklumat Umum'!B120=\"\",\"\",'Maklumat Umum'!B120)","v":""},{"$f":"IF('Maklumat Umum'!C120=\"\",\"\",'Maklumat Umum'!C120)","v":""},null,null,null,null,null,null,null,null,null,null,null,null,null,null,null,null,null,null,null,null,null,null,null,null,null,null,null,null,null,null,null,null,"","","","","",null,0,0,0]
[99,{"$f":"IF('Maklumat Umum'!B121=\"\",\"\",'Maklumat Umum'!B121)","v":""},{"$f":"IF('Maklumat Umum'!C121=\"\",\"\",'Maklumat Umum'!C121)","v":""},null,null,null,null,null,null,null,null,null,null,null,null,null,null,null,null,null,null,null,null,null,null,null,null,null,null,null,null,null,null,null,null,{"$f":"IF(COUNTBLANK(E121:AI121)=31,\"\",AP121+AQ121+AR121)","v":""},{"$f":"IF(COUNTBLANK(E121:AI121)=31,\"\",IF(SUM(E121:AI121)+AJ121>20,20,SUM(E121:AI121)+AJ121))","v":""},"","","",null,0,0,0]
[100,{"$f":"IF('Maklumat Umum'!B122=\"\",\"\",'Maklumat Umum'!B122)","v":""},{"$f":"IF('Maklumat Umum'!C122=\"\",\"\",'Maklumat Umum'!C122)","v":""},null,null,null,null,null,null,null,null,null,null,null,null,null,null,null,null,null,null,null,null,null,null,null,null,null,null,null,null,null,null,null,null,{"$f":"IF(COUNTBLANK(E122:AI122)=31,\"\",AP122+AQ122+AR122)","v":""},{"$f":"IF(COUNTBLANK(E122:AI122)=31,\"\",IF(SUM(E122:AI122)+AJ122>20,20,SUM(E122:AI122)+AJ122))","v":""},"","","",null,{"$f":"IF(COUNTIF(E122:AI122,\"CS\")>14,14,COUNTIF(E122:AI122,\"CS\"))","v":0},{"$f":"COUNTIF(E122:AI122,\"CK\")","v":0},{"$f":"COUNTIF(E122:AI122,\"CU\")","v":0}]
["Nota: PL perlu pastikan maklumat adalah tepat dan nama perantis mengikut Kad Pengenalan serta turutan dalam Pengesahan Pendaftaran Perantis SLDN",null,null,null,null,null,null,null,null,null,null,null,null,null,null,null,null,null,null,null,null,null,null,null,null,null,null,null,null,null,null,null,null,null,null,"JUM TUNTUTAN",null,{"$f":"SUM(AL23:AL122)","v":0},{"$f":"SUM(AM23:AM122)","v":0},{"$f":"SUM(AN23:AN122)","v":0},null,null,null,null,"Pejabat Wilayah hendaklah memindahkan Jumlah tuntutan elaun perantis ini ke dalam MySPIKE bagi tujuan pembayaran "]
[null,null,null,null,null,null,null,null,null,null,null,null,null,null,null,null,null,null,null,null,null,null,null,null,null,null,null,null,null,null,null,null,null,null,null,null,null,{"$f":"SUM(AL123:AN123)","v":0}]
["Dengan ini kami mengesahkan bahawa maklumat di atas adalah benar dan perantis sedang menjalani latihan di syarikat kerjasama/ penyedia latihan seperti yang telah ditetapkan."]
[]
["Disediakan oleh",null,null,null,null,null,null,null,null,null,null,null,null,null,"Disahkan oleh"]
[]
["…………………………………………….",null,null,null,null,null,null,null,null,null,null,null,null,null,"……………………………………………."]
["(Tandatangan Penyelaras Pusat Latihan)",null,null,null,null,null,null,null,null,null,null,null,"(Tandatangan Penyelaras Syarikat 1)",null,null,null,null,null,null,null,null,null,null,null,null,null,null,null,null,null,"(Tandatangan Penyelaras Syarikat 2)"]
["Nama:  ",null,null,null,null,null,null,null,null,null,null,null,"Nama:",null,null,null,null,null,null,null,null,null,null,null,null,null,null,null,null,null,"Nama:"]
["Tarikh:",null,null,null,null,null,null,null,null,null,null,null,"Tarikh:",null,null,null,null,null,null,null,null,null,null,null,null,null,null,null,null,null,"Tarikh:"]
[]
["PENGESAHAN PENGURUS PUSAT LATIHAN:",null,null,null,null,null,null,null,null,null,null,null,"(Tandatangan Penyelaras Syarikat 3)",null,null,null,null,null,null,null,null,null,null,null,null,null,null,null,null,null,"(Tandatangan Penyelaras Syarikat 4)"]
["Saya memperakukan kenyataan di atas adalah  benar",null,null,null,null,null,null,null,null,null,null,null,"Nama:",null,null,null,null,null,null,null,null,null,null,null,null,null,null,null,null,null,"Nama:"]
[null,null,null,null,null,null,null,null,null,null,null,null,"Tarikh:",null,null,null,null,null,null,null,null,null,null,null,null,null,null,null,null,null,"Tarikh:"]
["……………………………………………."]
["(Tandatangan Pengurus Pusat Latihan)",null,null,null,null,null,null,null,null,null,null,null,"(Tandatangan Penyelaras Syarikat 5)"]
[null,null,null,null,null,null,null,null,null,null,null,null,"Nama:"]
["Nama ",null,null,null,null,null,null,null,null,null,null,null,"Tarikh:"]
["No Kad Pengenalan (Pengurus Pusat Latihan)"]
["Tarikh:",null,null,"Cop Rasmi Pusat Latihan:"]

{"sheet":"Claim_page1_Sep23","index":18,"n_rows":24,"n_cols":5,"rows_kept":24,"cut":false,"hidden":false,"merged":[[0,0,0,3],[0,4,7,9],[1,1,1,2],[3,1,3,3],[4,1,4,3],[5,1,5,3],[6,0,6,3],[7,1,7,3],[18,0,18,3],[8,1,8,3],[9,1,9,3],[10,1,10,3],[11,1,11,3],[12,0,12,3],[13,1,13,3],[13,4,17,4],[14,1,14,3],[15,1,15,3],[16,1,16,3],[17,1,17,3]]}
[{"$f":"\"BORANG PERMOHONAN TUNTUTAN INSENTIF \" & CHAR(10)& 'Maklumat Umum'!H1000","v":"BORANG PERMOHONAN TUNTUTAN INSENTIF \nSISTEM LATIHAN DUAL NASIONAL (SLDN) BERINSENTIF 2023"}]
["BULAN:","SEP 2023"]
[]
["No Pengambilan:",{"$f":"'Maklumat Umum'!C11","v":0}]
["Tarikh Mula Latihan",{"$f":"'Maklumat Umum'!C13","v":"00:00:00"}]
["Tarikh Tamat Latihan",{"$f":"'Maklumat Umum'!C14","v":"2024-01-26"}]
["BAHAGIAN A. MAKLUMAT PEMOHON"]
["Nama Pusat Latihan / Syarikat Inhouse (seperti dalam Surat Tawaran/ Perjanjian)",{"$f":"FebXX!C5","v":0}]
["Kod Pusat Latihan / Syarikat Inhouse",{"$f":"FebXX!C6","v":0}]
["ID Rujukan Tawaran SLDN Plus ",{"$f":"'Maklumat Tuntutan'!B5","v":0},null,null,"Cth. JPK/SP/7099"]
["Nama Penyelaras Pusat Latihan/ Syarikat Inhouse",{"$f":"'Maklumat Tuntutan'!B6","v":0}]
["No. Kad Pengenalan",{"$f":"'Maklumat Tuntutan'!B7","v":0}]
["BAHAGIAN B. MAKLUMAT PENERIMA DAN AKAUN BAYARAN INSENTIF"]
["Nama Penerima Bayaran (Pusat Latihan / Syarikat Inhouse)",{"$f":"'Maklumat Tuntutan'!B9","v":0},null,null,"Akaun Bank Mesti Sama Dengan Akaun Yang Dinyatakan Dalam Dokumen Perjanjian"]
["Nama Bank Penerima",{"$f":"'Maklumat Tuntutan'!B10","v":0}]
["Nombor Akaun Bank Penerima",{"$f":"'Maklumat Tuntutan'!B11","v":0}]
["Cawangan Bank",{"$f":"'Maklumat Tuntutan'!B12","v":0}]
["Salinan Penyata Akaun Bank (Sila pastikan maklumat pada dokumen jelas dan terang)","Dilampirkan"]
["BAHAGIAN C. MAKLUMAT TUNTUTAN INSENTIF (BERDASARKAN REKOD KEHADIRAN PERANTIS)"]
["Butiran","Kadar sehari (RM)","%","Jumlah \n(RM)"]
["i.  Insentif Pusat Latihan",15,{"$f":"B21/(B$21+B$22+B$23)","v":0.3},{"$f":"'Sep23'!AM123","v":0}]
["ii.  Insentif Syarikat Kerjasama",10,{"$f":"B22/(B$21+B$22+B$23)","v":0.2},{"$f":"'Sep23'!AN123","v":0}]
["iii. Elaun Perantis",25,{"$f":"B23/(B$21+B$22+B$23)","v":0.5},{"$f":"'Sep23'!AL123","v":0}]
["JUMLAH",null,null,{"$f":"SUM(D21:D23)","v":0}]

{"sheet":"Oct23","index":19,"n_rows":142,"n_cols":45,"rows_kept":142,"cut":false,"hidden":false,"merged":[[0,0,0,40],[1,0,1,40],[2,16,2,20],[5,12,8,35],[15,1,16,2],[16,4,16,33],[17,0,21,0],[17,1,21,1],[17,2,21,2],[17,3,21,3],[17,4,17,33],[19,4,19,33],[47,3,51,3],[17,36,21,36],[17,37,17,39],[17,40,21,40],[18,37,21,37],[18,38,21,38],[18,39,21,39],[17,35,21,35],[22,3,26,3],[27,3,31,3],[32,3,36,3],[37,3,41,3],[42,3,46,3],[107,3,111,3],[52,3,56,3],[57,3,61,3],[62,3,66,3],[67,3,71,3],[72,3,76,3],[77,3,81,3],[82,3,86,3],[87,3,91,3],[92,3,96,3],[97,3,101,3],[102,3,106,3],[112,3,116,3],[117,3,121,3],[122,35,123,36],[122,44,126,50],[123,37,123,39]]}
["BORANG KEHADIRAN PERANTIS"]
[{"$f":"'Maklumat Umum'!H1000","v":"SISTEM LATIHAN DUAL NASIONAL (SLDN) BERINSENTIF 2023"}]
[null,null,null,null,null,null,null,null,null,null,null,null,null,"BULAN",null,null,"OCT 2023",null,null,null,null,null,null,null,null,null,null,null,null,null,null,null,null,null,null,null,"JPK/SP/02"]
[]
[null,"NAMA PUSAT LATIHAN",{"$f":"'Maklumat Umum'!C8","v":0},null,null,null,null,null,null,null,null,null,"Nota: "]
[null,"KOD PUSAT LATIHAN",{"$f":"'Maklumat Umum'!C9","v":0},null,null,null,null,null,null,null,null,null,"1. Bil maksimum hari latihan sebulan yang layak dibayar insentif adalah 20 hari termasuklah:\n(1) Cuti Sakit terhad kepada 14 hari sahaja  - Perlu sertakan Perakuan dari Klinik/Hospital\n(2) Cuti Kecemasan seperti kematian ahli keluarga, kebakaran, banjir dan lain-lain -  Perlu sertakan Surat Pihak Berkuasa Berkaitan (Klinik/Hospital, polis dll) \n(3) Cuti Umum Negeri atau Nasional\n(4) Cuti Kuarantin - Perlu sertakan kelulusan"]
[null,"NAMA PROGRAM",{"$f":"'Maklumat Umum'!C10","v":0}]
[null,"NO PENGAMBILAN",{"$f":"'Maklumat Umum'!C11","v":0}]
[null,"TARIKH MULA LATIHAN",{"$f":"'Maklumat Umum'!C13","v":"00:00:00"}]
[null,"TARIKH TAMAT LATIHAN",{"$f":"'Maklumat Umum'!C14","v":"2024-01-26"},null,null,null,null,null,null,null,null,null,"2. Kadar sehari elaun perantis adalah RM25"]
[null,"TEMPOH LATIHAN DILULUSKAN (BULAN)",{"$f":"'Maklumat Umum'!C12","v":0},null,null,null,null,null,null,null,null,null,"3. Perantis hanya layak dibayar jika kehadiran sekurang-kurangnya 80% (16 hari). PL dan syarikat dibayar mengikut bil hari perantis hadir"]
[]
[]
[]
[]
[null,"TARIKH BELUM DIISI"]
[null,null,null,null,"1 = Hadir            Kosongkan (Blank) = Tidak Hadir            CS = Cuti Sakit             CK = Cuti Kecemasan/Kurantin          CU = Cuti Umum"]
["BIL","Nama Perantis","No Kad \nPengenalan","Syarikat","BIL HARI LATIHAN",null,null,null,null,null,null,null,null,null,null,null,null,null,null,null,null,null,null,null,null,null,null,null,null,null,null,null,null,null,null,"Bil Hari\nCS,CK,\nCU Layak","Bil \nHari Boleh Dibayar","Tuntutan (RM)",null,null,"Tandatangan Perantis"]
[null,null,null,null,1,2,3,4,5,6,7,8,9,10,11,12,13,14,15,16,17,18,19,20,21,22,23,24,25,26,27,28,29,30,31,null,null,"Perantis","Pusat Latihan","Syarikat"]
[null,null,null,null,"TARIKH & HARI"]
[]
[]
[1,{"$f":"IF('Maklumat Umum'!B23=\"\",\"\",'Maklumat Umum'!B23)","v":""},{"$f":"IF('Maklumat Umum'!C23=\"\",\"\",'Maklumat Umum'!C23)","v":""},{"$f":"IF('Maklumat Umum'!D23=\"\",\"\",'Maklumat Umum'!D23)","v":""},null,null,null,null,null,null,null,null,null,null,null,null,null,null,null,null,null,null,null,null,null,null,null,null,null,null,null,null,null,null,null,{"$f":"IF(COUNTBLANK(E23:AI23)=31,\"\",AP23+AQ23+AR23)","v":""},{"$f":"IF(COUNTBLANK(E23:AI23)=31,\"\",IF(SUM(E23:AI23)+AJ23>20,20,SUM(E23:AI23)+AJ23))","v":""},{"$f":"IF(COUNTBLANK(E23:AI23)=31,\"\",IF(AK23<16,0,AK23*25))","v":""},{"$f":"IF(AL23=\"\",\"\",IF(AL23=0,AK23*15,(AL23/0.5)*0.3))","v":""},{"$f":"IF(AL23=\"\",\"\",IF(AL23=0,AK23*10,(AL23/0.5)*0.2))","v":""},null,{"$f":"IF(COUNTIF(E23:AI23,\"CS\")>14,14,COUNTIF(E23:AI23,\"CS\"))","v":0},{"$f":"COUNTIF(E23:AI23,\"CK\")","v":0},{"$f":"COUNTIF(E23:AI23,\"CU\")","v":0}]
[2,{"$f":"IF('Maklumat Umum'!B24=\"\",\"\",'Maklumat Umum'!B24)","v":""},{"$f":"IF('Maklumat Umum'!C24=\"\",\"\",'Maklumat Umum'!C24)","v":""},null,null,null,null,null,null,null,null,null,null,null,null,null,null,null,null,null,null,null,null,null,null,null,null,null,null,null,null,null,null,null,null,{"$f":"IF(COUNTBLANK(E24:AI24)=31,\"\",AP24+AQ24+AR24)","v":""},{"$f":"IF(COUNTBLANK(E24:AI24)=31,\"\",IF(SUM(E24:AI24)+AJ24>20,20,SUM(E24:AI24)+AJ24))","v":""},"","","",null,{"$f":"IF(COUNTIF(E24:AI24,\"CS\")>14,14,COUNTIF(E24:AI24,\"CS\"))","v":0},{"$f":"COUNTIF(E24:AI24,\"CK\")","v":0},{"$f":"COUNTIF(E24:AI24,\"CU\")","v":0}]
[3,{"$f":"IF('Maklumat Umum'!B25=\"\",\"\",'Maklumat Umum'!B25)","v":""},{"$f":"IF('Maklumat Umum'!C25=\"\",\"\",'Maklumat Umum'!C25)","v":""},null,null,null,null,null,null,null,null,null,null,null,null,null,null,null,null,null,null,null,null,null,null,null,null,null,null,null,null,null,null,null,null,"","","","","",null,0,0,0]
[4,{"$f":"IF('Maklumat Umum'!B26=\"\",\"\",'Maklumat Umum'!B26)","v":""},{"$f":"IF('Maklumat Umum'!C26=\"\",\"\",'Maklumat Umum'!C26)","v":""},null,null,null,null,null,null,null,null,null,null,null,null,null,null,null,null,null,null,null,null,null,null,null,null,null,null,null,null,null,null,null,null,"","","","","",null,0,0,0]
[5,{"$f":"IF('Maklumat Umum'!B27=\"\",\"\",'Maklumat Umum'!B27)","v":""},{"$f":"IF('Maklumat Umum'!C27=\"\",\"\",'Maklumat Umum'!C27)","v":""},null,null,null,null,null,null,null,null,null,null,null,null,null,null,null,null,null,null,null,null,null,null,null,null,null,null,null,null,null,null,null,null,"","","","","",null,0,0,0]
[6,{"$f":"IF('Maklumat Umum'!B28=\"\",\"\",'Maklumat Umum'!B28)","v":""},{"$f":"IF('Maklumat Umum'!C28=\"\",\"\",'Maklumat Umum'!C28)","v":""},{"$f":"IF('Maklumat Umum'!D28=\"\",\"\",'Maklumat Umum'!D28)","v":""},null,null,null,null,null,null,null,null,null,null,null,null,null,null,null,null,null,null,null,null,null,null,null,null,null,null,null,null,null,null,null,"","","","","",null,0,0,0]
[7,{"$f":"IF('Maklumat Umum'!B29=\"\",\"\",'Maklumat Umum'!B29)","v":""},{"$f":"IF('Maklumat Umum'!C29=\"\",\"\",'Maklumat Umum'!C29)","v":""},null,null,null,null,null,null,null,null,null,null,null,null,null,null,null,null,null,null,null,null,null,null,null,null,null,null,null,null,null,null,null,null,"","","","","",null,0,0,0]
[8,{"$f":"IF('Maklumat Umum'!B30=\"\",\"\",'Maklumat Umum'!B30)","v":""},{"$f":"IF('Maklumat Umum'!C30=\"\",\"\",'Maklumat Umum'!C30)","v":""},null,null,null,null,null,null,null,null,null,null,null,null,null,null,null,null,null,null,null,null,null,null,null,null,null,null,null,null,null,null,null,null,"","","","","",null,0,0,0]
[9,{"$f":"IF('Maklumat Umum'!B31=\"\",\"\",'Maklumat Umum'!B31)","v":""},{"$f":"IF('Maklumat Umum'!C31=\"\",\"\",'Maklumat Umum'!C31)","v":""},null,null,null,null,null,null,null,null,null,null,null,null,null,null,null,null,null,null,null,null,null,null,null,null,null,null,null,null,null,null,null,null,"","","","","",null,0,0,0]
[10,{"$f":"IF('Maklumat Umum'!B32=\"\",\"\",'Maklumat Umum'!B32)","v":""},{"$f":"IF('Maklumat Umum'!C32=\"\",\"\",'Maklumat Umum'!C32)","v":""},null,null,null,null,null,null,null,null,null,null,null,null,null,null,null,null,null,null,null,null,null,null,null,null,null,null,null,null,null,null,null,null,"","","","","",null,0,0,0]
[11,{"$f":"IF('Maklumat Umum'!B33=\"\",\"\",'Maklumat Umum'!B33)","v":""},{"$f":"IF('Maklumat Umum'!C33=\"\",\"\",'Maklumat Umum'!C33)","v":""},{"$f":"IF('Maklumat Umum'!D33=\"\",\"\",'Maklumat Umum'!D33)","v":""},null,null,null,null,null,null,null,null,null,null,null,null,null,null,null,null,null,null,null,null,null,null,null,null,null,null,null,null,null,null,null,"","","","","",null,0,0,0]
[12,{"$f":"IF('Maklumat Umum'!B34=\"\",\"\",'Maklumat Umum'!B34)","v":""},{"$f":"IF('Maklumat Umum'!C34=\"\",\"\",'Maklumat Umum'!C34)","v":""},null,null,null,null,null,null,null,null,null,null,null,null,null,null,null,null,null,null,null,null,null,null,null,null,null,null,null,null,null,null,null,null,"","","","","",null,0,0,0]
[13,{"$f":"IF('Maklumat Umum'!B35=\"\",\"\",'Maklumat Umum'!B35)","v":""},{"$f":"IF('Maklumat Umum'!C35=\"\",\"\",'Maklumat Umum'!C35)","v":""},null,null,null,null,null,null,null,null,null,null,null,null,null,null,null,null,null,null,null,null,null,null,null,null,null,null,null,null,null,null,null,null,"","","","","",null,0,0,0]
[14,{"$f":"IF('Maklumat Umum'!B36=\"\",\"\",'Maklumat Umum'!B36)","v":""},{"$f":"IF('Maklumat Umum'!C36=\"\",\"\",'Maklumat Umum'!C36)","v":""},null,null,null,null,null,null,null,null,null,null,null,null,null,null,null,null,null,null,null,null,null,null,null,null,null,null,null,null,null,null,null,null,"","","","","",null,0,0,0]
[15,{"$f":"IF('Maklumat Umum'!B37=\"\",\"\",'Maklumat Umum'!B37)","v":""},{"$f":"IF('Maklumat Umum'!C37=\"\",\"\",'Maklumat Umum'!C37)","v":""},null,null,null,null,null,null,null,null,null,null,null,null,null,null,null,null,null,null,null,null,null,null,null,null,null,null,null,null,null,null,null,null,"","","","","",null,0,0,0]
[16,{"$f":"IF('Maklumat Umum'!B38=\"\",\"\",'Maklumat Umum'!B38)","v":""},{"$f":"IF('Maklumat Umum'!C38=\"\",\"\",'Maklumat Umum'!C38)","v":""},{"$f":"IF('Maklumat Umum'!D38=\"\",\"\",'Maklumat Umum'!D38)","v":""},null,null,null,null,null,null,null,null,null,null,null,null,null,null,null,null,null,null,null,null,null,null,null,null,null,null,null,null,null,null,null,"","","","","",null,0,0,0]
[17,{"$f":"IF('Maklumat Umum'!B39=\"\",\"\",'Maklumat Umum'!B39)","v":""},{"$f":"IF('Maklumat Umum'!C39=\"\",\"\",'Maklumat Umum'!C39)","v":""},null,null,null,null,null,null,null,null,null,null,null,null,null,null,null,null,null,null,null,null,null,null,null,null,null,null,null,null,null,null,null,null,"","","","","",null,0,0,0]
[18,{"$f":"IF('Maklumat Umum'!B40=\"\",\"\",'Maklumat Umum'!B40)","v":""},{"$f":"IF('Maklumat Umum'!C40=\"\",\"\",'Maklumat Umum'!C40)","v":""},null,null,null,null,null,null,null,null,null,null,null,null,null,null,null,null,null,null,null,null,null,null,null,null,null,null,null,null,null,null,null,null,"","","","","",null,0,0,0]
[19,{"$f":"IF('Maklumat Umum'!B41=\"\",\"\",'Maklumat Umum'!B41)","v":""},{"$f":"IF('Maklumat Umum'!C41=\"\",\"\",'Maklumat Umum'!C41)","v":""},null,null,null,null,null,null,null,null,null,null,null,null,null,null,null,null,null,null,null,null,null,null,null,null,null,null,null,null,null,null,null,null,"","","","","",null,0,0,0]
[20,{"$f":"IF('Maklumat Umum'!B42=\"\",\"\",'Maklumat Umum'!B42)","v":""},{"$f":"IF('Maklumat Umum'!C42=\"\",\"\",'Maklumat Umum'!C42)","v":""},null,null,null,null,null,null,null,null,null,null,null,null,null,null,null,null,null,null,null,null,null,null,null,null,null,null,null,null,null,null,null,null,"","","","","",null,0,0,0]
[21,{"$f":"IF('Maklumat Umum'!B43=\"\",\"\",'Maklumat Umum'!B43)","v":""},{"$f":"IF('Maklumat Umum'!C43=\"\",\"\",'Maklumat Umum'!C43)","v":""},{"$f":"IF('Maklumat Umum'!D43=\"\",\"\",'Maklumat Umum'!D43)","v":""},null,null,null,null,null,null,null,null,null,null,null,null,null,null,null,null,null,null,null,null,null,null,null,null,null,null,null,null,null,null,null,"","","","","",null,0,0,0]
[22,{"$f":"IF('Maklumat Umum'!B44=\"\",\"\",'Maklumat Umum'!B44)","v":""},{"$f":"IF('Maklumat Umum'!C44=\"\",\"\",'Maklumat Umum'!C44)","v":""},null,null,null,null,null,null,null,null,null,null,null,null,null,null,null,null,null,null,null,null,null,null,null,null,null,null,null,null,null,null,null,null,"","","","","",null,0,0,0]
[23,{"$f":"IF('Maklumat Umum'!B45=\"\",\"\",'Maklumat Umum'!B45)","v":""},{"$f":"IF('Maklumat Umum'!C45=\"\",\"\",'Maklumat Umum'!C45)","v":""},null,null,null,null,null,null,null,null,null,null,null,null,null,null,null,null,null,null,null,null,null,null,null,null,null,null,null,null,null,null,null,null,"","","","","",null,0,0,0]
[24,{"$f":"IF('Maklumat Umum'!B46=\"\",\"\",'Maklumat Umum'!B46)","v":""},{"$f":"IF('Maklumat Umum'!C46=\"\",\"\",'Maklumat Umum'!C46)","v":""},null,null,null,null,null,null,null,null,null,null,null,null,null,null,null,null,null,null,null,null,null,null,null,null,null,null,null,null,null,null,null,null,{"$f":"IF(COUNTBLANK(E46:AI46)=31,\"\",AP46+AQ46+AR46)","v":""},{"$f":"IF(COUNTBLANK(E46:AI46)=31,\"\",IF(SUM(E46:AI46)+AJ46>20,20,SUM(E46:AI46)+AJ46))","v":""},"","","",null,0,0,0]
[25,{"$f":"IF('Maklumat Umum'!B47=\"\",\"\",'Maklumat Umum'!B47)","v":""},{"$f":"IF('Maklumat Umum'!C47=\"\",\"\",'Maklumat Umum'!C47)","v":""},null,null,null,null,null,null,null,null,null,null,null,null,null,null,null,null,null,null,null,null,null,null,null,null,null,null,null,null,null,null,null,null,{"$f":"IF(COUNTBLANK(E47:AI47)=31,\"\",AP47+AQ47+AR47)","v":""},{"$f":"IF(COUNTBLANK(E47:AI47)=31,\"\",IF(SUM(E47:AI47)+AJ47>20,20,SUM(E47:AI47)+AJ47))","v":""},"","","",null,{"$f":"IF(COUNTIF(E47:AI47,\"CS\")>14,14,COUNTIF(E47:AI47,\"CS\"))","v":0},{"$f":"COUNTIF(E47:AI47,\"CK\")","v":0},{"$f":"COUNTIF(E47:AI47,\"CU\")","v":0}]
[26,{"$f":"IF('Maklumat Umum'!B48=\"\",\"\",'Maklumat Umum'!B48)","v":""},{"$f":"IF('Maklumat Umum'!C48=\"\",\"\",'Maklumat Umum'!C48)","v":""},{"$f":"IF('Maklumat Umum'!D48=\"\",\"\",'Maklumat Umum'!D48)","v":""},null,null,null,null,null,null,null,null,null,null,null,null,null,null,null,null,null,null,null,null,null,null,null,null,null,null,null,null,null,null,null,{"$f":"IF(COUNTBLANK(E48:AI48)=31,\"\",AP48+AQ48+AR48)","v":""},{"$f":"IF(COUNTBLANK(E48:AI48)=31,\"\",IF(SUM(E48:AI48)+AJ48>20,20,SUM(E48:AI48)+AJ48))","v":""},"","","",null,{"$f":"IF(COUNTIF(E48:AI48,\"CS\")>14,14,COUNTIF(E48:AI48,\"CS\"))","v":0},{"$f":"COUNTIF(E48:AI48,\"CK\")","v":0},{"$f":"COUNTIF(E48:AI48,\"CU\")","v":0}]
[27,{"$f":"IF('Maklumat Umum'!B49=\"\",\"\",'Maklumat Umum'!B49)","v":""},{"$f":"IF('Maklumat Umum'!C49=\"\",\"\",'Maklumat Umum'!C49)","v":""},null,null,null,null,null,null,null,null,null,null,null,null,null,null,null,null,null,null,null,null,null,null,null,null,null,null,null,null,null,null,null,null,{"$f":"IF(COUNTBLANK(E49:AI49)=31,\"\",AP49+AQ49+AR49)","v":""},{"$f":"IF(COUNTBLANK(E49:AI49)=31,\"\",IF(SUM(E49:AI49)+AJ49>20,20,SUM(E49:AI49)+AJ49))","v":""},"","","",null,{"$f":"IF(COUNTIF(E49:AI49,\"CS\")>14,14,COUNTIF(E49:AI49,\"CS\"))","v":0},{"$f":"COUNTIF(E49:AI49,\"CK\")","v":0},{"$f":"COUNTIF(E49:AI49,\"CU\")","v":0}]
[28,{"$f":"IF('Maklumat Umum'!B50=\"\",\"\",'Maklumat Umum'!B50)","v":""},{"$f":"IF('Maklumat Umum'!C50=\"\",\"\",'Maklumat Umum'!C50)","v":""},null,null,null,null,null,null,null,null,null,null,null,null,null,null,null,null,null,null,null,null,null,null,null,null,null,null,null,null,null,null,null,null,"","","","","",null,0,0,0]
[29,{"$f":"IF('Maklumat Umum'!B51=\"\",\"\",'Maklumat Umum'!B51)","v":""},{"$f":"IF('Maklumat Umum'!C51=\"\",\"\",'Maklumat Umum'!C51)","v":""},null,null,null,null,null,null,null,null,null,null,null,null,null,null,null,null,null,null,null,null,null,null,null,null,null,null,null,null,null,null,null,null,"","","","","",null,0,0,0]
[30,{"$f":"IF('Maklumat Umum'!B52=\"\",\"\",'Maklumat Umum'!B52)","v":""},{"$f":"IF('Maklumat Umum'!C52=\"\",\"\",'Maklumat Umum'!C52)","v":""},null,null,null,null,null,null,null,null,null,null,null,null,null,null,null,null,null,null,null,null,null,null,null,null,null,null,null,null,null,null,null,null,"","","","","",null,0,0,0]
[31,{"$f":"IF('Maklumat Umum'!B53=\"\",\"\",'Maklumat Umum'!B53)","v":""},{"$f":"IF('Maklumat Umum'!C53=\"\",\"\",'Maklumat Umum'!C53)","v":""},{"$f":"IF('Maklumat Umum'!D53=\"\",\"\",'Maklumat Umum'!D53)","v":""},null,null,null,null,null,null,null,null,null,null,null,null,null,null,null,null,null,null,null,null,null,null,null,null,null,null,null,null,null,null,null,"","","","","",null,0,0,0]
[32,{"$f":"IF('Maklumat Umum'!B54=\"\",\"\",'Maklumat Umum'!B54)","v":""},{"$f":"IF('Maklumat Umum'!C54=\"\",\"\",'Maklumat Umum'!C54)","v":""},null,null,null,null,null,null,null,null,null,null,null,null,null,null,null,null,null,null,null,null,null,null,null,null,null,null,null,null,null,null,null,null,"","","","","",null,0,0,0]
[33,{"$f":"IF('Maklumat Umum'!B55=\"\",\"\",'Maklumat Umum'!B55)","v":""},{"$f":"IF('Maklumat Umum'!C55=\"\",\"\",'Maklumat Umum'!C55)","v":""},null,null,null,null,null,null,null,null,null,null,null,null,null,null,null,null,null,null,null,null,null,null,null,null,null,null,null,null,null,null,null,null,"","","","","",null,0,0,0]
[34,{"$f":"IF('Maklumat Umum'!B56=\"\",\"\",'Maklumat Umum'!B56)","v":""},{"$f":"IF('Maklumat Umum'!C56=\"\",\"\",'Maklumat Umum'!C56)","v":""},null,null,null,null,null,null,null,null,null,null,null,null,null,null,null,null,null,null,null,null,null,null,null,null,null,null,null,null,null,null,null,null,"","","","","",null,0,0,0]
[35,{"$f":"IF('Maklumat Umum'!B57=\"\",\"\",'Maklumat Umum'!B57)","v":""},{"$f":"IF('Maklumat Umum'!C57=\"\",\"\",'Maklumat Umum'!C57)","v":""},null,null,null,null,null,null,null,null,null,null,null,null,null,null,null,null,null,null,null,null,null,null,null,null,null,null,null,null,null,null,null,null,"","","","","",null,0,0,0]
[36,{"$f":"IF('Maklumat Umum'!B58=\"\",\"\",'Maklumat Umum'!B58)","v":""},{"$f":"IF('Maklumat Umum'!C58=\"\",\"\",'Maklumat Umum'!C58)","v":""},{"$f":"IF('Maklumat Umum'!D58=\"\",\"\",'Maklumat Umum'!D58)","v":""},null,null,null,null,null,null,null,null,null,null,null,null,null,null,null,null,null,null,null,null,null,null,null,null,null,null,null,null,null,null,null,"","","","","",null,0,0,0]
[37,{"$f":"IF('Maklumat Umum'!B59=\"\",\"\",'Maklumat Umum'!B59)","v":""},{"$f":"IF('Maklumat Umum'!C59=\"\",\"\",'Maklumat Umum'!C59)","v":""},null,null,null,null,null,null,null,null,null,null,null,null,null,null,null,null,null,null,null,null,null,null,null,null,null,null,null,null,null,null,null,null,"","","","","",null,0,0,0]
[38,{"$f":"IF('Maklumat Umum'!B60=\"\",\"\",'Maklumat Umum'!B60)","v":""},{"$f":"IF('Maklumat Umum'!C60=\"\",\"\",'Maklumat Umum'!C60)","v":""},null,null,null,null,null,null,null,null,null,null,null,null,null,null,null,null,null,null,null,null,null,null,null,null,null,null,null,null,null,null,null,null,"","","","","",null,0,0,0]
[39,{"$f":"IF('Maklumat Umum'!B61=\"\",\"\",'Maklumat Umum'!B61)","v":""},{"$f":"IF('Maklumat Umum'!C61=\"\",\"\",'Maklumat Umum'!C61)","v":""},null,null,null,null,null,null,null,null,null,null,null,null,null,null,null,null,null,null,null,null,null,null,null,null,null,null,null,null,null,null,null,null,"","","","","",null,0,0,0]
[40,{"$f":"IF('Maklumat Umum'!B62=\"\",\"\",'Maklumat Umum'!B62)","v":""},{"$f":"IF('Maklumat Umum'!C62=\"\",\"\",'Maklumat Umum'!C62)","v":""},null,null,null,null,null,null,null,null,null,null,null,null,null,null,null,null,null,null,null,null,null,null,null,null,null,null,null,null,null,null,null,null,"","","","","",null,0,0,0]
[41,{"$f":"IF('Maklumat Umum'!B63=\"\",\"\",'Maklumat Umum'!B63)","v":""},{"$f":"IF('Maklumat Umum'!C63=\"\",\"\",'Maklumat Umum'!C63)","v":""},{"$f":"IF('Maklumat Umum'!D63=\"\",\"\",'Maklumat Umum'!D63)","v":""},null,null,null,null,null,null,null,null,null,null,null,null,null,null,null,null,null,null,null,null,null,null,null,null,null,null,null,null,null,null,null,"","","","","",null,0,0,0]
[42,{"$f":"IF('Maklumat Umum'!B64=\"\",\"\",'Maklumat Umum'!B64)","v":""},{"$f":"IF('Maklumat Umum'!C64=\"\",\"\",'Maklumat Umum'!C64)","v":""},null,null,null,null,null,null,null,null,null,null,null,null,null,null,null,null,null,null,null,null,null,null,null,null,null,null,null,null,null,null,null,null,"","","","","",null,0,0,0]
[43,{"$f":"IF('Maklumat Umum'!B65=\"\",\"\",'Maklumat Umum'!B65)","v":""},{"$f":"IF('Maklumat Umum'!C65=\"\",\"\",'Maklumat Umum'!C65)","v":""},null,null,null,null,null,null,null,null,null,null,null,null,null,null,null,null,null,null,null,null,null,null,null,null,null,null,null,null,null,null,null,null,"","","","","",null,0,0,0]
[44,{"$f":"IF('Maklumat Umum'!B66=\"\",\"\",'Maklumat Umum'!B66)","v":""},{"$f":"IF('Maklumat Umum'!C66=\"\",\"\",'Maklumat Umum'!C66)","v":""},null,null,null,null,null,null,null,null,null,null,null,null,null,null,null,null,null,null,null,null,null,null,null,null,null,null,null,null,null,null,null,null,"","","","","",null,0,0,0]
[45,{"$f":"IF('Maklumat Umum'!B67=\"\",\"\",'Maklumat Umum'!B67)","v":""},{"$f":"IF('Maklumat Umum'!C67=\"\",\"\",'Maklumat Umum'!C67)","v":""},null,null,null,null,null,null,null,null,null,null,null,null,null,null,null,null,null,null,null,null,null,null,null,null,null,null,null,null,null,null,null,null,"","","","","",null,0,0,0]
[46,{"$f":"IF('Maklumat Umum'!B68=\"\",\"\",'Maklumat Umum'!B68)","v":""},{"$f":"IF('Maklumat Umum'!C68=\"\",\"\",'Maklumat Umum'!C68)","v":""},{"$f":"IF('Maklumat Umum'!D68=\"\",\"\",'Maklumat Umum'!D68)","v":""},null,null,null,null,null,null,null,null,null,null,null,null,null,null,null,null,null,null,null,null,null,null,null,null,null,null,null,null,null,null,null,"","","","","",null,0,0,0]
[47,{"$f":"IF('Maklumat Umum'!B69=\"\",\"\",'Maklumat Umum'!B69)","v":""},{"$f":"IF('Maklumat Umum'!C69=\"\",\"\",'Maklumat Umum'!C69)","v":""},null,null,null,null,null,null,null,null,null,null,null,null,null,null,null,null,null,null,null,null,null,null,null,null,null,null,null,null,null,null,null,null,"","","","","",null,0,0,0]
[48,{"$f":"IF('Maklumat Umum'!B70=\"\",\"\",'Maklumat Umum'!B70)","v":""},{"$f":"IF('Maklumat Umum'!C70=\"\",\"\",'Maklumat Umum'!C70)","v":""},null,null,null,null,null,null,null,null,null,null,null,null,null,null,null,null,null,null,null,null,null,null,null,null,null,null,null,null,null,null,null,null,"","","","","",null,0,0,0]
[49,{"$f":"IF('Maklumat Umum'!B71=\"\",\"\",'Maklumat Umum'!B71)","v":""},{"$f":"IF('Maklumat Umum'!C71=\"\",\"\",'Maklumat Umum'!C71)","v":""},null,null,null,null,null,null,null,null,null,null,null,null,null,null,null,null,null,null,null,null,null,null,null,null,null,null,null,null,null,null,null,null,{"$f":"IF(COUNTBLANK(E71:AI71)=31,\"\",AP71+AQ71+AR71)","v":""},{"$f":"IF(COUNTBLANK(E71:AI71)=31,\"\",IF(SUM(E71:AI71)+AJ71>20,20,SUM(E71:AI71)+AJ71))","v":""},"","","",null,0,0,0]
[50,{"$f":"IF('Maklumat Umum'!B72=\"\",\"\",'Maklumat Umum'!B72)","v":""},{"$f":"IF('Maklumat Umum'!C72=\"\",\"\",'Maklumat Umum'!C72)","v":""},null,null,null,null,null,null,null,null,null,null,null,null,null,null,null,null,null,null,null,null,null,null,null,null,null,null,null,null,null,null,null,null,{"$f":"IF(COUNTBLANK(E72:AI72)=31,\"\",AP72+AQ72+AR72)","v":""},{"$f":"IF(COUNTBLANK(E72:AI72)=31,\"\",IF(SUM(E72:AI72)+AJ72>20,20,SUM(E72:AI72)+AJ72))","v":""},"","","",null,{"$f":"IF(COUNTIF(E72:AI72,\"CS\")>14,14,COUNTIF(E72:AI72,\"CS\"))","v":0},{"$f":"COUNTIF(E72:AI72,\"CK\")","v":0},{"$f":"COUNTIF(E72:AI72,\"CU\")","v":0}]
[51,{"$f":"IF('Maklumat Umum'!B73=\"\",\"\",'Maklumat Umum'!B73)","v":""},{"$f":"IF('Maklumat Umum'!C73=\"\",\"\",'Maklumat Umum'!C73)","v":""},{"$f":"IF('Maklumat Umum'!D73=\"\",\"\",'Maklumat Umum'!D73)","v":""},null,null,null,null,null,null,null,null,null,null,null,null,null,null,null,null,null,null,null,null,null,null,null,null,null,null,null,null,null,null,null,{"$f":"IF(COUNTBLANK(E73:AI73)=31,\"\",AP73+AQ73+AR73)","v":""},{"$f":"IF(COUNTBLANK(E73:AI73)=31,\"\",IF(SUM(E73:AI73)+AJ73>20,20,SUM(E73:AI73)+AJ73))","v":""},"","","",null,{"$f":"IF(COUNTIF(E73:AI73,\"CS\")>14,14,COUNTIF(E73:AI73,\"CS\"))","v":0},{"$f":"COUNTIF(E73:AI73,\"CK\")","v":0},{"$f":"COUNTIF(E73:AI73,\"CU\")","v":0}]
[52,{"$f":"IF('Maklumat Umum'!B74=\"\",\"\",'Maklumat Umum'!B74)","v":""},{"$f":"IF('Maklumat Umum'!C74=\"\",\"\",'Maklumat Umum'!C74)","v":""},null,null,null,null,null,null,null,null,null,null,null,null,null,null,null,null,null,null,null,null,null,null,null,null,null,null,null,null,null,null,null,null,{"$f":"IF(COUNTBLANK(E74:AI74)=31,\"\",AP74+AQ74+AR74)","v":""},{"$f":"IF(COUNTBLANK(E74:AI74)=31,\"\",IF(SUM(E74:AI74)+AJ74>20,20,SUM(E74:AI74)+AJ74))","v":""},"","","",null,{"$f":"IF(COUNTIF(E74:AI74,\"CS\")>14,14,COUNTIF(E74:AI74,\"CS\"))","v":0},{"$f":"COUNTIF(E74:AI74,\"CK\")","v":0},{"$f":"COUNTIF(E74:AI74,\"CU\")","v":0}]
[53,{"$f":"IF('Maklumat Umum'!B75=\"\",\"\",'Maklumat Umum'!B75)","v":""},{"$f":"IF('Maklumat Umum'!C75=\"\",\"\",'Maklumat Umum'!C75)","v":""},null,null,null,null,null,null,null,null,null,null,null,null,null,null,null,null,null,null,null,null,null,null,null,null,null,null,null,null,null,null,null,null,"","","","","",null,0,0,0]
[54,{"$f":"IF('Maklumat Umum'!B76=\"\",\"\",'Maklumat Umum'!B76)","v":""},{"$f":"IF('Maklumat Umum'!C76=\"\",\"\",'Maklumat Umum'!C76)","v":""},null,null,null,null,null,null,null,null,null,null,null,null,null,null,null,null,null,null,null,null,null,null,null,null,null,null,null,null,null,null,null,null,"","","","","",null,0,0,0]
[55,{"$f":"IF('Maklumat Umum'!B77=\"\",\"\",'Maklumat Umum'!B77)","v":""},{"$f":"IF('Maklumat Umum'!C77=\"\",\"\",'Maklumat Umum'!C77)","v":""},null,null,null,null,null,null,null,null,null,null,null,null,null,null,null,null,null,null,null,null,null,null,null,null,null,null,null,null,null,null,null,null,"","","","","",null,0,0,0]
[56,{"$f":"IF('Maklumat Umum'!B78=\"\",\"\",'Maklumat Umum'!B78)","v":""},{"$f":"IF('Maklumat Umum'!C78=\"\",\"\",'Maklumat Umum'!C78)","v":""},{"$f":"IF('Maklumat Umum'!D78=\"\",\"\",'Maklumat Umum'!D78)","v":""},null,null,null,null,null,null,null,null,null,null,null,null,null,null,null,null,null,null,null,null,null,null,null,null,null,null,null,null,null,null,null,"","","","","",null,0,0,0]
[57,{"$f":"IF('Maklumat Umum'!B79=\"\",\"\",'Maklumat Umum'!B79)","v":""},{"$f":"IF('Maklumat Umum'!C79=\"\",\"\",'Maklumat Umum'!C79)","v":""},null,null,null,null,null,null,null,null,null,null,null,null,null,null,null,null,null,null,null,null,null,null,null,null,null,null,null,null,null,null,null,null,"","","","","",null,0,0,0]
[58,{"$f":"IF('Maklumat Umum'!B80=\"\",\"\",'Maklumat Umum'!B80)","v":""},{"$f":"IF('Maklumat Umum'!C80=\"\",\"\",'Maklumat Umum'!C80)","v":""},null,null,null,null,null,null,null,null,null,null,null,null,null,null,null,null,null,null,null,null,null,null,null,null,null,null,null,null,null,null,null,null,"","","","","",null,0,0,0]
[59,{"$f":"IF('Maklumat Umum'!B81=\"\",\"\",'Maklumat Umum'!B81)","v":""},{"$f":"IF('Maklumat Umum'!C81=\"\",\"\",'Maklumat Umum'!C81)","v":""},null,null,null,null,null,null,null,null,null,null,null,null,null,null,null,null,null,null,null,null,null,null,null,null,null,null,null,null,null,null,null,null,"","","","","",null,0,0,0]
[60,{"$f":"IF('Maklumat Umum'!B82=\"\",\"\",'Maklumat Umum'!B82)","v":""},{"$f":"IF('Maklumat Umum'!C82=\"\",\"\",'Maklumat Umum'!C82)","v":""},null,null,null,null,null,null,null,null,null,null,null,null,null,null,null,null,null,null,null,null,null,null,null,null,null,null,null,null,null,null,null,null,"","","","","",null,0,0,0]
[61,{"$f":"IF('Maklumat Umum'!B83=\"\",\"\",'Maklumat Umum'!B83)","v":""},{"$f":"IF('Maklumat Umum'!C83=\"\",\"\",'Maklumat Umum'!C83)","v":""},{"$f":"IF('Maklumat Umum'!D83=\"\",\"\",'Maklumat Umum'!D83)","v":""},null,null,null,null,null,null,null,null,null,null,null,null,null,null,null,null,null,null,null,null,null,null,null,null,null,null,null,null,null,null,null,"","","","","",null,0,0,0]
[62,{"$f":"IF('Maklumat Umum'!B84=\"\",\"\",'Maklumat Umum'!B84)","v":""},{"$f":"IF('Maklumat Umum'!C84=\"\",\"\",'Maklumat Umum'!C84)","v":""},null,null,null,null,null,null,null,null,null,null,null,null,null,null,null,null,null,null,null,null,null,null,null,null,null,null,null,null,null,null,null,null,"","","","","",null,0,0,0]
[63,{"$f":"IF('Maklumat Umum'!B85=\"\",\"\",'Maklumat Umum'!B85)","v":""},{"$f":"IF('Maklumat Umum'!C85=\"\",\"\",'Maklumat Umum'!C85)","v":""},null,null,null,null,null,null,null,null,null,null,null,null,null,null,null,null,null,null,null,null,null,null,null,null,null,null,null,null,null,null,null,null,"","","","","",null,0,0,0]
[64,{"$f":"IF('Maklumat Umum'!B86=\"\",\"\",'Maklumat Umum'!B86)","v":""},{"$f":"IF('Maklumat Umum'!C86=\"\",\"\",'Maklumat Umum'!C86)","v":""},null,null,null,null,null,null,null,null,null,null,null,null,null,null,null,null,null,null,null,null,null,null,null,null,null,null,null,null,null,null,null,null,"","","","","",null,0,0,0]
[65,{"$f":"IF('Maklumat Umum'!B87=\"\",\"\",'Maklumat Umum'!B87)","v":""},{"$f":"IF('Maklumat Umum'!C87=\"\",\"\",'Maklumat Umum'!C87)","v":""},null,null,null,null,null,null,null,null,null,null,null,null,null,null,null,null,null,null,null,null,null,null,null,null,null,null,null,null,null,null,null,null,"","",{"$f":"IF(COUNTBLANK(E87:AI87)=31,\"\",IF(AK87<16,0,AK87*25))","v":""},{"$f":"IF(AL87=\"\",\"\",IF(AL87=0,AK87*15,(AL87/0.5)*0.3))","v":""},{"$f":"IF(AL87=\"\",\"\",IF(AL87=0,AK87*10,(AL87/0.5)*0.2))","v":""},null,0,0,0]
[66,{"$f":"IF('Maklumat Umum'!B88=\"\",\"\",'Maklumat Umum'!B88)","v":""},{"$f":"IF('Maklumat Umum'!C88=\"\",\"\",'Maklumat Umum'!C88)","v":""},{"$f":"IF('Maklumat Umum'!D88=\"\",\"\",'Maklumat Umum'!D88)","v":""},null,null,null,null,null,null,null,null,null,null,null,null,null,null,null,null,null,null,null,null,null,null,null,null,null,null,null,null,null,null,null,"","","","","",null,0,0,0]
[67,{"$f":"IF('Maklumat Umum'!B89=\"\",\"\",'Maklumat Umum'!B89)","v":""},{"$f":"IF('Maklumat Umum'!C89=\"\",\"\",'Maklumat Umum'!C89)","v":""},null,null,null,null,null,null,null,null,null,null,null,null,null,null,null,null,null,null,null,null,null,null,null,null,null,null,null,null,null,null,null,null,"","","","","",null,0,0,0]
[68,{"$f":"IF('Maklumat Umum'!B90=\"\",\"\",'Maklumat Umum'!B90)","v":""},{"$f":"IF('Maklumat Umum'!C90=\"\",\"\",'Maklumat Umum'!C90)","v":""},null,null,null,null,null,null,null,null,null,null,null,null,null,null,null,null,null,null,null,null,null,null,null,null,null,null,null,null,null,null,null,null,"","","","","",null,0,0,0]
[69,{"$f":"IF('Maklumat Umum'!B91=\"\",\"\",'Maklumat Umum'!B91)","v":""},{"$f":"IF('Maklumat Umum'!C91=\"\",\"\",'Maklumat Umum'!C91)","v":""},null,null,null,null,null,null,null,null,null,null,null,null,null,null,null,null,null,null,null,null,null,null,null,null,null,null,null,null,null,null,null,null,"","","","","",null,0,0,0]
[70,{"$f":"IF('Maklumat Umum'!B92=\"\",\"\",'Maklumat Umum'!B92)","v":""},{"$f":"IF('Maklumat Umum'!C92=\"\",\"\",'Maklumat Umum'!C92)","v":""},null,null,null,null,null,null,null,null,null,null,null,null,null,null,null,null,null,null,null,null,null,null,null,null,null,null,null,null,null,null,null,null,"","","","","",null,0,0,0]
[71,{"$f":"IF('Maklumat Umum'!B93=\"\",\"\",'Maklumat Umum'!B93)","v":""},{"$f":"IF('Maklumat Umum'!C93=\"\",\"\",'Maklumat Umum'!C93)","v":""},{"$f":"IF('Maklumat Umum'!D93=\"\",\"\",'Maklumat Umum'!D93)","v":""},null,null,null,null,null,null,null,null,null,null,null,null,null,null,null,null,null,null,null,null,null,null,null,null,null,null,null,null,null,null,null,"","","","","",null,0,0,0]
[72,{"$f":"IF('Maklumat Umum'!B94=\"\",\"\",'Maklumat Umum'!B94)","v":""},{"$f":"IF('Maklumat Umum'!C94=\"\",\"\",'Maklumat Umum'!C94)","v":""},null,null,null,null,null,null,null,null,null,null,null,null,null,null,null,null,null,null,null,null,null,null,null,null,null,null,null,null,null,null,null,null,"","","","","",null,0,0,0]
[73,{"$f":"IF('Maklumat Umum'!B95=\"\",\"\",'Maklumat Umum'!B95)","v":""},{"$f":"IF('Maklumat Umum'!C95=\"\",\"\",'Maklumat Umum'!C95)","v":""},null,null,null,null,null,null,null,null,null,null,null,null,null,null,null,null,null,null,null,null,null,null,null,null,null,null,null,null,null,null,null,null,"","","","","",null,0,0,0]
[74,{"$f":"IF('Maklumat Umum'!B96=\"\",\"\",'Maklumat Umum'!B96)","v":""},{"$f":"IF('Maklumat Umum'!C96=\"\",\"\",'Maklumat Umum'!C96)","v":""},null,null,null,null,null,null,null,null,null,null,null,null,null,null,null,null,null,null,null,null,null,null,null,null,null,null,null,null,null,null,null,null,{"$f":"IF(COUNTBLANK(E96:AI96)=31,\"\",AP96+AQ96+AR96)","v":""},{"$f":"IF(COUNTBLANK(E96:AI96)=31,\"\",IF(SUM(E96:AI96)+AJ96>20,20,SUM(E96:AI96)+AJ96))","v":""},"","","",null,0,0,0]
[75,{"$f":"IF('Maklumat Umum'!B97=\"\",\"\",'Maklumat Umum'!B97)","v":""},{"$f":"IF('Maklumat Umum'!C97=\"\",\"\",'Maklumat Umum'!C97)","v":""},null,null,null,null,null,null,null,null,null,null,null,null,null,null,null,null,null,null,null,null,null,null,null,null,null,null,null,null,null,null,null,null,{"$f":"IF(COUNTBLANK(E97:AI97)=31,\"\",AP97+AQ97+AR97)","v":""},{"$f":"IF(COUNTBLANK(E97:AI97)=31,\"\",IF(SUM(E97:AI97)+AJ97>20,20,SUM(E97:AI97)+AJ97))","v":""},"","","",null,{"$f":"IF(COUNTIF(E97:AI97,\"CS\")>14,14,COUNTIF(E97:AI97,\"CS\"))","v":0},{"$f":"COUNTIF(E97:AI97,\"CK\")","v":0},{"$f":"COUNTIF(E97:AI97,\"CU\")","v":0}]
[76,{"$f":"IF('Maklumat Umum'!B98=\"\",\"\",'Maklumat Umum'!B98)","v":""},{"$f":"IF('Maklumat Umum'!C98=\"\",\"\",'Maklumat Umum'!C98)","v":""},{"$f":"IF('Maklumat Umum'!D98=\"\",\"\",'Maklumat Umum'!D98)","v":""},null,null,null,null,null,null,null,null,null,null,null,null,null,null,null,null,null,null,null,null,null,null,null,null,null,null,null,null,null,null,null,{"$f":"IF(COUNTBLANK(E98:AI98)=31,\"\",AP98+AQ98+AR98)","v":""},{"$f":"IF(COUNTBLANK(E98:AI98)=31,\"\",IF(SUM(E98:AI98)+AJ98>20,20,SUM(E98:AI98)+AJ98))","v":""},"","","",null,{"$f":"IF(COUNTIF(E98:AI98,\"CS\")>14,14,COUNTIF(E98:AI98,\"CS\"))","v":0},{"$f":"COUNTIF(E98:AI98,\"CK\")","v":0},{"$f":"COUNTIF(E98:AI98,\"CU\")","v":0}]
[77,{"$f":"IF('Maklumat Umum'!B99=\"\",\"\",'Maklumat Umum'!B99)","v":""},{"$f":"IF('Maklumat Umum'!C99=\"\",\"\",'Maklumat Umum'!C99)","v":""},null,null,null,null,null,null,null,null,null,null,null,null,null,null,null,null,null,null,null,null,null,null,null,null,null,null,null,null,null,null,null,null,{"$f":"IF(COUNTBLANK(E99:AI99)=31,\"\",AP99+AQ99+AR99)","v":""},{"$f":"IF(COUNTBLANK(E99:AI99)=31,\"\",IF(SUM(E99:AI99)+AJ99>20,20,SUM(E99:AI99)+AJ99))","v":""},"","","",null,{"$f":"IF(COUNTIF(E99:AI99,\"CS\")>14,14,COUNTIF(E99:AI99,\"CS\"))","v":0},{"$f":"COUNTIF(E99:AI99,\"CK\")","v":0},{"$f":"COUNTIF(E99:AI99,\"CU\")","v":0}]
[78,{"$f":"IF('Maklumat Umum'!B100=\"\",\"\",'Maklumat Umum'!B100)","v":""},{"$f":"IF('Maklumat Umum'!C100=\"\",\"\",'Maklumat Umum'!C100)","v":""},null,null,null,null,null,null,null,null,null,null,null,null,null,null,null,null,null,null,null,null,null,null,null,null,null,null,null,null,null,null,null,null,"","","","","",null,0,0,0]
[79,{"$f":"IF('Maklumat Umum'!B101=\"\",\"\",'Maklumat Umum'!B101)","v":""},{"$f":"IF('Maklumat Umum'!C101=\"\",\"\",'Maklumat Umum'!C101)","v":""},null,null,null,null,null,null,null,null,null,null,null,null,null,null,null,null,null,null,null,null,null,null,null,null,null,null,null,null,null,null,null,null,"","","","","",null,0,0,0]
[80,{"$f":"IF('Maklumat Umum'!B102=\"\",\"\",'Maklumat Umum'!B102)","v":""},{"$f":"IF('Maklumat Umum'!C102=\"\",\"\",'Maklumat Umum'!C102)","v":""},null,null,null,null,null,null,null,null,null,null,null,null,null,null,null,null,null,null,null,null,null,null,null,null,null,null,null,null,null,null,null,null,"","","","","",null,0,0,0]
[81,{"$f":"IF('Maklumat Umum'!B103=\"\",\"\",'Maklumat Umum'!B103)","v":""},{"$f":"IF('Maklumat Umum'!C103=\"\",\"\",'Maklumat Umum'!C103)","v":""},{"$f":"IF('Maklumat Umum'!D103=\"\",\"\",'Maklumat Umum'!D103)","v":""},null,null,null,null,null,null,null,null,null,null,null,null,null,null,null,null,null,null,null,null,null,null,null,null,null,null,null,null,null,null,null,"","","","","",null,0,0,0]
[82,{"$f":"IF('Maklumat Umum'!B104=\"\",\"\",'Maklumat Umum'!B104)","v":""},{"$f":"IF('Maklumat Umum'!C104=\"\",\"\",'Maklumat Umum'!C104)","v":""},null,null,null,null,null,null,null,null,null,null,null,null,null,null,null,null,null,null,null,null,null,null,null,null,null,null,null,null,null,null,null,null,"","","","","",null,0,0,0]
[83,{"$f":"IF('Maklumat Umum'!B105=\"\",\"\",'Maklumat Umum'!B105)","v":""},{"$f":"IF('Maklumat Umum'!C105=\"\",\"\",'Maklumat Umum'!C105)","v":""},null,null,null,null,null,null,null,null,null,null,null,null,null,null,null,null,null,null,null,null,null,null,null,null,null,null,null,null,null,null,null,null,"","","","","",null,0,0,0]
[84,{"$f":"IF('Maklumat Umum'!B106=\"\",\"\",'Maklumat Umum'!B106)","v":""},{"$f":"IF('Maklumat Umum'!C106=\"\",\"\",'Maklumat Umum'!C106)","v":""},null,null,null,null,null,null,null,null,null,null,null,null,null,null,null,null,null,null,null,null,null,null,null,null,null,null,null,null,null,null,null,null,"","","","","",null,0,0,0]
[85,{"$f":"IF('Maklumat Umum'!B107=\"\",\"\",'Maklumat Umum'!B107)","v":""},{"$f":"IF('Maklumat Umum'!C107=\"\",\"\",'Maklumat Umum'!C107)","v":""},null,null,null,null,null,null,null,null,null,null,null,null,null,null,null,null,null,null,null,null,null,null,null,null,null,null,null,null,null,null,null,null,"","","","","",null,0,0,0]
[86,{"$f":"IF('Maklumat Umum'!B108=\"\",\"\",'Maklumat Umum'!B108)","v":""},{"$f":"IF('Maklumat Umum'!C108=\"\",\"\",'Maklumat Umum'!C108)","v":""},{"$f":"IF('Maklumat Umum'!D108=\"\",\"\",'Maklumat Umum'!D108)","v":""},null,null,null,null,null,null,null,null,null,null,null,null,null,null,null,null,null,null,null,null,null,null,null,null,null,null,null,null,null,null,null,"","","","","",null,0,0,0]
[87,{"$f":"IF('Maklumat Umum'!B109=\"\",\"\",'Maklumat Umum'!B109)","v":""},{"$f":"IF('Maklumat Umum'!C109=\"\",\"\",'Maklumat Umum'!C109)","v":""},null,null,null,null,null,null,null,null,null,null,null,null,null,null,null,null,null,null,null,null,null,null,null,null,null,null,null,null,null,null,null,null,"","","","","",null,0,0,0]
[88,{"$f":"IF('Maklumat Umum'!B110=\"\",\"\",'Maklumat Umum'!B110)","v":""},{"$f":"IF('Maklumat Umum'!C110=\"\",\"\",'Maklumat Umum'!C110)","v":""},null,null,null,null,null,null,null,null,null,null,null,null,null,null,null,null,null,null,null,null,null,null,null,null,null,null,null,null,null,null,null,null,"","","","","",null,0,0,0]
[89,{"$f":"IF('Maklumat Umum'!B111=\"\",\"\",'Maklumat Umum'!B111)","v":""},{"$f":"IF('Maklumat Umum'!C111=\"\",\"\",'Maklumat Umum'!C111)","v":""},null,null,null,null,null,null,null,null,null,null,null,null,null,null,null,null,null,null,null,null,null,null,null,null,null,null,null,null,null,null,null,null,"","","","","",null,0,0,0]
[90,{"$f":"IF('Maklumat Umum'!B112=\"\",\"\",'Maklumat Umum'!B112)","v":""},{"$f":"IF('Maklumat Umum'!C112=\"\",\"\",'Maklumat Umum'!C112)","v":""},null,null,null,null,null,null,null,null,null,null,null,null,null,null,null,null,null,null,null,null,null,null,null,null,null,null,null,null,null,null,null,null,"","","","","",null,0,0,0]
[91,{"$f":"IF('Maklumat Umum'!B113=\"\",\"\",'Maklumat Umum'!B113)","v":""},{"$f":"IF('Maklumat Umum'!C113=\"\",\"\",'Maklumat Umum'!C113)","v":""},{"$f":"IF('Maklumat Umum'!D113=\"\",\"\",'Maklumat Umum'!D113)","v":""},null,null,null,null,null,null,null,null,null,null,null,null,null,null,null,null,null,null,null,null,null,null,null,null,null,null,null,null,null,null,null,"","","","","",null,0,0,0]
[92,{"$f":"IF('Maklumat Umum'!B114=\"\",\"\",'Maklumat Umum'!B114)","v":""},{"$f":"IF('Maklumat Umum'!C114=\"\",\"\",'Maklumat Umum'!C114)","v":""},null,null,null,null,null,null,null,null,null,null,null,null,null,null,null,null,null,null,null,null,null,null,null,null,null,null,null,null,null,null,null,null,"","","","","",null,0,0,0]
[93,{"$f":"IF('Maklumat Umum'!B115=\"\",\"\",'Maklumat Umum'!B115)","v":""},{"$f":"IF('Maklumat Umum'!C115=\"\",\"\",'Maklumat Umum'!C115)","v":""},null,null,null,null,null,null,null,null,null,null,null,null,null,null,null,null,null,null,null,null,null,null,null,null,null,null,null,null,null,null,null,null,"","","","","",null,0,0,0]
[94,{"$f":"IF('Maklumat Umum'!B116=\"\",\"\",'Maklumat Umum'!B116)","v":""},{"$f":"IF('Maklumat Umum'!C116=\"\",\"\",'Maklumat Umum'!C116)","v":""},null,null,null,null,null,null,null,null,null,null,null,null,null,null,null,null,null,null,null,null,null,null,null,null,null,null,null,null,null,null,null,null,"","","","","",null,0,0,0]
[95,{"$f":"IF('Maklumat Umum'!B117=\"\",\"\",'Maklumat Umum'!B117)","v":""},{"$f":"IF('Maklumat Umum'!C117=\"\",\"\",'Maklumat Umum'!C117)","v":""},null,null,null,null,null,null,null,null,null,null,null,null,null,null,null,null,null,null,null,null,null,null,null,null,null,null,null,null,null,null,null,null,"","","","","",null,0,0,0]
[96,{"$f":"IF('Maklumat Umum'!B118=\"\",\"\",'Maklumat Umum'!B118)","v":""},{"$f":"IF('Maklumat Umum'!C118=\"\",\"\",'Maklumat Umum'!C118)","v":""},{"$f":"IF('Maklumat Umum'!D118=\"\",\"\",'Maklumat Umum'!D118)","v":""},null,null,null,null,null,null,null,null,null,null,null,null,null,null,null,null,null,null,null,null,null,null,null,null,null,null,null,null,null,null,null,"","","","","",null,0,0,0]
[97,{"$f":"IF('Maklumat Umum'!B119=\"\",\"\",'Maklumat Umum'!B119)","v":""},{"$f":"IF('Maklumat Umum'!C119=\"\",\"\",'Maklumat Umum'!C119)","v":""},null,null,null,null,null,null,null,null,null,null,null,null,null,null,null,null,null,null,null,null,null,null,null,null,null,null,null,null,null,null,null,null,"","","","","",null,0,0,0]
[98,{"$f":"IF('Maklumat Umum'!B120=\"\",\"\",'Maklumat Umum'!B120)","v":""},{"$f":"IF('Maklumat Umum'!C120=\"\",\"\",'Maklumat Umum'!C120)","v":""},null,null,null,null,null,null,null,null,null,null,null,null,null,null,null,null,null,null,null,null,null,null,null,null,null,null,null,null,null,null,null,null,"","","","","",null,0,0,0]
[99,{"$f":"IF('Maklumat Umum'!B121=\"\",\"\",'Maklumat Umum'!B121)","v":""},{"$f":"IF('Maklumat Umum'!C121=\"\",\"\",'Maklumat Umum'!C121)","v":""},null,null,null,null,null,null,null,null,null,null,null,null,null,null,null,null,null,null,null,null,null,null,null,null,null,null,null,null,null,null,null,null,{"$f":"IF(COUNTBLANK(E121:AI121)=31,\"\",AP121+AQ121+AR121)","v":""},{"$f":"IF(COUNTBLANK(E121:AI121)=31,\"\",IF(SUM(E121:AI121)+AJ121>20,20,SUM(E121:AI121)+AJ121))","v":""},"","","",null,0,0,0]
[100,{"$f":"IF('Maklumat Umum'!B122=\"\",\"\",'Maklumat Umum'!B122)","v":""},{"$f":"IF('Maklumat Umum'!C122=\"\",\"\",'Maklumat Umum'!C122)","v":""},null,null,null,null,null,null,null,null,null,null,null,null,null,null,null,null,null,null,null,null,null,null,null,null,null,null,null,null,null,null,null,null,{"$f":"IF(COUNTBLANK(E122:AI122)=31,\"\",AP122+AQ122+AR122)","v":""},{"$f":"IF(COUNTBLANK(E122:AI122)=31,\"\",IF(SUM(E122:AI122)+AJ122>20,20,SUM(E122:AI122)+AJ122))","v":""},"","","",null,{"$f":"IF(COUNTIF(E122:AI122,\"CS\")>14,14,COUNTIF(E122:AI122,\"CS\"))","v":0},{"$f":"COUNTIF(E122:AI122,\"CK\")","v":0},{"$f":"COUNTIF(E122:AI122,\"CU\")","v":0}]
["Nota: PL perlu pastikan maklumat adalah tepat dan nama perantis mengikut Kad Pengenalan serta turutan dalam Pengesahan Pendaftaran Perantis SLDN",null,null,null,null,null,null,null,null,null,null,null,null,null,null,null,null,null,null,null,null,null,null,null,null,null,null,null,null,null,null,null,null,null,null,"JUM TUNTUTAN",null,{"$f":"SUM(AL23:AL122)","v":0},{"$f":"SUM(AM23:AM122)","v":0},{"$f":"SUM(AN23:AN122)","v":0},null,null,null,null,"Pejabat Wilayah hendaklah memindahkan Jumlah tuntutan elaun perantis ini ke dalam MySPIKE bagi tujuan pembayaran "]
[null,null,null,null,null,null,null,null,null,null,null,null,null,null,null,null,null,null,null,null,null,null,null,null,null,null,null,null,null,null,null,null,null,null,null,null,null,{"$f":"SUM(AL123:AN123)","v":0}]
["Dengan ini kami mengesahkan bahawa maklumat di atas adalah benar dan perantis sedang menjalani latihan di syarikat kerjasama/ penyedia latihan seperti yang telah ditetapkan."]
[]
["Disediakan oleh",null,null,null,null,null,null,null,null,null,null,null,null,null,"Disahkan oleh"]
[]
["…………………………………………….",null,null,null,null,null,null,null,null,null,null,null,null,null,"……………………………………………."]
["(Tandatangan Penyelaras Pusat Latihan)",null,null,null,null,null,null,null,null,null,null,null,"(Tandatangan Penyelaras Syarikat 1)",null,null,null,null,null,null,null,null,null,null,null,null,null,null,null,null,null,"(Tandatangan Penyelaras Syarikat 2)"]
["Nama:  ",null,null,null,null,null,null,null,null,null,null,null,"Nama:",null,null,null,null,null,null,null,null,null,null,null,null,null,null,null,null,null,"Nama:"]
["Tarikh:",null,null,null,null,null,null,null,null,null,null,null,"Tarikh:",null,null,null,null,null,null,null,null,null,null,null,null,null,null,null,null,null,"Tarikh:"]
[]
["PENGESAHAN PENGURUS PUSAT LATIHAN:",null,null,null,null,null,null,null,null,null,null,null,"(Tandatangan Penyelaras Syarikat 3)",null,null,null,null,null,null,null,null,null,null,null,null,null,null,null,null,null,"(Tandatangan Penyelaras Syarikat 4)"]
["Saya memperakukan kenyataan di atas adalah  benar",null,null,null,null,null,null,null,null,null,null,null,"Nama:",null,null,null,null,null,null,null,null,null,null,null,null,null,null,null,null,null,"Nama:"]
[null,null,null,null,null,null,null,null,null,null,null,null,"Tarikh:",null,null,null,null,null,null,null,null,null,null,null,null,null,null,null,null,null,"Tarikh:"]
["……………………………………………."]
["(Tandatangan Pengurus Pusat Latihan)",null,null,null,null,null,null,null,null,null,null,null,"(Tandatangan Penyelaras Syarikat 5)"]
[null,null,null,null,null,null,null,null,null,null,null,null,"Nama:"]
["Nama ",null,null,null,null,null,null,null,null,null,null,null,"Tarikh:"]
["No Kad Pengenalan (Pengurus Pusat Latihan)"]
["Tarikh:",null,null,"Cop Rasmi Pusat Latihan:"]

{"sheet":"Claim_page1_Oct23","index":20,"n_rows":24,"n_cols":5,"rows_kept":24,"cut":false,"hidden":false,"merged":[[0,0,0,3],[0,4,7,9],[1,1,1,2],[3,1,3,3],[4,1,4,3],[5,1,5,3],[6,0,6,3],[7,1,7,3],[18,0,18,3],[8,1,8,3],[9,1,9,3],[10,1,10,3],[11,1,11,3],[12,0,12,3],[13,1,13,3],[13,4,17,4],[14,1,14,3],[15,1,15,3],[16,1,16,3],[17,1,17,3]]}
[{"$f":"\"BORANG PERMOHONAN TUNTUTAN INSENTIF \" & CHAR(10)& 'Maklumat Umum'!H1000","v":"BORANG PERMOHONAN TUNTUTAN INSENTIF \nSISTEM LATIHAN DUAL NASIONAL (SLDN) BERINSENTIF 2023"}]
["BULAN:","OCT 2023"]
[]
["No Pengambilan:",{"$f":"'Maklumat Umum'!C11","v":0}]
["Tarikh Mula Latihan",{"$f":"'Maklumat Umum'!C13","v":"00:00:00"}]
["Tarikh Tamat Latihan",{"$f":"'Maklumat Umum'!C14","v":"2024-01-26"}]
["BAHAGIAN A. MAKLUMAT PEMOHON"]
["Nama Pusat Latihan / Syarikat Inhouse (seperti dalam Surat Tawaran/ Perjanjian)",{"$f":"FebXX!C5","v":0}]
["Kod Pusat Latihan / Syarikat Inhouse",{"$f":"FebXX!C6","v":0}]
["ID Rujukan Tawaran SLDN Plus ",{"$f":"'Maklumat Tuntutan'!B5","v":0},null,null,"Cth. JPK/SP/7099"]
["Nama Penyelaras Pusat Latihan/ Syarikat Inhouse",{"$f":"'Maklumat Tuntutan'!B6","v":0}]
["No. Kad Pengenalan",{"$f":"'Maklumat Tuntutan'!B7","v":0}]
["BAHAGIAN B. MAKLUMAT PENERIMA DAN AKAUN BAYARAN INSENTIF"]
["Nama Penerima Bayaran (Pusat Latihan / Syarikat Inhouse)",{"$f":"'Maklumat Tuntutan'!B9","v":0},null,null,"Akaun Bank Mesti Sama Dengan Akaun Yang Dinyatakan Dalam Dokumen Perjanjian"]
["Nama Bank Penerima",{"$f":"'Maklumat Tuntutan'!B10","v":0}]
["Nombor Akaun Bank Penerima",{"$f":"'Maklumat Tuntutan'!B11","v":0}]
["Cawangan Bank",{"$f":"'Maklumat Tuntutan'!B12","v":0}]
["Salinan Penyata Akaun Bank (Sila pastikan maklumat pada dokumen jelas dan terang)","Dilampirkan"]
["BAHAGIAN C. MAKLUMAT TUNTUTAN INSENTIF (BERDASARKAN REKOD KEHADIRAN PERANTIS)"]
["Butiran","Kadar sehari (RM)","%","Jumlah \n(RM)"]
["i.  Insentif Pusat Latihan",15,{"$f":"B21/(B$21+B$22+B$23)","v":0.3},{"$f":"'Oct23'!AM123","v":0}]
["ii.  Insentif Syarikat Kerjasama",10,{"$f":"B22/(B$21+B$22+B$23)","v":0.2},{"$f":"'Oct23'!AN123","v":0}]
["iii. Elaun Perantis",25,{"$f":"B23/(B$21+B$22+B$23)","v":0.5},{"$f":"'Oct23'!AL123","v":0}]
["JUMLAH",null,null,{"$f":"SUM(D21:D23)","v":0}]

{"sheet":"Nov23","index":21,"n_rows":142,"n_cols":45,"rows_kept":142,"cut":false,"hidden":false,"merged":[[0,0,0,40],[1,0,1,40],[2,16,2,20],[5,12,8,35],[15,1,16,2],[16,4,16,33],[17,0,21,0],[17,1,21,1],[17,2,21,2],[17,3,21,3],[17,4,17,33],[19,4,19,33],[47,3,51,3],[17,36,21,36],[17,37,17,39],[17,40,21,40],[18,37,21,37],[18,38,21,38],[18,39,21,39],[17,35,21,35],[22,3,26,3],[27,3,31,3],[32,3,36,3],[37,3,41,3],[42,3,46,3],[107,3,111,3],[52,3,56,3],[57,3,61,3],[62,3,66,3],[67,3,71,3],[72,3,76,3],[77,3,81,3],[82,3,86,3],[87,3,91,3],[92,3,96,3],[97,3,101,3],[102,3,106,3],[112,3,116,3],[117,3,121,3],[122,35,123,36],[122,44,126,50],[123,37,123,39]]}
["BORANG KEHADIRAN PERANTIS"]
[{"$f":"'Maklumat Umum'!H1000","v":"SISTEM LATIHAN DUAL NASIONAL (SLDN) BERINSENTIF 2023"}]
[null,null,null,null,null,null,null,null,null,null,null,null,null,"BULAN",null,null,"NOV 2023",null,null,null,null,null,null,null,null,null,null,null,null,null,null,null,null,null,null,null,"JPK/SP/02"]
[]
[null,"NAMA PUSAT LATIHAN",{"$f":"'Maklumat Umum'!C8","v":0},null,null,null,null,null,null,null,null,null,"Nota: "]
[null,"KOD PUSAT LATIHAN",{"$f":"'Maklumat Umum'!C9","v":0},null,null,null,null,null,null,null,null,null,"1. Bil maksimum hari latihan sebulan yang layak dibayar insentif adalah 20 hari termasuklah:\n(1) Cuti Sakit terhad kepada 14 hari sahaja  - Perlu sertakan Perakuan dari Klinik/Hospital\n(2) Cuti Kecemasan seperti kematian ahli keluarga, kebakaran, banjir dan lain-lain -  Perlu sertakan Surat Pihak Berkuasa Berkaitan (Klinik/Hospital, polis dll) \n(3) Cuti Umum Negeri atau Nasional\n(4) Cuti Kuarantin - Perlu sertakan kelulusan"]
[null,"NAMA PROGRAM",{"$f":"'Maklumat Umum'!C10","v":0}]
[null,"NO PENGAMBILAN",{"$f":"'Maklumat Umum'!C11","v":0}]
[null,"TARIKH MULA LATIHAN",{"$f":"'Maklumat Umum'!C13","v":"00:00:00"}]
[null,"TARIKH TAMAT LATIHAN",{"$f":"'Maklumat Umum'!C14","v":"2024-01-26"},null,null,null,null,null,null,null,null,null,"2. Kadar sehari elaun perantis adalah RM25"]
[null,"TEMPOH LATIHAN DILULUSKAN (BULAN)",{"$f":"'Maklumat Umum'!C12","v":0},null,null,null,null,null,null,null,null,null,"3. Perantis hanya layak dibayar jika kehadiran sekurang-kurangnya 80% (16 hari). PL dan syarikat dibayar mengikut bil hari perantis hadir"]
[]
[]
[]
[]
[null,"TARIKH BELUM DIISI"]
[null,null,null,null,"1 = Hadir            Kosongkan (Blank) = Tidak Hadir            CS = Cuti Sakit             CK = Cuti Kecemasan/Kurantin          CU = Cuti Umum"]
["BIL","Nama Perantis","No Kad \nPengenalan","Syarikat","BIL HARI LATIHAN",null,null,null,null,null,null,null,null,null,null,null,null,null,null,null,null,null,null,null,null,null,null,null,null,null,null,null,null,null,null,"Bil Hari\nCS,CK,\nCU Layak","Bil \nHari Boleh Dibayar","Tuntutan (RM)",null,null,"Tandatangan Perantis"]
[null,null,null,null,1,2,3,4,5,6,7,8,9,10,11,12,13,14,15,16,17,18,19,20,21,22,23,24,25,26,27,28,29,30,31,null,null,"Perantis","Pusat Latihan","Syarikat"]
[null,null,null,null,"TARIKH & HARI"]
[]
[]
[1,{"$f":"IF('Maklumat Umum'!B23=\"\",\"\",'Maklumat Umum'!B23)","v":""},{"$f":"IF('Maklumat Umum'!C23=\"\",\"\",'Maklumat Umum'!C23)","v":""},{"$f":"IF('Maklumat Umum'!D23=\"\",\"\",'Maklumat Umum'!D23)","v":""},null,null,null,null,null,null,null,null,null,null,null,null,null,null,null,null,null,null,null,null,null,null,null,null,null,null,null,null,null,null,null,{"$f":"IF(COUNTBLANK(E23:AI23)=31,\"\",AP23+AQ23+AR23)","v":""},{"$f":"IF(COUNTBLANK(E23:AI23)=31,\"\",IF(SUM(E23:AI23)+AJ23>20,20,SUM(E23:AI23)+AJ23))","v":""},{"$f":"IF(COUNTBLANK(E23:AI23)=31,\"\",IF(AK23<16,0,AK23*25))","v":""},{"$f":"IF(AL23=\"\",\"\",IF(AL23=0,AK23*15,(AL23/0.5)*0.3))","v":""},{"$f":"IF(AL23=\"\",\"\",IF(AL23=0,AK23*10,(AL23/0.5)*0.2))","v":""},null,{"$f":"IF(COUNTIF(E23:AI23,\"CS\")>14,14,COUNTIF(E23:AI23,\"CS\"))","v":0},{"$f":"COUNTIF(E23:AI23,\"CK\")","v":0},{"$f":"COUNTIF(E23:AI23,\"CU\")","v":0}]
[2,{"$f":"IF('Maklumat Umum'!B24=\"\",\"\",'Maklumat Umum'!B24)","v":""},{"$f":"IF('Maklumat Umum'!C24=\"\",\"\",'Maklumat Umum'!C24)","v":""},null,null,null,null,null,null,null,null,null,null,null,null,null,null,null,null,null,null,null,null,null,null,null,null,null,null,null,null,null,null,null,null,{"$f":"IF(COUNTBLANK(E24:AI24)=31,\"\",AP24+AQ24+AR24)","v":""},{"$f":"IF(COUNTBLANK(E24:AI24)=31,\"\",IF(SUM(E24:AI24)+AJ24>20,20,SUM(E24:AI24)+AJ24))","v":""},"","","",null,{"$f":"IF(COUNTIF(E24:AI24,\"CS\")>14,14,COUNTIF(E24:AI24,\"CS\"))","v":0},{"$f":"COUNTIF(E24:AI24,\"CK\")","v":0},{"$f":"COUNTIF(E24:AI24,\"CU\")","v":0}]
[3,{"$f":"IF('Maklumat Umum'!B25=\"\",\"\",'Maklumat Umum'!B25)","v":""},{"$f":"IF('Maklumat Umum'!C25=\"\",\"\",'Maklumat Umum'!C25)","v":""},null,null,null,null,null,null,null,null,null,null,null,null,null,null,null,null,null,null,null,null,null,null,null,null,null,null,null,null,null,null,null,null,"","","","","",null,0,0,0]
[4,{"$f":"IF('Maklumat Umum'!B26=\"\",\"\",'Maklumat Umum'!B26)","v":""},{"$f":"IF('Maklumat Umum'!C26=\"\",\"\",'Maklumat Umum'!C26)","v":""},null,null,null,null,null,null,null,null,null,null,null,null,null,null,null,null,null,null,null,null,null,null,null,null,null,null,null,null,null,null,null,null,"","","","","",null,0,0,0]
[5,{"$f":"IF('Maklumat Umum'!B27=\"\",\"\",'Maklumat Umum'!B27)","v":""},{"$f":"IF('Maklumat Umum'!C27=\"\",\"\",'Maklumat Umum'!C27)","v":""},null,null,null,null,null,null,null,null,null,null,null,null,null,null,null,null,null,null,null,null,null,null,null,null,null,null,null,null,null,null,null,null,"","","","","",null,0,0,0]
[6,{"$f":"IF('Maklumat Umum'!B28=\"\",\"\",'Maklumat Umum'!B28)","v":""},{"$f":"IF('Maklumat Umum'!C28=\"\",\"\",'Maklumat Umum'!C28)","v":""},{"$f":"IF('Maklumat Umum'!D28=\"\",\"\",'Maklumat Umum'!D28)","v":""},null,null,null,null,null,null,null,null,null,null,null,null,null,null,null,null,null,null,null,null,null,null,null,null,null,null,null,null,null,null,null,"","","","","",null,0,0,0]
[7,{"$f":"IF('Maklumat Umum'!B29=\"\",\"\",'Maklumat Umum'!B29)","v":""},{"$f":"IF('Maklumat Umum'!C29=\"\",\"\",'Maklumat Umum'!C29)","v":""},null,null,null,null,null,null,null,null,null,null,null,null,null,null,null,null,null,null,null,null,null,null,null,null,null,null,null,null,null,null,null,null,"","","","","",null,0,0,0]
[8,{"$f":"IF('Maklumat Umum'!B30=\"\",\"\",'Maklumat Umum'!B30)","v":""},{"$f":"IF('Maklumat Umum'!C30=\"\",\"\",'Maklumat Umum'!C30)","v":""},null,null,null,null,null,null,null,null,null,null,null,null,null,null,null,null,null,null,null,null,null,null,null,null,null,null,null,null,null,null,null,null,"","","","","",null,0,0,0]
[9,{"$f":"IF('Maklumat Umum'!B31=\"\",\"\",'Maklumat Umum'!B31)","v":""},{"$f":"IF('Maklumat Umum'!C31=\"\",\"\",'Maklumat Umum'!C31)","v":""},null,null,null,null,null,null,null,null,null,null,null,null,null,null,null,null,null,null,null,null,null,null,null,null,null,null,null,null,null,null,null,null,"","","","","",null,0,0,0]
[10,{"$f":"IF('Maklumat Umum'!B32=\"\",\"\",'Maklumat Umum'!B32)","v":""},{"$f":"IF('Maklumat Umum'!C32=\"\",\"\",'Maklumat Umum'!C32)","v":""},null,null,null,null,null,null,null,null,null,null,null,null,null,null,null,null,null,null,null,null,null,null,null,null,null,null,null,null,null,null,null,null,"","","","","",null,0,0,0]
[11,{"$f":"IF('Maklumat Umum'!B33=\"\",\"\",'Maklumat Umum'!B33)","v":""},{"$f":"IF('Maklumat Umum'!C33=\"\",\"\",'Maklumat Umum'!C33)","v":""},{"$f":"IF('Maklumat Umum'!D33=\"\",\"\",'Maklumat Umum'!D33)","v":""},null,null,null,null,null,null,null,null,null,null,null,null,null,null,null,null,null,null,null,null,null,null,null,null,null,null,null,null,null,null,null,"","","","","",null,0,0,0]
[12,{"$f":"IF('Maklumat Umum'!B34=\"\",\"\",'Maklumat Umum'!B34)","v":""},{"$f":"IF('Maklumat Umum'!C34=\"\",\"\",'Maklumat Umum'!C34)","v":""},null,null,null,null,null,null,null,null,null,null,null,null,null,null,null,null,null,null,null,null,null,null,null,null,null,null,null,null,null,null,null,null,"","","","","",null,0,0,0]
[13,{"$f":"IF('Maklumat Umum'!B35=\"\",\"\",'Maklumat Umum'!B35)","v":""},{"$f":"IF('Maklumat Umum'!C35=\"\",\"\",'Maklumat Umum'!C35)","v":""},null,null,null,null,null,null,null,null,null,null,null,null,null,null,null,null,null,null,null,null,null,null,null,null,null,null,null,null,null,null,null,null,"","","","","",null,0,0,0]
[14,{"$f":"IF('Maklumat Umum'!B36=\"\",\"\",'Maklumat Umum'!B36)","v":""},{"$f":"IF('Maklumat Umum'!C36=\"\",\"\",'Maklumat Umum'!C36)","v":""},null,null,null,null,null,null,null,null,null,null,null,null,null,null,null,null,null,null,null,null,null,null,null,null,null,null,null,null,null,null,null,null,"","","","","",null,0,0,0]
[15,{"$f":"IF('Maklumat Umum'!B37=\"\",\"\",'Maklumat Umum'!B37)","v":""},{"$f":"IF('Maklumat Umum'!C37=\"\",\"\",'Maklumat Umum'!C37)","v":""},null,null,null,null,null,null,null,null,null,null,null,null,null,null,null,null,null,null,null,null,null,null,null,null,null,null,null,null,null,null,null,null,"","","","","",null,0,0,0]
[16,{"$f":"IF('Maklumat Umum'!B38=\"\",\"\",'Maklumat Umum'!B38)","v":""},{"$f":"IF('Maklumat Umum'!C38=\"\",\"\",'Maklumat Umum'!C38)","v":""},{"$f":"IF('Maklumat Umum'!D38=\"\",\"\",'Maklumat Umum'!D38)","v":""},null,null,null,null,null,null,null,null,null,null,null,null,null,null,null,null,null,null,null,null,null,null,null,null,null,null,null,null,null,null,null,"","","","","",null,0,0,0]
[17,{"$f":"IF('Maklumat Umum'!B39=\"\",\"\",'Maklumat Umum'!B39)","v":""},{"$f":"IF('Maklumat Umum'!C39=\"\",\"\",'Maklumat Umum'!C39)","v":""},null,null,null,null,null,null,null,null,null,null,null,null,null,null,null,null,null,null,null,null,null,null,null,null,null,null,null,null,null,null,null,null,"","","","","",null,0,0,0]
[18,{"$f":"IF('Maklumat Umum'!B40=\"\",\"\",'Maklumat Umum'!B40)","v":""},{"$f":"IF('Maklumat Umum'!C40=\"\",\"\",'Maklumat Umum'!C40)","v":""},null,null,null,null,null,null,null,null,null,null,null,null,null,null,null,null,null,null,null,null,null,null,null,null,null,null,null,null,null,null,null,null,"","","","","",null,0,0,0]
[19,{"$f":"IF('Maklumat Umum'!B41=\"\",\"\",'Maklumat Umum'!B41)","v":""},{"$f":"IF('Maklumat Umum'!C41=\"\",\"\",'Maklumat Umum'!C41)","v":""},null,null,null,null,null,null,null,null,null,null,null,null,null,null,null,null,null,null,null,null,null,null,null,null,null,null,null,null,null,null,null,null,"","","","","",null,0,0,0]
[20,{"$f":"IF('Maklumat Umum'!B42=\"\",\"\",'Maklumat Umum'!B42)","v":""},{"$f":"IF('Maklumat Umum'!C42=\"\",\"\",'Maklumat Umum'!C42)","v":""},null,null,null,null,null,null,null,null,null,null,null,null,null,null,null,null,null,null,null,null,null,null,null,null,null,null,null,null,null,null,null,null,"","","","","",null,0,0,0]
[21,{"$f":"IF('Maklumat Umum'!B43=\"\",\"\",'Maklumat Umum'!B43)","v":""},{"$f":"IF('Maklumat Umum'!C43=\"\",\"\",'Maklumat Umum'!C43)","v":""},{"$f":"IF('Maklumat Umum'!D43=\"\",\"\",'Maklumat Umum'!D43)","v":""},null,null,null,null,null,null,null,null,null,null,null,null,null,null,null,null,null,null,null,null,null,null,null,null,null,null,null,null,null,null,null,"","","","","",null,0,0,0]
[22,{"$f":"IF('Maklumat Umum'!B44=\"\",\"\",'Maklumat Umum'!B44)","v":""},{"$f":"IF('Maklumat Umum'!C44=\"\",\"\",'Maklumat Umum'!C44)","v":""},null,null,null,null,null,null,null,null,null,null,null,null,null,null,null,null,null,null,null,null,null,null,null,null,null,null,null,null,null,null,null,null,"","","","","",null,0,0,0]
[23,{"$f":"IF('Maklumat Umum'!B45=\"\",\"\",'Maklumat Umum'!B45)","v":""},{"$f":"IF('Maklumat Umum'!C45=\"\",\"\",'Maklumat Umum'!C45)","v":""},null,null,null,null,null,null,null,null,null,null,null,null,null,null,null,null,null,null,null,null,null,null,null,null,null,null,null,null,null,null,null,null,"","","","","",null,0,0,0]
[24,{"$f":"IF('Maklumat Umum'!B46=\"\",\"\",'Maklumat Umum'!B46)","v":""},{"$f":"IF('Maklumat Umum'!C46=\"\",\"\",'Maklumat Umum'!C46)","v":""},null,null,null,null,null,null,null,null,null,null,null,null,null,null,null,null,null,null,null,null,null,null,null,null,null,null,null,null,null,null,null,null,{"$f":"IF(COUNTBLANK(E46:AI46)=31,\"\",AP46+AQ46+AR46)","v":""},{"$f":"IF(COUNTBLANK(E46:AI46)=31,\"\",IF(SUM(E46:AI46)+AJ46>20,20,SUM(E46:AI46)+AJ46))","v":""},"","","",null,0,0,0]
[25,{"$f":"IF('Maklumat Umum'!B47=\"\",\"\",'Maklumat Umum'!B47)","v":""},{"$f":"IF('Maklumat Umum'!C47=\"\",\"\",'Maklumat Umum'!C47)","v":""},null,null,null,null,null,null,null,null,null,null,null,null,null,null,null,null,null,null,null,null,null,null,null,null,null,null,null,null,null,null,null,null,{"$f":"IF(COUNTBLANK(E47:AI47)=31,\"\",AP47+AQ47+AR47)","v":""},{"$f":"IF(COUNTBLANK(E47:AI47)=31,\"\",IF(SUM(E47:AI47)+AJ47>20,20,SUM(E47:AI47)+AJ47))","v":""},"","","",null,{"$f":"IF(COUNTIF(E47:AI47,\"CS\")>14,14,COUNTIF(E47:AI47,\"CS\"))","v":0},{"$f":"COUNTIF(E47:AI47,\"CK\")","v":0},{"$f":"COUNTIF(E47:AI47,\"CU\")","v":0}]
[26,{"$f":"IF('Maklumat Umum'!B48=\"\",\"\",'Maklumat Umum'!B48)","v":""},{"$f":"IF('Maklumat Umum'!C48=\"\",\"\",'Maklumat Umum'!C48)","v":""},{"$f":"IF('Maklumat Umum'!D48=\"\",\"\",'Maklumat Umum'!D48)","v":""},null,null,null,null,null,null,null,null,null,null,null,null,null,null,null,null,null,null,null,null,null,null,null,null,null,null,null,null,null,null,null,{"$f":"IF(COUNTBLANK(E48:AI48)=31,\"\",AP48+AQ48+AR48)","v":""},{"$f":"IF(COUNTBLANK(E48:AI48)=31,\"\",IF(SUM(E48:AI48)+AJ48>20,20,SUM(E48:AI48)+AJ48))","v":""},"","","",null,{"$f":"IF(COUNTIF(E48:AI48,\"CS\")>14,14,COUNTIF(E48:AI48,\"CS\"))","v":0},{"$f":"COUNTIF(E48:AI48,\"CK\")","v":0},{"$f":"COUNTIF(E48:AI48,\"CU\")","v":0}]
[27,{"$f":"IF('Maklumat Umum'!B49=\"\",\"\",'Maklumat Umum'!B49)","v":""},{"$f":"IF('Maklumat Umum'!C49=\"\",\"\",'Maklumat Umum'!C49)","v":""},null,null,null,null,null,null,null,null,null,null,null,null,null,null,null,null,null,null,null,null,null,null,null,null,null,null,null,null,null,null,null,null,{"$f":"IF(COUNTBLANK(E49:AI49)=31,\"\",AP49+AQ49+AR49)","v":""},{"$f":"IF(COUNTBLANK(E49:AI49)=31,\"\",IF(SUM(E49:AI49)+AJ49>20,20,SUM(E49:AI49)+AJ49))","v":""},"","","",null,{"$f":"IF(COUNTIF(E49:AI49,\"CS\")>14,14,COUNTIF(E49:AI49,\"CS\"))","v":0},{"$f":"COUNTIF(E49:AI49,\"CK\")","v":0},{"$f":"COUNTIF(E49:AI49,\"CU\")","v":0}]
[28,{"$f":"IF('Maklumat Umum'!B50=\"\",\"\",'Maklumat Umum'!B50)","v":""},{"$f":"IF('Maklumat Umum'!C50=\"\",\"\",'Maklumat Umum'!C50)","v":""},null,null,null,null,null,null,null,null,null,null,null,null,null,null,null,null,null,null,null,null,null,null,null,null,null,null,null,null,null,null,null,null,"","","","","",null,0,0,0]
[29,{"$f":"IF('Maklumat Umum'!B51=\"\",\"\",'Maklumat Umum'!B51)","v":""},{"$f":"IF('Maklumat Umum'!C51=\"\",\"\",'Maklumat Umum'!C51)","v":""},null,null,null,null,null,null,null,null,null,null,null,null,null,null,null,null,null,null,null,null,null,null,null,null,null,null,null,null,null,null,null,null,"","","","","",null,0,0,0]
[30,{"$f":"IF('Maklumat Umum'!B52=\"\",\"\",'Maklumat Umum'!B52)","v":""},{"$f":"IF('Maklumat Umum'!C52=\"\",\"\",'Maklumat Umum'!C52)","v":""},null,null,null,null,null,null,null,null,null,null,null,null,null,null,null,null,null,null,null,null,null,null,null,null,null,null,null,null,null,null,null,null,"","","","","",null,0,0,0]
[31,{"$f":"IF('Maklumat Umum'!B53=\"\",\"\",'Maklumat Umum'!B53)","v":""},{"$f":"IF('Maklumat Umum'!C53=\"\",\"\",'Maklumat Umum'!C53)","v":""},{"$f":"IF('Maklumat Umum'!D53=\"\",\"\",'Maklumat Umum'!D53)","v":""},null,null,null,null,null,null,null,null,null,null,null,null,null,null,null,null,null,null,null,null,null,null,null,null,null,null,null,null,null,null,null,"","","","","",null,0,0,0]
[32,{"$f":"IF('Maklumat Umum'!B54=\"\",\"\",'Maklumat Umum'!B54)","v":""},{"$f":"IF('Maklumat Umum'!C54=\"\",\"\",'Maklumat Umum'!C54)","v":""},null,null,null,null,null,null,null,null,null,null,null,null,null,null,null,null,null,null,null,null,null,null,null,null,null,null,null,null,null,null,null,null,"","","","","",null,0,0,0]
[33,{"$f":"IF('Maklumat Umum'!B55=\"\",\"\",'Maklumat Umum'!B55)","v":""},{"$f":"IF('Maklumat Umum'!C55=\"\",\"\",'Maklumat Umum'!C55)","v":""},null,null,null,null,null,null,null,null,null,null,null,null,null,null,null,null,null,null,null,null,null,null,null,null,null,null,null,null,null,null,null,null,"","","","","",null,0,0,0]
[34,{"$f":"IF('Maklumat Umum'!B56=\"\",\"\",'Maklumat Umum'!B56)","v":""},{"$f":"IF('Maklumat Umum'!C56=\"\",\"\",'Maklumat Umum'!C56)","v":""},null,null,null,null,null,null,null,null,null,null,null,null,null,null,null,null,null,null,null,null,null,null,null,null,null,null,null,null,null,null,null,null,"","","","","",null,0,0,0]
[35,{"$f":"IF('Maklumat Umum'!B57=\"\",\"\",'Maklumat Umum'!B57)","v":""},{"$f":"IF('Maklumat Umum'!C57=\"\",\"\",'Maklumat Umum'!C57)","v":""},null,null,null,null,null,null,null,null,null,null,null,null,null,null,null,null,null,null,null,null,null,null,null,null,null,null,null,null,null,null,null,null,"","","","","",null,0,0,0]
[36,{"$f":"IF('Maklumat Umum'!B58=\"\",\"\",'Maklumat Umum'!B58)","v":""},{"$f":"IF('Maklumat Umum'!C58=\"\",\"\",'Maklumat Umum'!C58)","v":""},{"$f":"IF('Maklumat Umum'!D58=\"\",\"\",'Maklumat Umum'!D58)","v":""},null,null,null,null,null,null,null,null,null,null,null,null,null,null,null,null,null,null,null,null,null,null,null,null,null,null,null,null,null,null,null,"","","","","",null,0,0,0]
[37,{"$f":"IF('Maklumat Umum'!B59=\"\",\"\",'Maklumat Umum'!B59)","v":""},{"$f":"IF('Maklumat Umum'!C59=\"\",\"\",'Maklumat Umum'!C59)","v":""},null,null,null,null,null,null,null,null,null,null,null,null,null,null,null,null,null,null,null,null,null,null,null,null,null,null,null,null,null,null,null,null,"","","","","",null,0,0,0]
[38,{"$f":"IF('Maklumat Umum'!B60=\"\",\"\",'Maklumat Umum'!B60)","v":""},{"$f":"IF('Maklumat Umum'!C60=\"\",\"\",'Maklumat Umum'!C60)","v":""},null,null,null,null,null,null,null,null,null,null,null,null,null,null,null,null,null,null,null,null,null,null,null,null,null,null,null,null,null,null,null,null,"","","","","",null,0,0,0]
[39,{"$f":"IF('Maklumat Umum'!B61=\"\",\"\",'Maklumat Umum'!B61)","v":""},{"$f":"IF('Maklumat Umum'!C61=\"\",\"\",'Maklumat Umum'!C61)","v":""},null,null,null,null,null,null,null,null,null,null,null,null,null,null,null,null,null,null,null,null,null,null,null,null,null,null,null,null,null,null,null,null,"","","","","",null,0,0,0]
[40,{"$f":"IF('Maklumat Umum'!B62=\"\",\"\",'Maklumat Umum'!B62)","v":""},{"$f":"IF('Maklumat Umum'!C62=\"\",\"\",'Maklumat Umum'!C62)","v":""},null,null,null,null,null,null,null,null,null,null,null,null,null,null,null,null,null,null,null,null,null,null,null,null,null,null,null,null,null,null,null,null,"","","","","",null,0,0,0]
[41,{"$f":"IF('Maklumat Umum'!B63=\"\",\"\",'Maklumat Umum'!B63)","v":""},{"$f":"IF('Maklumat Umum'!C63=\"\",\"\",'Maklumat Umum'!C63)","v":""},{"$f":"IF('Maklumat Umum'!D63=\"\",\"\",'Maklumat Umum'!D63)","v":""},null,null,null,null,null,null,null,null,null,null,null,null,null,null,null,null,null,null,null,null,null,null,null,null,null,null,null,null,null,null,null,"","","","","",null,0,0,0]
[42,{"$f":"IF('Maklumat Umum'!B64=\"\",\"\",'Maklumat Umum'!B64)","v":""},{"$f":"IF('Maklumat Umum'!C64=\"\",\"\",'Maklumat Umum'!C64)","v":""},null,null,null,null,null,null,null,null,null,null,null,null,null,null,null,null,null,null,null,null,null,null,null,null,null,null,null,null,null,null,null,null,"","","","","",null,0,0,0]
[43,{"$f":"IF('Maklumat Umum'!B65=\"\",\"\",'Maklumat Umum'!B65)","v":""},{"$f":"IF('Maklumat Umum'!C65=\"\",\"\",'Maklumat Umum'!C65)","v":""},null,null,null,null,null,null,null,null,null,null,null,null,null,null,null,null,null,null,null,null,null,null,null,null,null,null,null,null,null,null,null,null,"","","","","",null,0,0,0]
[44,{"$f":"IF('Maklumat Umum'!B66=\"\",\"\",'Maklumat Umum'!B66)","v":""},{"$f":"IF('Maklumat Umum'!C66=\"\",\"\",'Maklumat Umum'!C66)","v":""},null,null,null,null,null,null,null,null,null,null,null,null,null,null,null,null,null,null,null,null,null,null,null,null,null,null,null,null,null,null,null,null,"","","","","",null,0,0,0]
[45,{"$f":"IF('Maklumat Umum'!B67=\"\",\"\",'Maklumat Umum'!B67)","v":""},{"$f":"IF('Maklumat Umum'!C67=\"\",\"\",'Maklumat Umum'!C67)","v":""},null,null,null,null,null,null,null,null,null,null,null,null,null,null,null,null,null,null,null,null,null,null,null,null,null,null,null,null,null,null,null,null,"","","","","",null,0,0,0]
[46,{"$f":"IF('Maklumat Umum'!B68=\"\",\"\",'Maklumat Umum'!B68)","v":""},{"$f":"IF('Maklumat Umum'!C68=\"\",\"\",'Maklumat Umum'!C68)","v":""},{"$f":"IF('Maklumat Umum'!D68=\"\",\"\",'Maklumat Umum'!D68)","v":""},null,null,null,null,null,null,null,null,null,null,null,null,null,null,null,null,null,null,null,null,null,null,null,null,null,null,null,null,null,null,null,"","","","","",null,0,0,0]
[47,{"$f":"IF('Maklumat Umum'!B69=\"\",\"\",'Maklumat Umum'!B69)","v":""},{"$f":"IF('Maklumat Umum'!C69=\"\",\"\",'Maklumat Umum'!C69)","v":""},null,null,null,null,null,null,null,null,null,null,null,null,null,null,null,null,null,null,null,null,null,null,null,null,null,null,null,null,null,null,null,null,"","","","","",null,0,0,0]
[48,{"$f":"IF('Maklumat Umum'!B70=\"\",\"\",'Maklumat Umum'!B70)","v":""},{"$f":"IF('Maklumat Umum'!C70=\"\",\"\",'Maklumat Umum'!C70)","v":""},null,null,null,null,null,null,null,null,null,null,null,null,null,null,null,null,null,null,null,null,null,null,null,null,null,null,null,null,null,null,null,null,"","","","","",null,0,0,0]
[49,{"$f":"IF('Maklumat Umum'!B71=\"\",\"\",'Maklumat Umum'!B71)","v":""},{"$f":"IF('Maklumat Umum'!C71=\"\",\"\",'Maklumat Umum'!C71)","v":""},null,null,null,null,null,null,null,null,null,null,null,null,null,null,null,null,null,null,null,null,null,null,null,null,null,null,null,null,null,null,null,null,{"$f":"IF(COUNTBLANK(E71:AI71)=31,\"\",AP71+AQ71+AR71)","v":""},{"$f":"IF(COUNTBLANK(E71:AI71)=31,\"\",IF(SUM(E71:AI71)+AJ71>20,20,SUM(E71:AI71)+AJ71))","v":""},"","","",null,0,0,0]
[50,{"$f":"IF('Maklumat Umum'!B72=\"\",\"\",'Maklumat Umum'!B72)","v":""},{"$f":"IF('Maklumat Umum'!C72=\"\",\"\",'Maklumat Umum'!C72)","v":""},null,null,null,null,null,null,null,null,null,null,null,null,null,null,null,null,null,null,null,null,null,null,null,null,null,null,null,null,null,null,null,null,{"$f":"IF(COUNTBLANK(E72:AI72)=31,\"\",AP72+AQ72+AR72)","v":""},{"$f":"IF(COUNTBLANK(E72:AI72)=31,\"\",IF(SUM(E72:AI72)+AJ72>20,20,SUM(E72:AI72)+AJ72))","v":""},"","","",null,{"$f":"IF(COUNTIF(E72:AI72,\"CS\")>14,14,COUNTIF(E72:AI72,\"CS\"))","v":0},{"$f":"COUNTIF(E72:AI72,\"CK\")","v":0},{"$f":"COUNTIF(E72:AI72,\"CU\")","v":0}]
[51,{"$f":"IF('Maklumat Umum'!B73=\"\",\"\",'Maklumat Umum'!B73)","v":""},{"$f":"IF('Maklumat Umum'!C73=\"\",\"\",'Maklumat Umum'!C73)","v":""},{"$f":"IF('Maklumat Umum'!D73=\"\",\"\",'Maklumat Umum'!D73)","v":""},null,null,null,null,null,null,null,null,null,null,null,null,null,null,null,null,null,null,null,null,null,null,null,null,null,null,null,null,null,null,null,{"$f":"IF(COUNTBLANK(E73:AI73)=31,\"\",AP73+AQ73+AR73)","v":""},{"$f":"IF(COUNTBLANK(E73:AI73)=31,\"\",IF(SUM(E73:AI73)+AJ73>20,20,SUM(E73:AI73)+AJ73))","v":""},"","","",null,{"$f":"IF(COUNTIF(E73:AI73,\"CS\")>14,14,COUNTIF(E73:AI73,\"CS\"))","v":0},{"$f":"COUNTIF(E73:AI73,\"CK\")","v":0},{"$f":"COUNTIF(E73:AI73,\"CU\")","v":0}]
[52,{"$f":"IF('Maklumat Umum'!B74=\"\",\"\",'Maklumat Umum'!B74)","v":""},{"$f":"IF('Maklumat Umum'!C74=\"\",\"\",'Maklumat Umum'!C74)","v":""},null,null,null,null,null,null,null,null,null,null,null,null,null,null,null,null,null,null,null,null,null,null,null,null,null,null,null,null,null,null,null,null,{"$f":"IF(COUNTBLANK(E74:AI74)=31,\"\",AP74+AQ74+AR74)","v":""},{"$f":"IF(COUNTBLANK(E74:AI74)=31,\"\",IF(SUM(E74:AI74)+AJ74>20,20,SUM(E74:AI74)+AJ74))","v":""},"","","",null,{"$f":"IF(COUNTIF(E74:AI74,\"CS\")>14,14,COUNTIF(E74:AI74,\"CS\"))","v":0},{"$f":"COUNTIF(E74:AI74,\"CK\")","v":0},{"$f":"COUNTIF(E74:AI74,\"CU\")","v":0}]
[53,{"$f":"IF('Maklumat Umum'!B75=\"\",\"\",'Maklumat Umum'!B75)","v":""},{"$f":"IF('Maklumat Umum'!C75=\"\",\"\",'Maklumat Umum'!C75)","v":""},null,null,null,null,null,null,null,null,null,null,null,null,null,null,null,null,null,null,null,null,null,null,null,null,null,null,null,null,null,null,null,null,"","","","","",null,0,0,0]
[54,{"$f":"IF('Maklumat Umum'!B76=\"\",\"\",'Maklumat Umum'!B76)","v":""},{"$f":"IF('Maklumat Umum'!C76=\"\",\"\",'Maklumat Umum'!C76)","v":""},null,null,null,null,null,null,null,null,null,null,null,null,null,null,null,null,null,null,null,null,null,null,null,null,null,null,null,null,null,null,null,null,"","","","","",null,0,0,0]
[55,{"$f":"IF('Maklumat Umum'!B77=\"\",\"\",'Maklumat Umum'!B77)","v":""},{"$f":"IF('Maklumat Umum'!C77=\"\",\"\",'Maklumat Umum'!C77)","v":""},null,null,null,null,null,null,null,null,null,null,null,null,null,null,null,null,null,null,null,null,null,null,null,null,null,null,null,null,null,null,null,null,"","","","","",null,0,0,0]
[56,{"$f":"IF('Maklumat Umum'!B78=\"\",\"\",'Maklumat Umum'!B78)","v":""},{"$f":"IF('Maklumat Umum'!C78=\"\",\"\",'Maklumat Umum'!C78)","v":""},{"$f":"IF('Maklumat Umum'!D78=\"\",\"\",'Maklumat Umum'!D78)","v":""},null,null,null,null,null,null,null,null,null,null,null,null,null,null,null,null,null,null,null,null,null,null,null,null,null,null,null,null,null,null,null,"","","","","",null,0,0,0]
[57,{"$f":"IF('Maklumat Umum'!B79=\"\",\"\",'Maklumat Umum'!B79)","v":""},{"$f":"IF('Maklumat Umum'!C79=\"\",\"\",'Maklumat Umum'!C79)","v":""},null,null,null,null,null,null,null,null,null,null,null,null,null,null,null,null,null,null,null,null,null,null,null,null,null,null,null,null,null,null,null,null,"","","","","",null,0,0,0]
[58,{"$f":"IF('Maklumat Umum'!B80=\"\",\"\",'Maklumat Umum'!B80)","v":""},{"$f":"IF('Maklumat Umum'!C80=\"\",\"\",'Maklumat Umum'!C80)","v":""},null,null,null,null,null,null,null,null,null,null,null,null,null,null,null,null,null,null,null,null,null,null,null,null,null,null,null,null,null,null,null,null,"","","","","",null,0,0,0]
[59,{"$f":"IF('Maklumat Umum'!B81=\"\",\"\",'Maklumat Umum'!B81)","v":""},{"$f":"IF('Maklumat Umum'!C81=\"\",\"\",'Maklumat Umum'!C81)","v":""},null,null,null,null,null,null,null,null,null,null,null,null,null,null,null,null,null,null,null,null,null,null,null,null,null,null,null,null,null,null,null,null,"","","","","",null,0,0,0]
[60,{"$f":"IF('Maklumat Umum'!B82=\"\",\"\",'Maklumat Umum'!B82)","v":""},{"$f":"IF('Maklumat Umum'!C82=\"\",\"\",'Maklumat Umum'!C82)","v":""},null,null,null,null,null,null,null,null,null,null,null,null,null,null,null,null,null,null,null,null,null,null,null,null,null,null,null,null,null,null,null,null,"","","","","",null,0,0,0]
[61,{"$f":"IF('Maklumat Umum'!B83=\"\",\"\",'Maklumat Umum'!B83)","v":""},{"$f":"IF('Maklumat Umum'!C83=\"\",\"\",'Maklumat Umum'!C83)","v":""},{"$f":"IF('Maklumat Umum'!D83=\"\",\"\",'Maklumat Umum'!D83)","v":""},null,null,null,null,null,null,null,null,null,null,null,null,null,null,null,null,null,null,null,null,null,null,null,null,null,null,null,null,null,null,null,"","","","","",null,0,0,0]
[62,{"$f":"IF('Maklumat Umum'!B84=\"\",\"\",'Maklumat Umum'!B84)","v":""},{"$f":"IF('Maklumat Umum'!C84=\"\",\"\",'Maklumat Umum'!C84)","v":""},null,null,null,null,null,null,null,null,null,null,null,null,null,null,null,null,null,null,null,null,null,null,null,null,null,null,null,null,null,null,null,null,"","","","","",null,0,0,0]
[63,{"$f":"IF('Maklumat Umum'!B85=\"\",\"\",'Maklumat Umum'!B85)","v":""},{"$f":"IF('Maklumat Umum'!C85=\"\",\"\",'Maklumat Umum'!C85)","v":""},null,null,null,null,null,null,null,null,null,null,null,null,null,null,null,null,null,null,null,null,null,null,null,null,null,null,null,null,null,null,null,null,"","","","","",null,0,0,0]
[64,{"$f":"IF('Maklumat Umum'!B86=\"\",\"\",'Maklumat Umum'!B86)","v":""},{"$f":"IF('Maklumat Umum'!C86=\"\",\"\",'Maklumat Umum'!C86)","v":""},null,null,null,null,null,null,null,null,null,null,null,null,null,null,null,null,null,null,null,null,null,null,null,null,null,null,null,null,null,null,null,null,"","","","","",null,0,0,0]
[65,{"$f":"IF('Maklumat Umum'!B87=\"\",\"\",'Maklumat Umum'!B87)","v":""},{"$f":"IF('Maklumat Umum'!C87=\"\",\"\",'Maklumat Umum'!C87)","v":""},null,null,null,null,null,null,null,null,null,null,null,null,null,null,null,null,null,null,null,null,null,null,null,null,null,null,null,null,null,null,null,null,"","",{"$f":"IF(COUNTBLANK(E87:AI87)=31,\"\",IF(AK87<16,0,AK87*25))","v":""},{"$f":"IF(AL87=\"\",\"\",IF(AL87=0,AK87*15,(AL87/0.5)*0.3))","v":""},{"$f":"IF(AL87=\"\",\"\",IF(AL87=0,AK87*10,(AL87/0.5)*0.2))","v":""},null,0,0,0]
[66,{"$f":"IF('Maklumat Umum'!B88=\"\",\"\",'Maklumat Umum'!B88)","v":""},{"$f":"IF('Maklumat Umum'!C88=\"\",\"\",'Maklumat Umum'!C88)","v":""},{"$f":"IF('Maklumat Umum'!D88=\"\",\"\",'Maklumat Umum'!D88)","v":""},null,null,null,null,null,null,null,null,null,null,null,null,null,null,null,null,null,null,null,null,null,null,null,null,null,null,null,null,null,null,null,"","","","","",null,0,0,0]
[67,{"$f":"IF('Maklumat Umum'!B89=\"\",\"\",'Maklumat Umum'!B89)","v":""},{"$f":"IF('Maklumat Umum'!C89=\"\",\"\",'Maklumat Umum'!C89)","v":""},null,null,null,null,null,null,null,null,null,null,null,null,null,null,null,null,null,null,null,null,null,null,null,null,null,null,null,null,null,null,null,null,"","","","","",null,0,0,0]
[68,{"$f":"IF('Maklumat Umum'!B90=\"\",\"\",'Maklumat Umum'!B90)","v":""},{"$f":"IF('Maklumat Umum'!C90=\"\",\"\",'Maklumat Umum'!C90)","v":""},null,null,null,null,null,null,null,null,null,null,null,null,null,null,null,null,null,null,null,null,null,null,null,null,null,null,null,null,null,null,null,null,"","","","","",null,0,0,0]
[69,{"$f":"IF('Maklumat Umum'!B91=\"\",\"\",'Maklumat Umum'!B91)","v":""},{"$f":"IF('Maklumat Umum'!C91=\"\",\"\",'Maklumat Umum'!C91)","v":""},null,null,null,null,null,null,null,null,null,null,null,null,null,null,null,null,null,null,null,null,null,null,null,null,null,null,null,null,null,null,null,null,"","","","","",null,0,0,0]
[70,{"$f":"IF('Maklumat Umum'!B92=\"\",\"\",'Maklumat Umum'!B92)","v":""},{"$f":"IF('Maklumat Umum'!C92=\"\",\"\",'Maklumat Umum'!C92)","v":""},null,null,null,null,null,null,null,null,null,null,null,null,null,null,null,null,null,null,null,null,null,null,null,null,null,null,null,null,null,null,null,null,"","","","","",null,0,0,0]
[71,{"$f":"IF('Maklumat Umum'!B93=\"\",\"\",'Maklumat Umum'!B93)","v":""},{"$f":"IF('Maklumat Umum'!C93=\"\",\"\",'Maklumat Umum'!C93)","v":""},{"$f":"IF('Maklumat Umum'!D93=\"\",\"\",'Maklumat Umum'!D93)","v":""},null,null,null,null,null,null,null,null,null,null,null,null,null,null,null,null,null,null,null,null,null,null,null,null,null,null,null,null,null,null,null,"","","","","",null,0,0,0]
[72,{"$f":"IF('Maklumat Umum'!B94=\"\",\"\",'Maklumat Umum'!B94)","v":""},{"$f":"IF('Maklumat Umum'!C94=\"\",\"\",'Maklumat Umum'!C94)","v":""},null,null,null,null,null,null,null,null,null,null,null,null,null,null,null,null,null,null,null,null,null,null,null,null,null,null,null,null,null,null,null,null,"","","","","",null,0,0,0]
[73,{"$f":"IF('Maklumat Umum'!B95=\"\",\"\",'Maklumat Umum'!B95)","v":""},{"$f":"IF('Maklumat Umum'!C95=\"\",\"\",'Maklumat Umum'!C95)","v":""},null,null,null,null,null,null,null,null,null,null,null,null,null,null,null,null,null,null,null,null,null,null,null,null,null,null,null,null,null,null,null,null,"","","","","",null,0,0,0]
[74,{"$f":"IF('Maklumat Umum'!B96=\"\",\"\",'Maklumat Umum'!B96)","v":""},{"$f":"IF('Maklumat Umum'!C96=\"\",\"\",'Maklumat Umum'!C96)","v":""},null,null,null,null,null,null,null,null,null,null,null,null,null,null,null,null,null,null,null,null,null,null,null,null,null,null,null,null,null,null,null,null,{"$f":"IF(COUNTBLANK(E96:AI96)=31,\"\",AP96+AQ96+AR96)","v":""},{"$f":"IF(COUNTBLANK(E96:AI96)=31,\"\",IF(SUM(E96:AI96)+AJ96>20,20,SUM(E96:AI96)+AJ96))","v":""},"","","",null,0,0,0]
[75,{"$f":"IF('Maklumat Umum'!B97=\"\",\"\",'Maklumat Umum'!B97)","v":""},{"$f":"IF('Maklumat Umum'!C97=\"\",\"\",'Maklumat Umum'!C97)","v":""},null,null,null,null,null,null,null,null,null,null,null,null,null,null,null,null,null,null,null,null,null,null,null,null,null,null,null,null,null,null,null,null,{"$f":"IF(COUNTBLANK(E97:AI97)=31,\"\",AP97+AQ97+AR97)","v":""},{"$f":"IF(COUNTBLANK(E97:AI97)=31,\"\",IF(SUM(E97:AI97)+AJ97>20,20,SUM(E97:AI97)+AJ97))","v":""},"","","",null,{"$f":"IF(COUNTIF(E97:AI97,\"CS\")>14,14,COUNTIF(E97:AI97,\"CS\"))","v":0},{"$f":"COUNTIF(E97:AI97,\"CK\")","v":0},{"$f":"COUNTIF(E97:AI97,\"CU\")","v":0}]
[76,{"$f":"IF('Maklumat Umum'!B98=\"\",\"\",'Maklumat Umum'!B98)","v":""},{"$f":"IF('Maklumat Umum'!C98=\"\",\"\",'Maklumat Umum'!C98)","v":""},{"$f":"IF('Maklumat Umum'!D98=\"\",\"\",'Maklumat Umum'!D98)","v":""},null,null,null,null,null,null,null,null,null,null,null,null,null,null,null,null,null,null,null,null,null,null,null,null,null,null,null,null,null,null,null,{"$f":"IF(COUNTBLANK(E98:AI98)=31,\"\",AP98+AQ98+AR98)","v":""},{"$f":"IF(COUNTBLANK(E98:AI98)=31,\"\",IF(SUM(E98:AI98)+AJ98>20,20,SUM(E98:AI98)+AJ98))","v":""},"","","",null,{"$f":"IF(COUNTIF(E98:AI98,\"CS\")>14,14,COUNTIF(E98:AI98,\"CS\"))","v":0},{"$f":"COUNTIF(E98:AI98,\"CK\")","v":0},{"$f":"COUNTIF(E98:AI98,\"CU\")","v":0}]
[77,{"$f":"IF('Maklumat Umum'!B99=\"\",\"\",'Maklumat Umum'!B99)","v":""},{"$f":"IF('Maklumat Umum'!C99=\"\",\"\",'Maklumat Umum'!C99)","v":""},null,null,null,null,null,null,null,null,null,null,null,null,null,null,null,null,null,null,null,null,null,null,null,null,null,null,null,null,null,null,null,null,{"$f":"IF(COUNTBLANK(E99:AI99)=31,\"\",AP99+AQ99+AR99)","v":""},{"$f":"IF(COUNTBLANK(E99:AI99)=31,\"\",IF(SUM(E99:AI99)+AJ99>20,20,SUM(E99:AI99)+AJ99))","v":""},"","","",null,{"$f":"IF(COUNTIF(E99:AI99,\"CS\")>14,14,COUNTIF(E99:AI99,\"CS\"))","v":0},{"$f":"COUNTIF(E99:AI99,\"CK\")","v":0},{"$f":"COUNTIF(E99:AI99,\"CU\")","v":0}]
[78,{"$f":"IF('Maklumat Umum'!B100=\"\",\"\",'Maklumat Umum'!B100)","v":""},{"$f":"IF('Maklumat Umum'!C100=\"\",\"\",'Maklumat Umum'!C100)","v":""},null,null,null,null,null,null,null,null,null,null,null,null,null,null,null,null,null,null,null,null,null,null,null,null,null,null,null,null,null,null,null,null,"","","","","",null,0,0,0]
[79,{"$f":"IF('Maklumat Umum'!B101=\"\",\"\",'Maklumat Umum'!B101)","v":""},{"$f":"IF('Maklumat Umum'!C101=\"\",\"\",'Maklumat Umum'!C101)","v":""},null,null,null,null,null,null,null,null,null,null,null,null,null,null,null,null,null,null,null,null,null,null,null,null,null,null,null,null,null,null,null,null,"","","","","",null,0,0,0]
[80,{"$f":"IF('Maklumat Umum'!B102=\"\",\"\",'Maklumat Umum'!B102)","v":""},{"$f":"IF('Maklumat Umum'!C102=\"\",\"\",'Maklumat Umum'!C102)","v":""},null,null,null,null,null,null,null,null,null,null,null,null,null,null,null,null,null,null,null,null,null,null,null,null,null,null,null,null,null,null,null,null,"","","","","",null,0,0,0]
[81,{"$f":"IF('Maklumat Umum'!B103=\"\",\"\",'Maklumat Umum'!B103)","v":""},{"$f":"IF('Maklumat Umum'!C103=\"\",\"\",'Maklumat Umum'!C103)","v":""},{"$f":"IF('Maklumat Umum'!D103=\"\",\"\",'Maklumat Umum'!D103)","v":""},null,null,null,null,null,null,null,null,null,null,null,null,null,null,null,null,null,null,null,null,null,null,null,null,null,null,null,null,null,null,null,"","","","","",null,0,0,0]
[82,{"$f":"IF('Maklumat Umum'!B104=\"\",\"\",'Maklumat Umum'!B104)","v":""},{"$f":"IF('Maklumat Umum'!C104=\"\",\"\",'Maklumat Umum'!C104)","v":""},null,null,null,null,null,null,null,null,null,null,null,null,null,null,null,null,null,null,null,null,null,null,null,null,null,null,null,null,null,null,null,null,"","","","","",null,0,0,0]
[83,{"$f":"IF('Maklumat Umum'!B105=\"\",\"\",'Maklumat Umum'!B105)","v":""},{"$f":"IF('Maklumat Umum'!C105=\"\",\"\",'Maklumat Umum'!C105)","v":""},null,null,null,null,null,null,null,null,null,null,null,null,null,null,null,null,null,null,null,null,null,null,null,null,null,null,null,null,null,null,null,null,"","","","","",null,0,0,0]
[84,{"$f":"IF('Maklumat Umum'!B106=\"\",\"\",'Maklumat Umum'!B106)","v":""},{"$f":"IF('Maklumat Umum'!C106=\"\",\"\",'Maklumat Umum'!C106)","v":""},null,null,null,null,null,null,null,null,null,null,null,null,null,null,null,null,null,null,null,null,null,null,null,null,null,null,null,null,null,null,null,null,"","","","","",null,0,0,0]
[85,{"$f":"IF('Maklumat Umum'!B107=\"\",\"\",'Maklumat Umum'!B107)","v":""},{"$f":"IF('Maklumat Umum'!C107=\"\",\"\",'Maklumat Umum'!C107)","v":""},null,null,null,null,null,null,null,null,null,null,null,null,null,null,null,null,null,null,null,null,null,null,null,null,null,null,null,null,null,null,null,null,"","","","","",null,0,0,0]
[86,{"$f":"IF('Maklumat Umum'!B108=\"\",\"\",'Maklumat Umum'!B108)","v":""},{"$f":"IF('Maklumat Umum'!C108=\"\",\"\",'Maklumat Umum'!C108)","v":""},{"$f":"IF('Maklumat Umum'!D108=\"\",\"\",'Maklumat Umum'!D108)","v":""},null,null,null,null,null,null,null,null,null,null,null,null,null,null,null,null,null,null,null,null,null,null,null,null,null,null,null,null,null,null,null,"","","","","",null,0,0,0]
[87,{"$f":"IF('Maklumat Umum'!B109=\"\",\"\",'Maklumat Umum'!B109)","v":""},{"$f":"IF('Maklumat Umum'!C109=\"\",\"\",'Maklumat Umum'!C109)","v":""},null,null,null,null,null,null,null,null,null,null,null,null,null,null,null,null,null,null,null,null,null,null,null,null,null,null,null,null,null,null,null,null,"","","","","",null,0,0,0]
[88,{"$f":"IF('Maklumat Umum'!B110=\"\",\"\",'Maklumat Umum'!B110)","v":""},{"$f":"IF('Maklumat Umum'!C110=\"\",\"\",'Maklumat Umum'!C110)","v":""},null,null,null,null,null,null,null,null,null,null,null,null,null,null,null,null,null,null,null,null,null,null,null,null,null,null,null,null,null,null,null,null,"","","","","",null,0,0,0]
[89,{"$f":"IF('Maklumat Umum'!B111=\"\",\"\",'Maklumat Umum'!B111)","v":""},{"$f":"IF('Maklumat Umum'!C111=\"\",\"\",'Maklumat Umum'!C111)","v":""},null,null,null,null,null,null,null,null,null,null,null,null,null,null,null,null,null,null,null,null,null,null,null,null,null,null,null,null,null,null,null,null,"","","","","",null,0,0,0]
[90,{"$f":"IF('Maklumat Umum'!B112=\"\",\"\",'Maklumat Umum'!B112)","v":""},{"$f":"IF('Maklumat Umum'!C112=\"\",\"\",'Maklumat Umum'!C112)","v":""},null,null,null,null,null,null,null,null,null,null,null,null,null,null,null,null,null,null,null,null,null,null,null,null,null,null,null,null,null,null,null,null,"","","","","",null,0,0,0]
[91,{"$f":"IF('Maklumat Umum'!B113=\"\",\"\",'Maklumat Umum'!B113)","v":""},{"$f":"IF('Maklumat Umum'!C113=\"\",\"\",'Maklumat Umum'!C113)","v":""},{"$f":"IF('Maklumat Umum'!D113=\"\",\"\",'Maklumat Umum'!D113)","v":""},null,null,null,null,null,null,null,null,null,null,null,null,null,null,null,null,null,null,null,null,null,null,null,null,null,null,null,null,null,null,null,"","","","","",null,0,0,0]
[92,{"$f":"IF('Maklumat Umum'!B114=\"\",\"\",'Maklumat Umum'!B114)","v":""},{"$f":"IF('Maklumat Umum'!C114=\"\",\"\",'Maklumat Umum'!C114)","v":""},null,null,null,null,null,null,null,null,null,null,null,null,null,null,null,null,null,null,null,null,null,null,null,null,null,null,null,null,null,null,null,null,"","","","","",null,0,0,0]
[93,{"$f":"IF('Maklumat Umum'!B115=\"\",\"\",'Maklumat Umum'!B115)","v":""},{"$f":"IF('Maklumat Umum'!C115=\"\",\"\",'Maklumat Umum'!C115)","v":""},null,null,null,null,null,null,null,null,null,null,null,null,null,null,null,null,null,null,null,null,null,null,null,null,null,null,null,null,null,null,null,null,"","","","","",null,0,0,0]
[94,{"$f":"IF('Maklumat Umum'!B116=\"\",\"\",'Maklumat Umum'!B116)","v":""},{"$f":"IF('Maklumat Umum'!C116=\"\",\"\",'Maklumat Umum'!C116)","v":""},null,null,null,null,null,null,null,null,null,null,null,null,null,null,null,null,null,null,null,null,null,null,null,null,null,null,null,null,null,null,null,null,"","","","","",null,0,0,0]
[95,{"$f":"IF('Maklumat Umum'!B117=\"\",\"\",'Maklumat Umum'!B117)","v":""},{"$f":"IF('Maklumat Umum'!C117=\"\",\"\",'Maklumat Umum'!C117)","v":""},null,null,null,null,null,null,null,null,null,null,null,null,null,null,null,null,null,null,null,null,null,null,null,null,null,null,null,null,null,null,null,null,"","","","","",null,0,0,0]
[96,{"$f":"IF('Maklumat Umum'!B118=\"\",\"\",'Maklumat Umum'!B118)","v":""},{"$f":"IF('Maklumat Umum'!C118=\"\",\"\",'Maklumat Umum'!C118)","v":""},{"$f":"IF('Maklumat Umum'!D118=\"\",\"\",'Maklumat Umum'!D118)","v":""},null,null,null,null,null,null,null,null,null,null,null,null,null,null,null,null,null,null,null,null,null,null,null,null,null,null,null,null,null,null,null,"","","","","",null,0,0,0]
[97,{"$f":"IF('Maklumat Umum'!B119=\"\",\"\",'Maklumat Umum'!B119)","v":""},{"$f":"IF('Maklumat Umum'!C119=\"\",\"\",'Maklumat Umum'!C119)","v":""},null,null,null,null,null,null,null,null,null,null,null,null,null,null,null,null,null,null,null,null,null,null,null,null,null,null,null,null,null,null,null,null,"","","","","",null,0,0,0]
[98,{"$f":"IF('Maklumat Umum'!B120=\"\",\"\",'Maklumat Umum'!B120)","v":""},{"$f":"IF('Maklumat Umum'!C120=\"\",\"\",'Maklumat Umum'!C120)","v":""},null,null,null,null,null,null,null,null,null,null,null,null,null,null,null,null,null,null,null,null,null,null,null,null,null,null,null,null,null,null,null,null,"","","","","",null,0,0,0]
[99,{"$f":"IF('Maklumat Umum'!B121=\"\",\"\",'Maklumat Umum'!B121)","v":""},{"$f":"IF('Maklumat Umum'!C121=\"\",\"\",'Maklumat Umum'!C121)","v":""},null,null,null,null,null,null,null,null,null,null,null,null,null,null,null,null,null,null,null,null,null,null,null,null,null,null,null,null,null,null,null,null,{"$f":"IF(COUNTBLANK(E121:AI121)=31,\"\",AP121+AQ121+AR121)","v":""},{"$f":"IF(COUNTBLANK(E121:AI121)=31,\"\",IF(SUM(E121:AI121)+AJ121>20,20,SUM(E121:AI121)+AJ121))","v":""},"","","",null,0,0,0]
[100,{"$f":"IF('Maklumat Umum'!B122=\"\",\"\",'Maklumat Umum'!B122)","v":""},{"$f":"IF('Maklumat Umum'!C122=\"\",\"\",'Maklumat Umum'!C122)","v":""},null,null,null,null,null,null,null,null,null,null,null,null,null,null,null,null,null,null,null,null,null,null,null,null,null,null,null,null,null,null,null,null,{"$f":"IF(COUNTBLANK(E122:AI122)=31,\"\",AP122+AQ122+AR122)","v":""},{"$f":"IF(COUNTBLANK(E122:AI122)=31,\"\",IF(SUM(E122:AI122)+AJ122>20,20,SUM(E122:AI122)+AJ122))","v":""},"","","",null,{"$f":"IF(COUNTIF(E122:AI122,\"CS\")>14,14,COUNTIF(E122:AI122,\"CS\"))","v":0},{"$f":"COUNTIF(E122:AI122,\"CK\")","v":0},{"$f":"COUNTIF(E122:AI122,\"CU\")","v":0}]
["Nota: PL perlu pastikan maklumat adalah tepat dan nama perantis mengikut Kad Pengenalan serta turutan dalam Pengesahan Pendaftaran Perantis SLDN",null,null,null,null,null,null,null,null,null,null,null,null,null,null,null,null,null,null,null,null,null,null,null,null,null,null,null,null,null,null,null,null,null,null,"JUM TUNTUTAN",null,{"$f":"SUM(AL23:AL122)","v":0},{"$f":"SUM(AM23:AM122)","v":0},{"$f":"SUM(AN23:AN122)","v":0},null,null,null,null,"Pejabat Wilayah hendaklah memindahkan Jumlah tuntutan elaun perantis ini ke dalam MySPIKE bagi tujuan pembayaran "]
[null,null,null,null,null,null,null,null,null,null,null,null,null,null,null,null,null,null,null,null,null,null,null,null,null,null,null,null,null,null,null,null,null,null,null,null,null,{"$f":"SUM(AL123:AN123)","v":0}]
["Dengan ini kami mengesahkan bahawa maklumat di atas adalah benar dan perantis sedang menjalani latihan di syarikat kerjasama/ penyedia latihan seperti yang telah ditetapkan."]
[]
["Disediakan oleh",null,null,null,null,null,null,null,null,null,null,null,null,null,"Disahkan oleh"]
[]
["…………………………………………….",null,null,null,null,null,null,null,null,null,null,null,null,null,"……………………………………………."]
["(Tandatangan Penyelaras Pusat Latihan)",null,null,null,null,null,null,null,null,null,null,null,"(Tandatangan Penyelaras Syarikat 1)",null,null,null,null,null,null,null,null,null,null,null,null,null,null,null,null,null,"(Tandatangan Penyelaras Syarikat 2)"]
["Nama:  ",null,null,null,null,null,null,null,null,null,null,null,"Nama:",null,null,null,null,null,null,null,null,null,null,null,null,null,null,null,null,null,"Nama:"]
["Tarikh:",null,null,null,null,null,null,null,null,null,null,null,"Tarikh:",null,null,null,null,null,null,null,null,null,null,null,null,null,null,null,null,null,"Tarikh:"]
[]
["PENGESAHAN PENGURUS PUSAT LATIHAN:",null,null,null,null,null,null,null,null,null,null,null,"(Tandatangan Penyelaras Syarikat 3)",null,null,null,null,null,null,null,null,null,null,null,null,null,null,null,null,null,"(Tandatangan Penyelaras Syarikat 4)"]
["Saya memperakukan kenyataan di atas adalah  benar",null,null,null,null,null,null,null,null,null,null,null,"Nama:",null,null,null,null,null,null,null,null,null,null,null,null,null,null,null,null,null,"Nama:"]
[null,null,null,null,null,null,null,null,null,null,null,null,"Tarikh:",null,null,null,null,null,null,null,null,null,null,null,null,null,null,null,null,null,"Tarikh:"]
["……………………………………………."]
["(Tandatangan Pengurus Pusat Latihan)",null,null,null,null,null,null,null,null,null,null,null,"(Tandatangan Penyelaras Syarikat 5)"]
[null,null,null,null,null,null,null,null,null,null,null,null,"Nama:"]
["Nama ",null,null,null,null,null,null,null,null,null,null,null,"Tarikh:"]
["No Kad Pengenalan (Pengurus Pusat Latihan)"]
["Tarikh:",null,null,"Cop Rasmi Pusat Latihan:"]

{"sheet":"Claim_page1_Nov23","index":22,"n_rows":24,"n_cols":5,"rows_kept":24,"cut":false,"hidden":false,"merged":[[0,0,0,3],[0,4,7,9],[1,1,1,2],[3,1,3,3],[4,1,4,3],[5,1,5,3],[6,0,6,3],[7,1,7,3],[18,0,18,3],[8,1,8,3],[9,1,9,3],[10,1,10,3],[11,1,11,3],[12,0,12,3],[13,1,13,3],[13,4,17,4],[14,1,14,3],[15,1,15,3],[16,1,16,3],[17,1,17,3]]}
[{"$f":"\"BORANG PERMOHONAN TUNTUTAN INSENTIF \" & CHAR(10)& 'Maklumat Umum'!H1000","v":"BORANG PERMOHONAN TUNTUTAN INSENTIF \nSISTEM LATIHAN DUAL NASIONAL (SLDN) BERINSENTIF 2023"}]
["BULAN:","NOV 2023"]
[]
["No Pengambilan:",{"$f":"'Maklumat Umum'!C11","v":0}]
["Tarikh Mula Latihan",{"$f":"'Maklumat Umum'!C13","v":"00:00:00"}]
["Tarikh Tamat Latihan",{"$f":"'Maklumat Umum'!C14","v":"2024-01-26"}]
["BAHAGIAN A. MAKLUMAT PEMOHON"]
["Nama Pusat Latihan / Syarikat Inhouse (seperti dalam Surat Tawaran/ Perjanjian)",{"$f":"FebXX!C5","v":0}]
["Kod Pusat Latihan / Syarikat Inhouse",{"$f":"FebXX!C6","v":0}]
["ID Rujukan Tawaran SLDN Plus ",{"$f":"'Maklumat Tuntutan'!B5","v":0},null,null,"Cth. JPK/SP/7099"]
["Nama Penyelaras Pusat Latihan/ Syarikat Inhouse",{"$f":"'Maklumat Tuntutan'!B6","v":0}]
["No. Kad Pengenalan",{"$f":"'Maklumat Tuntutan'!B7","v":0}]
["BAHAGIAN B. MAKLUMAT PENERIMA DAN AKAUN BAYARAN INSENTIF"]
["Nama Penerima Bayaran (Pusat Latihan / Syarikat Inhouse)",{"$f":"'Maklumat Tuntutan'!B9","v":0},null,null,"Akaun Bank Mesti Sama Dengan Akaun Yang Dinyatakan Dalam Dokumen Perjanjian"]
["Nama Bank Penerima",{"$f":"'Maklumat Tuntutan'!B10","v":0}]
["Nombor Akaun Bank Penerima",{"$f":"'Maklumat Tuntutan'!B11","v":0}]
["Cawangan Bank",{"$f":"'Maklumat Tuntutan'!B12","v":0}]
["Salinan Penyata Akaun Bank (Sila pastikan maklumat pada dokumen jelas dan terang)","Dilampirkan"]
["BAHAGIAN C. MAKLUMAT TUNTUTAN INSENTIF (BERDASARKAN REKOD KEHADIRAN PERANTIS)"]
["Butiran","Kadar sehari (RM)","%","Jumlah \n(RM)"]
["i.  Insentif Pusat Latihan",15,{"$f":"B21/(B$21+B$22+B$23)","v":0.3},{"$f":"'Nov23'!AM123","v":0}]
["ii.  Insentif Syarikat Kerjasama",10,{"$f":"B22/(B$21+B$22+B$23)","v":0.2},{"$f":"'Nov23'!AN123","v":0}]
["iii. Elaun Perantis",25,{"$f":"B23/(B$21+B$22+B$23)","v":0.5},{"$f":"'Nov23'!AL123","v":0}]
["JUMLAH",null,null,{"$f":"SUM(D21:D23)","v":0}]

{"sheet":"Dec23","index":23,"n_rows":142,"n_cols":45,"rows_kept":142,"cut":false,"hidden":false,"merged":[[0,0,0,40],[1,0,1,40],[2,16,2,20],[5,12,8,35],[15,1,16,2],[16,4,16,33],[17,0,21,0],[17,1,21,1],[17,2,21,2],[17,3,21,3],[17,4,17,33],[19,4,19,33],[47,3,51,3],[17,36,21,36],[17,37,17,39],[17,40,21,40],[18,37,21,37],[18,38,21,38],[18,39,21,39],[17,35,21,35],[22,3,26,3],[27,3,31,3],[32,3,36,3],[37,3,41,3],[42,3,46,3],[107,3,111,3],[52,3,56,3],[57,3,61,3],[62,3,66,3],[67,3,71,3],[72,3,76,3],[77,3,81,3],[82,3,86,3],[87,3,91,3],[92,3,96,3],[97,3,101,3],[102,3,106,3],[112,3,116,3],[117,3,121,3],[122,35,123,36],[122,44,126,50],[123,37,123,39]]}
["BORANG KEHADIRAN PERANTIS"]
[{"$f":"'Maklumat Umum'!H1000","v":"SISTEM LATIHAN DUAL NASIONAL (SLDN) BERINSENTIF 2023"}]
[null,null,null,null,null,null,null,null,null,null,null,null,null,"BULAN",null,null,"DEC 2023",null,null,null,null,null,null,null,null,null,null,null,null,null,null,null,null,null,null,null,"JPK/SP/02"]
[]
[null,"NAMA PUSAT LATIHAN",{"$f":"'Maklumat Umum'!C8","v":0},null,null,null,null,null,null,null,null,null,"Nota: "]
[null,"KOD PUSAT LATIHAN",{"$f":"'Maklumat Umum'!C9","v":0},null,null,null,null,null,null,null,null,null,"1. Bil maksimum hari latihan sebulan yang layak dibayar insentif adalah 20 hari termasuklah:\n(1) Cuti Sakit terhad kepada 14 hari sahaja  - Perlu sertakan Perakuan dari Klinik/Hospital\n(2) Cuti Kecemasan seperti kematian ahli keluarga, kebakaran, banjir dan lain-lain -  Perlu sertakan Surat Pihak Berkuasa Berkaitan (Klinik/Hospital, polis dll) \n(3) Cuti Umum Negeri atau Nasional\n(4) Cuti Kuarantin - Perlu sertakan kelulusan"]
[null,"NAMA PROGRAM",{"$f":"'Maklumat Umum'!C10","v":0}]
[null,"NO PENGAMBILAN",{"$f":"'Maklumat Umum'!C11","v":0}]
[null,"TARIKH MULA LATIHAN",{"$f":"'Maklumat Umum'!C13","v":"00:00:00"}]
[null,"TARIKH TAMAT LATIHAN",{"$f":"'Maklumat Umum'!C14","v":"2024-01-26"},null,null,null,null,null,null,null,null,null,"2. Kadar sehari elaun perantis adalah RM25"]
[null,"TEMPOH LATIHAN DILULUSKAN (BULAN)",{"$f":"'Maklumat Umum'!C12","v":0},null,null,null,null,null,null,null,null,null,"3. Perantis hanya layak dibayar jika kehadiran sekurang-kurangnya 80% (16 hari). PL dan syarikat dibayar mengikut bil hari perantis hadir"]
[]
[]
[]
[]
[null,"TARIKH BELUM DIISI"]
[null,null,null,null,"1 = Hadir            Kosongkan (Blank) = Tidak Hadir            CS = Cuti Sakit             CK = Cuti Kecemasan/Kurantin          CU = Cuti Umum"]
["BIL","Nama Perantis","No Kad \nPengenalan","Syarikat","BIL HARI LATIHAN",null,null,null,null,null,null,null,null,null,null,null,null,null,null,null,null,null,null,null,null,null,null,null,null,null,null,null,null,null,null,"Bil Hari\nCS,CK,\nCU Layak","Bil \nHari Boleh Dibayar","Tuntutan (RM)",null,null,"Tandatangan Perantis"]
[null,null,null,null,1,2,3,4,5,6,7,8,9,10,11,12,13,14,15,16,17,18,19,20,21,22,23,24,25,26,27,28,29,30,31,null,null,"Perantis","Pusat Latihan","Syarikat"]
[null,null,null,null,"TARIKH & HARI"]
[]
[]
[1,{"$f":"IF('Maklumat Umum'!B23=\"\",\"\",'Maklumat Umum'!B23)","v":""},{"$f":"IF('Maklumat Umum'!C23=\"\",\"\",'Maklumat Umum'!C23)","v":""},{"$f":"IF('Maklumat Umum'!D23=\"\",\"\",'Maklumat Umum'!D23)","v":""},null,null,null,null,null,null,null,null,null,null,null,null,null,null,null,null,null,null,null,null,null,null,null,null,null,null,null,null,null,null,null,{"$f":"IF(COUNTBLANK(E23:AI23)=31,\"\",AP23+AQ23+AR23)","v":""},{"$f":"IF(COUNTBLANK(E23:AI23)=31,\"\",IF(SUM(E23:AI23)+AJ23>20,20,SUM(E23:AI23)+AJ23))","v":""},{"$f":"IF(COUNTBLANK(E23:AI23)=31,\"\",IF(AK23<16,0,AK23*25))","v":""},{"$f":"IF(AL23=\"\",\"\",IF(AL23=0,AK23*15,(AL23/0.5)*0.3))","v":""},{"$f":"IF(AL23=\"\",\"\",IF(AL23=0,AK23*10,(AL23/0.5)*0.2))","v":""},null,{"$f":"IF(COUNTIF(E23:AI23,\"CS\")>14,14,COUNTIF(E23:AI23,\"CS\"))","v":0},{"$f":"COUNTIF(E23:AI23,\"CK\")","v":0},{"$f":"COUNTIF(E23:AI23,\"CU\")","v":0}]
[2,{"$f":"IF('Maklumat Umum'!B24=\"\",\"\",'Maklumat Umum'!B24)","v":""},{"$f":"IF('Maklumat Umum'!C24=\"\",\"\",'Maklumat Umum'!C24)","v":""},null,null,null,null,null,null,null,null,null,null,null,null,null,null,null,null,null,null,null,null,null,null,null,null,null,null,null,null,null,null,null,null,{"$f":"IF(COUNTBLANK(E24:AI24)=31,\"\",AP24+AQ24+AR24)","v":""},{"$f":"IF(COUNTBLANK(E24:AI24)=31,\"\",IF(SUM(E24:AI24)+AJ24>20,20,SUM(E24:AI24)+AJ24))","v":""},"","","",null,{"$f":"IF(COUNTIF(E24:AI24,\"CS\")>14,14,COUNTIF(E24:AI24,\"CS\"))","v":0},{"$f":"COUNTIF(E24:AI24,\"CK\")","v":0},{"$f":"COUNTIF(E24:AI24,\"CU\")","v":0}]
[3,{"$f":"IF('Maklumat Umum'!B25=\"\",\"\",'Maklumat Umum'!B25)","v":""},{"$f":"IF('Maklumat Umum'!C25=\"\",\"\",'Maklumat Umum'!C25)","v":""},null,null,null,null,null,null,null,null,null,null,null,null,null,null,null,null,null,null,null,null,null,null,null,null,null,null,null,null,null,null,null,null,"","","","","",null,0,0,0]
[4,{"$f":"IF('Maklumat Umum'!B26=\"\",\"\",'Maklumat Umum'!B26)","v":""},{"$f":"IF('Maklumat Umum'!C26=\"\",\"\",'Maklumat Umum'!C26)","v":""},null,null,null,null,null,null,null,null,null,null,null,null,null,null,null,null,null,null,null,null,null,null,null,null,null,null,null,null,null,null,null,null,"","","","","",null,0,0,0]
[5,{"$f":"IF('Maklumat Umum'!B27=\"\",\"\",'Maklumat Umum'!B27)","v":""},{"$f":"IF('Maklumat Umum'!C27=\"\",\"\",'Maklumat Umum'!C27)","v":""},null,null,null,null,null,null,null,null,null,null,null,null,null,null,null,null,null,null,null,null,null,null,null,null,null,null,null,null,null,null,null,null,"","","","","",null,0,0,0]
[6,{"$f":"IF('Maklumat Umum'!B28=\"\",\"\",'Maklumat Umum'!B28)","v":""},{"$f":"IF('Maklumat Umum'!C28=\"\",\"\",'Maklumat Umum'!C28)","v":""},{"$f":"IF('Maklumat Umum'!D28=\"\",\"\",'Maklumat Umum'!D28)","v":""},null,null,null,null,null,null,null,null,null,null,null,null,null,null,null,null,null,null,null,null,null,null,null,null,null,null,null,null,null,null,null,"","","","","",null,0,0,0]
[7,{"$f":"IF('Maklumat Umum'!B29=\"\",\"\",'Maklumat Umum'!B29)","v":""},{"$f":"IF('Maklumat Umum'!C29=\"\",\"\",'Maklumat Umum'!C29)","v":""},null,null,null,null,null,null,null,null,null,null,null,null,null,null,null,null,null,null,null,null,null,null,null,null,null,null,null,null,null,null,null,null,"","","","","",null,0,0,0]
[8,{"$f":"IF('Maklumat Umum'!B30=\"\",\"\",'Maklumat Umum'!B30)","v":""},{"$f":"IF('Maklumat Umum'!C30=\"\",\"\",'Maklumat Umum'!C30)","v":""},null,null,null,null,null,null,null,null,null,null,null,null,null,null,null,null,null,null,null,null,null,null,null,null,null,null,null,null,null,null,null,null,"","","","","",null,0,0,0]
[9,{"$f":"IF('Maklumat Umum'!B31=\"\",\"\",'Maklumat Umum'!B31)","v":""},{"$f":"IF('Maklumat Umum'!C31=\"\",\"\",'Maklumat Umum'!C31)","v":""},null,null,null,null,null,null,null,null,null,null,null,null,null,null,null,null,null,null,null,null,null,null,null,null,null,null,null,null,null,null,null,null,"","","","","",null,0,0,0]
[10,{"$f":"IF('Maklumat Umum'!B32=\"\",\"\",'Maklumat Umum'!B32)","v":""},{"$f":"IF('Maklumat Umum'!C32=\"\",\"\",'Maklumat Umum'!C32)","v":""},null,null,null,null,null,null,null,null,null,null,null,null,null,null,null,null,null,null,null,null,null,null,null,null,null,null,null,null,null,null,null,null,"","","","","",null,0,0,0]
[11,{"$f":"IF('Maklumat Umum'!B33=\"\",\"\",'Maklumat Umum'!B33)","v":""},{"$f":"IF('Maklumat Umum'!C33=\"\",\"\",'Maklumat Umum'!C33)","v":""},{"$f":"IF('Maklumat Umum'!D33=\"\",\"\",'Maklumat Umum'!D33)","v":""},null,null,null,null,null,null,null,null,null,null,null,null,null,null,null,null,null,null,null,null,null,null,null,null,null,null,null,null,null,null,null,"","","","","",null,0,0,0]
[12,{"$f":"IF('Maklumat Umum'!B34=\"\",\"\",'Maklumat Umum'!B34)","v":""},{"$f":"IF('Maklumat Umum'!C34=\"\",\"\",'Maklumat Umum'!C34)","v":""},null,null,null,null,null,null,null,null,null,null,null,null,null,null,null,null,null,null,null,null,null,null,null,null,null,null,null,null,null,null,null,null,"","","","","",null,0,0,0]
[13,{"$f":"IF('Maklumat Umum'!B35=\"\",\"\",'Maklumat Umum'!B35)","v":""},{"$f":"IF('Maklumat Umum'!C35=\"\",\"\",'Maklumat Umum'!C35)","v":""},null,null,null,null,null,null,null,null,null,null,null,null,null,null,null,null,null,null,null,null,null,null,null,null,null,null,null,null,null,null,null,null,"","","","","",null,0,0,0]
[14,{"$f":"IF('Maklumat Umum'!B36=\"\",\"\",'Maklumat Umum'!B36)","v":""},{"$f":"IF('Maklumat Umum'!C36=\"\",\"\",'Maklumat Umum'!C36)","v":""},null,null,null,null,null,null,null,null,null,null,null,null,null,null,null,null,null,null,null,null,null,null,null,null,null,null,null,null,null,null,null,null,"","","","","",null,0,0,0]
[15,{"$f":"IF('Maklumat Umum'!B37=\"\",\"\",'Maklumat Umum'!B37)","v":""},{"$f":"IF('Maklumat Umum'!C37=\"\",\"\",'Maklumat Umum'!C37)","v":""},null,null,null,null,null,null,null,null,null,null,null,null,null,null,null,null,null,null,null,null,null,null,null,null,null,null,null,null,null,null,null,null,"","","","","",null,0,0,0]
[16,{"$f":"IF('Maklumat Umum'!B38=\"\",\"\",'Maklumat Umum'!B38)","v":""},{"$f":"IF('Maklumat Umum'!C38=\"\",\"\",'Maklumat Umum'!C38)","v":""},{"$f":"IF('Maklumat Umum'!D38=\"\",\"\",'Maklumat Umum'!D38)","v":""},null,null,null,null,null,null,null,null,null,null,null,null,null,null,null,null,null,null,null,null,null,null,null,null,null,null,null,null,null,null,null,"","","","","",null,0,0,0]
[17,{"$f":"IF('Maklumat Umum'!B39=\"\",\"\",'Maklumat Umum'!B39)","v":""},{"$f":"IF('Maklumat Umum'!C39=\"\",\"\",'Maklumat Umum'!C39)","v":""},null,null,null,null,null,null,null,null,null,null,null,null,null,null,null,null,null,null,null,null,null,null,null,null,null,null,null,null,null,null,null,null,"","","","","",null,0,0,0]
[18,{"$f":"IF('Maklumat Umum'!B40=\"\",\"\",'Maklumat Umum'!B40)","v":""},{"$f":"IF('Maklumat Umum'!C40=\"\",\"\",'Maklumat Umum'!C40)","v":""},null,null,null,null,null,null,null,null,null,null,null,null,null,null,null,null,null,null,null,null,null,null,null,null,null,null,null,null,null,null,null,null,"","","","","",null,0,0,0]
[19,{"$f":"IF('Maklumat Umum'!B41=\"\",\"\",'Maklumat Umum'!B41)","v":""},{"$f":"IF('Maklumat Umum'!C41=\"\",\"\",'Maklumat Umum'!C41)","v":""},null,null,null,null,null,null,null,null,null,null,null,null,null,null,null,null,null,null,null,null,null,null,null,null,null,null,null,null,null,null,null,null,"","","","","",null,0,0,0]
[20,{"$f":"IF('Maklumat Umum'!B42=\"\",\"\",'Maklumat Umum'!B42)","v":""},{"$f":"IF('Maklumat Umum'!C42=\"\",\"\",'Maklumat Umum'!C42)","v":""},null,null,null,null,null,null,null,null,null,null,null,null,null,null,null,null,null,null,null,null,null,null,null,null,null,null,null,null,null,null,null,null,"","","","","",null,0,0,0]
[21,{"$f":"IF('Maklumat Umum'!B43=\"\",\"\",'Maklumat Umum'!B43)","v":""},{"$f":"IF('Maklumat Umum'!C43=\"\",\"\",'Maklumat Umum'!C43)","v":""},{"$f":"IF('Maklumat Umum'!D43=\"\",\"\",'Maklumat Umum'!D43)","v":""},null,null,null,null,null,null,null,null,null,null,null,null,null,null,null,null,null,null,null,null,null,null,null,null,null,null,null,null,null,null,null,"","","","","",null,0,0,0]
[22,{"$f":"IF('Maklumat Umum'!B44=\"\",\"\",'Maklumat Umum'!B44)","v":""},{"$f":"IF('Maklumat Umum'!C44=\"\",\"\",'Maklumat Umum'!C44)","v":""},null,null,null,null,null,null,null,null,null,null,null,null,null,null,null,null,null,null,null,null,null,null,null,null,null,null,null,null,null,null,null,null,"","","","","",null,0,0,0]
[23,{"$f":"IF('Maklumat Umum'!B45=\"\",\"\",'Maklumat Umum'!B45)","v":""},{"$f":"IF('Maklumat Umum'!C45=\"\",\"\",'Maklumat Umum'!C45)","v":""},null,null,null,null,null,null,null,null,null,null,null,null,null,null,null,null,null,null,null,null,null,null,null,null,null,null,null,null,null,null,null,null,"","","","","",null,0,0,0]
[24,{"$f":"IF('Maklumat Umum'!B46=\"\",\"\",'Maklumat Umum'!B46)","v":""},{"$f":"IF('Maklumat Umum'!C46=\"\",\"\",'Maklumat Umum'!C46)","v":""},null,null,null,null,null,null,null,null,null,null,null,null,null,null,null,null,null,null,null,null,null,null,null,null,null,null,null,null,null,null,null,null,{"$f":"IF(COUNTBLANK(E46:AI46)=31,\"\",AP46+AQ46+AR46)","v":""},{"$f":"IF(COUNTBLANK(E46:AI46)=31,\"\",IF(SUM(E46:AI46)+AJ46>20,20,SUM(E46:AI46)+AJ46))","v":""},"","","",null,0,0,0]
[25,{"$f":"IF('Maklumat Umum'!B47=\"\",\"\",'Maklumat Umum'!B47)","v":""},{"$f":"IF('Maklumat Umum'!C47=\"\",\"\",'Maklumat Umum'!C47)","v":""},null,null,null,null,null,null,null,null,null,null,null,null,null,null,null,null,null,null,null,null,null,null,null,null,null,null,null,null,null,null,null,null,{"$f":"IF(COUNTBLANK(E47:AI47)=31,\"\",AP47+AQ47+AR47)","v":""},{"$f":"IF(COUNTBLANK(E47:AI47)=31,\"\",IF(SUM(E47:AI47)+AJ47>20,20,SUM(E47:AI47)+AJ47))","v":""},"","","",null,{"$f":"IF(COUNTIF(E47:AI47,\"CS\")>14,14,COUNTIF(E47:AI47,\"CS\"))","v":0},{"$f":"COUNTIF(E47:AI47,\"CK\")","v":0},{"$f":"COUNTIF(E47:AI47,\"CU\")","v":0}]
[26,{"$f":"IF('Maklumat Umum'!B48=\"\",\"\",'Maklumat Umum'!B48)","v":""},{"$f":"IF('Maklumat Umum'!C48=\"\",\"\",'Maklumat Umum'!C48)","v":""},{"$f":"IF('Maklumat Umum'!D48=\"\",\"\",'Maklumat Umum'!D48)","v":""},null,null,null,null,null,null,null,null,null,null,null,null,null,null,null,null,null,null,null,null,null,null,null,null,null,null,null,null,null,null,null,{"$f":"IF(COUNTBLANK(E48:AI48)=31,\"\",AP48+AQ48+AR48)","v":""},{"$f":"IF(COUNTBLANK(E48:AI48)=31,\"\",IF(SUM(E48:AI48)+AJ48>20,20,SUM(E48:AI48)+AJ48))","v":""},"","","",null,{"$f":"IF(COUNTIF(E48:AI48,\"CS\")>14,14,COUNTIF(E48:AI48,\"CS\"))","v":0},{"$f":"COUNTIF(E48:AI48,\"CK\")","v":0},{"$f":"COUNTIF(E48:AI48,\"CU\")","v":0}]
[27,{"$f":"IF('Maklumat Umum'!B49=\"\",\"\",'Maklumat Umum'!B49)","v":""},{"$f":"IF('Maklumat Umum'!C49=\"\",\"\",'Maklumat Umum'!C49)","v":""},null,null,null,null,null,null,null,null,null,null,null,null,null,null,null,null,null,null,null,null,null,null,null,null,null,null,null,null,null,null,null,null,{"$f":"IF(COUNTBLANK(E49:AI49)=31,\"\",AP49+AQ49+AR49)","v":""},{"$f":"IF(COUNTBLANK(E49:AI49)=31,\"\",IF(SUM(E49:AI49)+AJ49>20,20,SUM(E49:AI49)+AJ49))","v":""},"","","",null,{"$f":"IF(COUNTIF(E49:AI49,\"CS\")>14,14,COUNTIF(E49:AI49,\"CS\"))","v":0},{"$f":"COUNTIF(E49:AI49,\"CK\")","v":0},{"$f":"COUNTIF(E49:AI49,\"CU\")","v":0}]
[28,{"$f":"IF('Maklumat Umum'!B50=\"\",\"\",'Maklumat Umum'!B50)","v":""},{"$f":"IF('Maklumat Umum'!C50=\"\",\"\",'Maklumat Umum'!C50)","v":""},null,null,null,null,null,null,null,null,null,null,null,null,null,null,null,null,null,null,null,null,null,null,null,null,null,null,null,null,null,null,null,null,"","","","","",null,0,0,0]
[29,{"$f":"IF('Maklumat Umum'!B51=\"\",\"\",'Maklumat Umum'!B51)","v":""},{"$f":"IF('Maklumat Umum'!C51=\"\",\"\",'Maklumat Umum'!C51)","v":""},null,null,null,null,null,null,null,null,null,null,null,null,null,null,null,null,null,null,null,null,null,null,null,null,null,null,null,null,null,null,null,null,"","","","","",null,0,0,0]
[30,{"$f":"IF('Maklumat Umum'!B52=\"\",\"\",'Maklumat Umum'!B52)","v":""},{"$f":"IF('Maklumat Umum'!C52=\"\",\"\",'Maklumat Umum'!C52)","v":""},null,null,null,null,null,null,null,null,null,null,null,null,null,null,null,null,null,null,null,null,null,null,null,null,null,null,null,null,null,null,null,null,"","","","","",null,0,0,0]
[31,{"$f":"IF('Maklumat Umum'!B53=\"\",\"\",'Maklumat Umum'!B53)","v":""},{"$f":"IF('Maklumat Umum'!C53=\"\",\"\",'Maklumat Umum'!C53)","v":""},{"$f":"IF('Maklumat Umum'!D53=\"\",\"\",'Maklumat Umum'!D53)","v":""},null,null,null,null,null,null,null,null,null,null,null,null,null,null,null,null,null,null,null,null,null,null,null,null,null,null,null,null,null,null,null,"","","","","",null,0,0,0]
[32,{"$f":"IF('Maklumat Umum'!B54=\"\",\"\",'Maklumat Umum'!B54)","v":""},{"$f":"IF('Maklumat Umum'!C54=\"\",\"\",'Maklumat Umum'!C54)","v":""},null,null,null,null,null,null,null,null,null,null,null,null,null,null,null,null,null,null,null,null,null,null,null,null,null,null,null,null,null,null,null,null,"","","","","",null,0,0,0]
[33,{"$f":"IF('Maklumat Umum'!B55=\"\",\"\",'Maklumat Umum'!B55)","v":""},{"$f":"IF('Maklumat Umum'!C55=\"\",\"\",'Maklumat Umum'!C55)","v":""},null,null,null,null,null,null,null,null,null,null,null,null,null,null,null,null,null,null,null,null,null,null,null,null,null,null,null,null,null,null,null,null,"","","","","",null,0,0,0]
[34,{"$f":"IF('Maklumat Umum'!B56=\"\",\"\",'Maklumat Umum'!B56)","v":""},{"$f":"IF('Maklumat Umum'!C56=\"\",\"\",'Maklumat Umum'!C56)","v":""},null,null,null,null,null,null,null,null,null,null,null,null,null,null,null,null,null,null,null,null,null,null,null,null,null,null,null,null,null,null,null,null,"","","","","",null,0,0,0]
[35,{"$f":"IF('Maklumat Umum'!B57=\"\",\"\",'Maklumat Umum'!B57)","v":""},{"$f":"IF('Maklumat Umum'!C57=\"\",\"\",'Maklumat Umum'!C57)","v":""},null,null,null,null,null,null,null,null,null,null,null,null,null,null,null,null,null,null,null,null,null,null,null,null,null,null,null,null,null,null,null,null,"","","","","",null,0,0,0]
[36,{"$f":"IF('Maklumat Umum'!B58=\"\",\"\",'Maklumat Umum'!B58)","v":""},{"$f":"IF('Maklumat Umum'!C58=\"\",\"\",'Maklumat Umum'!C58)","v":""},{"$f":"IF('Maklumat Umum'!D58=\"\",\"\",'Maklumat Umum'!D58)","v":""},null,null,null,null,null,null,null,null,null,null,null,null,null,null,null,null,null,null,null,null,null,null,null,null,null,null,null,null,null,null,null,"","","","","",null,0,0,0]
[37,{"$f":"IF('Maklumat Umum'!B59=\"\",\"\",'Maklumat Umum'!B59)","v":""},{"$f":"IF('Maklumat Umum'!C59=\"\",\"\",'Maklumat Umum'!C59)","v":""},null,null,null,null,null,null,null,null,null,null,null,null,null,null,null,null,null,null,null,null,null,null,null,null,null,null,null,null,null,null,null,null,"","","","","",null,0,0,0]
[38,{"$f":"IF('Maklumat Umum'!B60=\"\",\"\",'Maklumat Umum'!B60)","v":""},{"$f":"IF('Maklumat Umum'!C60=\"\",\"\",'Maklumat Umum'!C60)","v":""},null,null,null,null,null,null,null,null,null,null,null,null,null,null,null,null,null,null,null,null,null,null,null,null,null,null,null,null,null,null,null,null,"","","","","",null,0,0,0]
[39,{"$f":"IF('Maklumat Umum'!B61=\"\",\"\",'Maklumat Umum'!B61)","v":""},{"$f":"IF('Maklumat Umum'!C61=\"\",\"\",'Maklumat Umum'!C61)","v":""},null,null,null,null,null,null,null,null,null,null,null,null,null,null,null,null,null,null,null,null,null,null,null,null,null,null,null,null,null,null,null,null,"","","","","",null,0,0,0]
[40,{"$f":"IF('Maklumat Umum'!B62=\"\",\"\",'Maklumat Umum'!B62)","v":""},{"$f":"IF('Maklumat Umum'!C62=\"\",\"\",'Maklumat Umum'!C62)","v":""},null,null,null,null,null,null,null,null,null,null,null,null,null,null,null,null,null,null,null,null,null,null,null,null,null,null,null,null,null,null,null,null,"","","","","",null,0,0,0]
[41,{"$f":"IF('Maklumat Umum'!B63=\"\",\"\",'Maklumat Umum'!B63)","v":""},{"$f":"IF('Maklumat Umum'!C63=\"\",\"\",'Maklumat Umum'!C63)","v":""},{"$f":"IF('Maklumat Umum'!D63=\"\",\"\",'Maklumat Umum'!D63)","v":""},null,null,null,null,null,null,null,null,null,null,null,null,null,null,null,null,null,null,null,null,null,null,null,null,null,null,null,null,null,null,null,"","","","","",null,0,0,0]
[42,{"$f":"IF('Maklumat Umum'!B64=\"\",\"\",'Maklumat Umum'!B64)","v":""},{"$f":"IF('Maklumat Umum'!C64=\"\",\"\",'Maklumat Umum'!C64)","v":""},null,null,null,null,null,null,null,null,null,null,null,null,null,null,null,null,null,null,null,null,null,null,null,null,null,null,null,null,null,null,null,null,"","","","","",null,0,0,0]
[43,{"$f":"IF('Maklumat Umum'!B65=\"\",\"\",'Maklumat Umum'!B65)","v":""},{"$f":"IF('Maklumat Umum'!C65=\"\",\"\",'Maklumat Umum'!C65)","v":""},null,null,null,null,null,null,null,null,null,null,null,null,null,null,null,null,null,null,null,null,null,null,null,null,null,null,null,null,null,null,null,null,"","","","","",null,0,0,0]
[44,{"$f":"IF('Maklumat Umum'!B66=\"\",\"\",'Maklumat Umum'!B66)","v":""},{"$f":"IF('Maklumat Umum'!C66=\"\",\"\",'Maklumat Umum'!C66)","v":""},null,null,null,null,null,null,null,null,null,null,null,null,null,null,null,null,null,null,null,null,null,null,null,null,null,null,null,null,null,null,null,null,"","","","","",null,0,0,0]
[45,{"$f":"IF('Maklumat Umum'!B67=\"\",\"\",'Maklumat Umum'!B67)","v":""},{"$f":"IF('Maklumat Umum'!C67=\"\",\"\",'Maklumat Umum'!C67)","v":""},null,null,null,null,null,null,null,null,null,null,null,null,null,null,null,null,null,null,null,null,null,null,null,null,null,null,null,null,null,null,null,null,"","","","","",null,0,0,0]
[46,{"$f":"IF('Maklumat Umum'!B68=\"\",\"\",'Maklumat Umum'!B68)","v":""},{"$f":"IF('Maklumat Umum'!C68=\"\",\"\",'Maklumat Umum'!C68)","v":""},{"$f":"IF('Maklumat Umum'!D68=\"\",\"\",'Maklumat Umum'!D68)","v":""},null,null,null,null,null,null,null,null,null,null,null,null,null,null,null,null,null,null,null,null,null,null,null,null,null,null,null,null,null,null,null,"","","","","",null,0,0,0]
[47,{"$f":"IF('Maklumat Umum'!B69=\"\",\"\",'Maklumat Umum'!B69)","v":""},{"$f":"IF('Maklumat Umum'!C69=\"\",\"\",'Maklumat Umum'!C69)","v":""},null,null,null,null,null,null,null,null,null,null,null,null,null,null,null,null,null,null,null,null,null,null,null,null,null,null,null,null,null,null,null,null,"","","","","",null,0,0,0]
[48,{"$f":"IF('Maklumat Umum'!B70=\"\",\"\",'Maklumat Umum'!B70)","v":""},{"$f":"IF('Maklumat Umum'!C70=\"\",\"\",'Maklumat Umum'!C70)","v":""},null,null,null,null,null,null,null,null,null,null,null,null,null,null,null,null,null,null,null,null,null,null,null,null,null,null,null,null,null,null,null,null,"","","","","",null,0,0,0]
[49,{"$f":"IF('Maklumat Umum'!B71=\"\",\"\",'Maklumat Umum'!B71)","v":""},{"$f":"IF('Maklumat Umum'!C71=\"\",\"\",'Maklumat Umum'!C71)","v":""},null,null,null,null,null,null,null,null,null,null,null,null,null,null,null,null,null,null,null,null,null,null,null,null,null,null,null,null,null,null,null,null,{"$f":"IF(COUNTBLANK(E71:AI71)=31,\"\",AP71+AQ71+AR71)","v":""},{"$f":"IF(COUNTBLANK(E71:AI71)=31,\"\",IF(SUM(E71:AI71)+AJ71>20,20,SUM(E71:AI71)+AJ71))","v":""},"","","",null,0,0,0]
[50,{"$f":"IF('Maklumat Umum'!B72=\"\",\"\",'Maklumat Umum'!B72)","v":""},{"$f":"IF('Maklumat Umum'!C72=\"\",\"\",'Maklumat Umum'!C72)","v":""},null,null,null,null,null,null,null,null,null,null,null,null,null,null,null,null,null,null,null,null,null,null,null,null,null,null,null,null,null,null,null,null,{"$f":"IF(COUNTBLANK(E72:AI72)=31,\"\",AP72+AQ72+AR72)","v":""},{"$f":"IF(COUNTBLANK(E72:AI72)=31,\"\",IF(SUM(E72:AI72)+AJ72>20,20,SUM(E72:AI72)+AJ72))","v":""},"","","",null,{"$f":"IF(COUNTIF(E72:AI72,\"CS\")>14,14,COUNTIF(E72:AI72,\"CS\"))","v":0},{"$f":"COUNTIF(E72:AI72,\"CK\")","v":0},{"$f":"COUNTIF(E72:AI72,\"CU\")","v":0}]
[51,{"$f":"IF('Maklumat Umum'!B73=\"\",\"\",'Maklumat Umum'!B73)","v":""},{"$f":"IF('Maklumat Umum'!C73=\"\",\"\",'Maklumat Umum'!C73)","v":""},{"$f":"IF('Maklumat Umum'!D73=\"\",\"\",'Maklumat Umum'!D73)","v":""},null,null,null,null,null,null,null,null,null,null,null,null,null,null,null,null,null,null,null,null,null,null,null,null,null,null,null,null,null,null,null,{"$f":"IF(COUNTBLANK(E73:AI73)=31,\"\",AP73+AQ73+AR73)","v":""},{"$f":"IF(COUNTBLANK(E73:AI73)=31,\"\",IF(SUM(E73:AI73)+AJ73>20,20,SUM(E73:AI73)+AJ73))","v":""},"","","",null,{"$f":"IF(COUNTIF(E73:AI73,\"CS\")>14,14,COUNTIF(E73:AI73,\"CS\"))","v":0},{"$f":"COUNTIF(E73:AI73,\"CK\")","v":0},{"$f":"COUNTIF(E73:AI73,\"CU\")","v":0}]
[52,{"$f":"IF('Maklumat Umum'!B74=\"\",\"\",'Maklumat Umum'!B74)","v":""},{"$f":"IF('Maklumat Umum'!C74=\"\",\"\",'Maklumat Umum'!C74)","v":""},null,null,null,null,null,null,null,null,null,null,null,null,null,null,null,null,null,null,null,null,null,null,null,null,null,null,null,null,null,null,null,null,{"$f":"IF(COUNTBLANK(E74:AI74)=31,\"\",AP74+AQ74+AR74)","v":""},{"$f":"IF(COUNTBLANK(E74:AI74)=31,\"\",IF(SUM(E74:AI74)+AJ74>20,20,SUM(E74:AI74)+AJ74))","v":""},"","","",null,{"$f":"IF(COUNTIF(E74:AI74,\"CS\")>14,14,COUNTIF(E74:AI74,\"CS\"))","v":0},{"$f":"COUNTIF(E74:AI74,\"CK\")","v":0},{"$f":"COUNTIF(E74:AI74,\"CU\")","v":0}]
[53,{"$f":"IF('Maklumat Umum'!B75=\"\",\"\",'Maklumat Umum'!B75)","v":""},{"$f":"IF('Maklumat Umum'!C75=\"\",\"\",'Maklumat Umum'!C75)","v":""},null,null,null,null,null,null,null,null,null,null,null,null,null,null,null,null,null,null,null,null,null,null,null,null,null,null,null,null,null,null,null,null,"","","","","",null,0,0,0]
[54,{"$f":"IF('Maklumat Umum'!B76=\"\",\"\",'Maklumat Umum'!B76)","v":""},{"$f":"IF('Maklumat Umum'!C76=\"\",\"\",'Maklumat Umum'!C76)","v":""},null,null,null,null,null,null,null,null,null,null,null,null,null,null,null,null,null,null,null,null,null,null,null,null,null,null,null,null,null,null,null,null,"","","","","",null,0,0,0]
[55,{"$f":"IF('Maklumat Umum'!B77=\"\",\"\",'Maklumat Umum'!B77)","v":""},{"$f":"IF('Maklumat Umum'!C77=\"\",\"\",'Maklumat Umum'!C77)","v":""},null,null,null,null,null,null,null,null,null,null,null,null,null,null,null,null,null,null,null,null,null,null,null,null,null,null,null,null,null,null,null,null,"","","","","",null,0,0,0]
[56,{"$f":"IF('Maklumat Umum'!B78=\"\",\"\",'Maklumat Umum'!B78)","v":""},{"$f":"IF('Maklumat Umum'!C78=\"\",\"\",'Maklumat Umum'!C78)","v":""},{"$f":"IF('Maklumat Umum'!D78=\"\",\"\",'Maklumat Umum'!D78)","v":""},null,null,null,null,null,null,null,null,null,null,null,null,null,null,null,null,null,null,null,null,null,null,null,null,null,null,null,null,null,null,null,"","","","","",null,0,0,0]
[57,{"$f":"IF('Maklumat Umum'!B79=\"\",\"\",'Maklumat Umum'!B79)","v":""},{"$f":"IF('Maklumat Umum'!C79=\"\",\"\",'Maklumat Umum'!C79)","v":""},null,null,null,null,null,null,null,null,null,null,null,null,null,null,null,null,null,null,null,null,null,null,null,null,null,null,null,null,null,null,null,null,"","","","","",null,0,0,0]
[58,{"$f":"IF('Maklumat Umum'!B80=\"\",\"\",'Maklumat Umum'!B80)","v":""},{"$f":"IF('Maklumat Umum'!C80=\"\",\"\",'Maklumat Umum'!C80)","v":""},null,null,null,null,null,null,null,null,null,null,null,null,null,null,null,null,null,null,null,null,null,null,null,null,null,null,null,null,null,null,null,null,"","","","","",null,0,0,0]
[59,{"$f":"IF('Maklumat Umum'!B81=\"\",\"\",'Maklumat Umum'!B81)","v":""},{"$f":"IF('Maklumat Umum'!C81=\"\",\"\",'Maklumat Umum'!C81)","v":""},null,null,null,null,null,null,null,null,null,null,null,null,null,null,null,null,null,null,null,null,null,null,null,null,null,null,null,null,null,null,null,null,"","","","","",null,0,0,0]
[60,{"$f":"IF('Maklumat Umum'!B82=\"\",\"\",'Maklumat Umum'!B82)","v":""},{"$f":"IF('Maklumat Umum'!C82=\"\",\"\",'Maklumat Umum'!C82)","v":""},null,null,null,null,null,null,null,null,null,null,null,null,null,null,null,null,null,null,null,null,null,null,null,null,null,null,null,null,null,null,null,null,"","","","","",null,0,0,0]
[61,{"$f":"IF('Maklumat Umum'!B83=\"\",\"\",'Maklumat Umum'!B83)","v":""},{"$f":"IF('Maklumat Umum'!C83=\"\",\"\",'Maklumat Umum'!C83)","v":""},{"$f":"IF('Maklumat Umum'!D83=\"\",\"\",'Maklumat Umum'!D83)","v":""},null,null,null,null,null,null,null,null,null,null,null,null,null,null,null,null,null,null,null,null,null,null,null,null,null,null,null,null,null,null,null,"","","","","",null,0,0,0]
[62,{"$f":"IF('Maklumat Umum'!B84=\"\",\"\",'Maklumat Umum'!B84)","v":""},{"$f":"IF('Maklumat Umum'!C84=\"\",\"\",'Maklumat Umum'!C84)","v":""},null,null,null,null,null,null,null,null,null,null,null,null,null,null,null,null,null,null,null,null,null,null,null,null,null,null,null,null,null,null,null,null,"","","","","",null,0,0,0]
[63,{"$f":"IF('Maklumat Umum'!B85=\"\",\"\",'Maklumat Umum'!B85)","v":""},{"$f":"IF('Maklumat Umum'!C85=\"\",\"\",'Maklumat Umum'!C85)","v":""},null,null,null,null,null,null,null,null,null,null,null,null,null,null,null,null,null,null,null,null,null,null,null,null,null,null,null,null,null,null,null,null,"","","","","",null,0,0,0]
[64,{"$f":"IF('Maklumat Umum'!B86=\"\",\"\",'Maklumat Umum'!B86)","v":""},{"$f":"IF('Maklumat Umum'!C86=\"\",\"\",'Maklumat Umum'!C86)","v":""},null,null,null,null,null,null,null,null,null,null,null,null,null,null,null,null,null,null,null,null,null,null,null,null,null,null,null,null,null,null,null,null,"","","","","",null,0,0,0]
[65,{"$f":"IF('Maklumat Umum'!B87=\"\",\"\",'Maklumat Umum'!B87)","v":""},{"$f":"IF('Maklumat Umum'!C87=\"\",\"\",'Maklumat Umum'!C87)","v":""},null,null,null,null,null,null,null,null,null,null,null,null,null,null,null,null,null,null,null,null,null,null,null,null,null,null,null,null,null,null,null,null,"","",{"$f":"IF(COUNTBLANK(E87:AI87)=31,\"\",IF(AK87<16,0,AK87*25))","v":""},{"$f":"IF(AL87=\"\",\"\",IF(AL87=0,AK87*15,(AL87/0.5)*0.3))","v":""},{"$f":"IF(AL87=\"\",\"\",IF(AL87=0,AK87*10,(AL87/0.5)*0.2))","v":""},null,0,0,0]
[66,{"$f":"IF('Maklumat Umum'!B88=\"\",\"\",'Maklumat Umum'!B88)","v":""},{"$f":"IF('Maklumat Umum'!C88=\"\",\"\",'Maklumat Umum'!C88)","v":""},{"$f":"IF('Maklumat Umum'!D88=\"\",\"\",'Maklumat Umum'!D88)","v":""},null,null,null,null,null,null,null,null,null,null,null,null,null,null,null,null,null,null,null,null,null,null,null,null,null,null,null,null,null,null,null,"","","","","",null,0,0,0]
[67,{"$f":"IF('Maklumat Umum'!B89=\"\",\"\",'Maklumat Umum'!B89)","v":""},{"$f":"IF('Maklumat Umum'!C89=\"\",\"\",'Maklumat Umum'!C89)","v":""},null,null,null,null,null,null,null,null,null,null,null,null,null,null,null,null,null,null,null,null,null,null,null,null,null,null,null,null,null,null,null,null,"","","","","",null,0,0,0]
[68,{"$f":"IF('Maklumat Umum'!B90=\"\",\"\",'Maklumat Umum'!B90)","v":""},{"$f":"IF('Maklumat Umum'!C90=\"\",\"\",'Maklumat Umum'!C90)","v":""},null,null,null,null,null,null,null,null,null,null,null,null,null,null,null,null,null,null,null,null,null,null,null,null,null,null,null,null,null,null,null,null,"","","","","",null,0,0,0]
[69,{"$f":"IF('Maklumat Umum'!B91=\"\",\"\",'Maklumat Umum'!B91)","v":""},{"$f":"IF('Maklumat Umum'!C91=\"\",\"\",'Maklumat Umum'!C91)","v":""},null,null,null,null,null,null,null,null,null,null,null,null,null,null,null,null,null,null,null,null,null,null,null,null,null,null,null,null,null,null,null,null,"","","","","",null,0,0,0]
[70,{"$f":"IF('Maklumat Umum'!B92=\"\",\"\",'Maklumat Umum'!B92)","v":""},{"$f":"IF('Maklumat Umum'!C92=\"\",\"\",'Maklumat Umum'!C92)","v":""},null,null,null,null,null,null,null,null,null,null,null,null,null,null,null,null,null,null,null,null,null,null,null,null,null,null,null,null,null,null,null,null,"","","","","",null,0,0,0]
[71,{"$f":"IF('Maklumat Umum'!B93=\"\",\"\",'Maklumat Umum'!B93)","v":""},{"$f":"IF('Maklumat Umum'!C93=\"\",\"\",'Maklumat Umum'!C93)","v":""},{"$f":"IF('Maklumat Umum'!D93=\"\",\"\",'Maklumat Umum'!D93)","v":""},null,null,null,null,null,null,null,null,null,null,null,null,null,null,null,null,null,null,null,null,null,null,null,null,null,null,null,null,null,null,null,"","","","","",null,0,0,0]
[72,{"$f":"IF('Maklumat Umum'!B94=\"\",\"\",'Maklumat Umum'!B94)","v":""},{"$f":"IF('Maklumat Umum'!C94=\"\",\"\",'Maklumat Umum'!C94)","v":""},null,null,null,null,null,null,null,null,null,null,null,null,null,null,null,null,null,null,null,null,null,null,null,null,null,null,null,null,null,null,null,null,"","","","","",null,0,0,0]
[73,{"$f":"IF('Maklumat Umum'!B95=\"\",\"\",'Maklumat Umum'!B95)","v":""},{"$f":"IF('Maklumat Umum'!C95=\"\",\"\",'Maklumat Umum'!C95)","v":""},null,null,null,null,null,null,null,null,null,null,null,null,null,null,null,null,null,null,null,null,null,null,null,null,null,null,null,null,null,null,null,null,"","","","","",null,0,0,0]
[74,{"$f":"IF('Maklumat Umum'!B96=\"\",\"\",'Maklumat Umum'!B96)","v":""},{"$f":"IF('Maklumat Umum'!C96=\"\",\"\",'Maklumat Umum'!C96)","v":""},null,null,null,null,null,null,null,null,null,null,null,null,null,null,null,null,null,null,null,null,null,null,null,null,null,null,null,null,null,null,null,null,{"$f":"IF(COUNTBLANK(E96:AI96)=31,\"\",AP96+AQ96+AR96)","v":""},{"$f":"IF(COUNTBLANK(E96:AI96)=31,\"\",IF(SUM(E96:AI96)+AJ96>20,20,SUM(E96:AI96)+AJ96))","v":""},"","","",null,0,0,0]
[75,{"$f":"IF('Maklumat Umum'!B97=\"\",\"\",'Maklumat Umum'!B97)","v":""},{"$f":"IF('Maklumat Umum'!C97=\"\",\"\",'Maklumat Umum'!C97)","v":""},null,null,null,null,null,null,null,null,null,null,null,null,null,null,null,null,null,null,null,null,null,null,null,null,null,null,null,null,null,null,null,null,{"$f":"IF(COUNTBLANK(E97:AI97)=31,\"\",AP97+AQ97+AR97)","v":""},{"$f":"IF(COUNTBLANK(E97:AI97)=31,\"\",IF(SUM(E97:AI97)+AJ97>20,20,SUM(E97:AI97)+AJ97))","v":""},"","","",null,{"$f":"IF(COUNTIF(E97:AI97,\"CS\")>14,14,COUNTIF(E97:AI97,\"CS\"))","v":0},{"$f":"COUNTIF(E97:AI97,\"CK\")","v":0},{"$f":"COUNTIF(E97:AI97,\"CU\")","v":0}]
[76,{"$f":"IF('Maklumat Umum'!B98=\"\",\"\",'Maklumat Umum'!B98)","v":""},{"$f":"IF('Maklumat Umum'!C98=\"\",\"\",'Maklumat Umum'!C98)","v":""},{"$f":"IF('Maklumat Umum'!D98=\"\",\"\",'Maklumat Umum'!D98)","v":""},null,null,null,null,null,null,null,null,null,null,null,null,null,null,null,null,null,null,null,null,null,null,null,null,null,null,null,null,null,null,null,{"$f":"IF(COUNTBLANK(E98:AI98)=31,\"\",AP98+AQ98+AR98)","v":""},{"$f":"IF(COUNTBLANK(E98:AI98)=31,\"\",IF(SUM(E98:AI98)+AJ98>20,20,SUM(E98:AI98)+AJ98))","v":""},"","","",null,{"$f":"IF(COUNTIF(E98:AI98,\"CS\")>14,14,COUNTIF(E98:AI98,\"CS\"))","v":0},{"$f":"COUNTIF(E98:AI98,\"CK\")","v":0},{"$f":"COUNTIF(E98:AI98,\"CU\")","v":0}]
[77,{"$f":"IF('Maklumat Umum'!B99=\"\",\"\",'Maklumat Umum'!B99)","v":""},{"$f":"IF('Maklumat Umum'!C99=\"\",\"\",'Maklumat Umum'!C99)","v":""},null,null,null,null,null,null,null,null,null,null,null,null,null,null,null,null,null,null,null,null,null,null,null,null,null,null,null,null,null,null,null,null,{"$f":"IF(COUNTBLANK(E99:AI99)=31,\"\",AP99+AQ99+AR99)","v":""},{"$f":"IF(COUNTBLANK(E99:AI99)=31,\"\",IF(SUM(E99:AI99)+AJ99>20,20,SUM(E99:AI99)+AJ99))","v":""},"","","",null,{"$f":"IF(COUNTIF(E99:AI99,\"CS\")>14,14,COUNTIF(E99:AI99,\"CS\"))","v":0},{"$f":"COUNTIF(E99:AI99,\"CK\")","v":0},{"$f":"COUNTIF(E99:AI99,\"CU\")","v":0}]
[78,{"$f":"IF('Maklumat Umum'!B100=\"\",\"\",'Maklumat Umum'!B100)","v":""},{"$f":"IF('Maklumat Umum'!C100=\"\",\"\",'Maklumat Umum'!C100)","v":""},null,null,null,null,null,null,null,null,null,null,null,null,null,null,null,null,null,null,null,null,null,null,null,null,null,null,null,null,null,null,null,null,"","","","","",null,0,0,0]
[79,{"$f":"IF('Maklumat Umum'!B101=\"\",\"\",'Maklumat Umum'!B101)","v":""},{"$f":"IF('Maklumat Umum'!C101=\"\",\"\",'Maklumat Umum'!C101)","v":""},null,null,null,null,null,null,null,null,null,null,null,null,null,null,null,null,null,null,null,null,null,null,null,null,null,null,null,null,null,null,null,null,"","","","","",null,0,0,0]
[80,{"$f":"IF('Maklumat Umum'!B102=\"\",\"\",'Maklumat Umum'!B102)","v":""},{"$f":"IF('Maklumat Umum'!C102=\"\",\"\",'Maklumat Umum'!C102)","v":""},null,null,null,null,null,null,null,null,null,null,null,null,null,null,null,null,null,null,null,null,null,null,null,null,null,null,null,null,null,null,null,null,"","","","","",null,0,0,0]
[81,{"$f":"IF('Maklumat Umum'!B103=\"\",\"\",'Maklumat Umum'!B103)","v":""},{"$f":"IF('Maklumat Umum'!C103=\"\",\"\",'Maklumat Umum'!C103)","v":""},{"$f":"IF('Maklumat Umum'!D103=\"\",\"\",'Maklumat Umum'!D103)","v":""},null,null,null,null,null,null,null,null,null,null,null,null,null,null,null,null,null,null,null,null,null,null,null,null,null,null,null,null,null,null,null,"","","","","",null,0,0,0]
[82,{"$f":"IF('Maklumat Umum'!B104=\"\",\"\",'Maklumat Umum'!B104)","v":""},{"$f":"IF('Maklumat Umum'!C104=\"\",\"\",'Maklumat Umum'!C104)","v":""},null,null,null,null,null,null,null,null,null,null,null,null,null,null,null,null,null,null,null,null,null,null,null,null,null,null,null,null,null,null,null,null,"","","","","",null,0,0,0]
[83,{"$f":"IF('Maklumat Umum'!B105=\"\",\"\",'Maklumat Umum'!B105)","v":""},{"$f":"IF('Maklumat Umum'!C105=\"\",\"\",'Maklumat Umum'!C105)","v":""},null,null,null,null,null,null,null,null,null,null,null,null,null,null,null,null,null,null,null,null,null,null,null,null,null,null,null,null,null,null,null,null,"","","","","",null,0,0,0]
[84,{"$f":"IF('Maklumat Umum'!B106=\"\",\"\",'Maklumat Umum'!B106)","v":""},{"$f":"IF('Maklumat Umum'!C106=\"\",\"\",'Maklumat Umum'!C106)","v":""},null,null,null,null,null,null,null,null,null,null,null,null,null,null,null,null,null,null,null,null,null,null,null,null,null,null,null,null,null,null,null,null,"","","","","",null,0,0,0]
[85,{"$f":"IF('Maklumat Umum'!B107=\"\",\"\",'Maklumat Umum'!B107)","v":""},{"$f":"IF('Maklumat Umum'!C107=\"\",\"\",'Maklumat Umum'!C107)","v":""},null,null,null,null,null,null,null,null,null,null,null,null,null,null,null,null,null,null,null,null,null,null,null,null,null,null,null,null,null,null,null,null,"","","","","",null,0,0,0]
[86,{"$f":"IF('Maklumat Umum'!B108=\"\",\"\",'Maklumat Umum'!B108)","v":""},{"$f":"IF('Maklumat Umum'!C108=\"\",\"\",'Maklumat Umum'!C108)","v":""},{"$f":"IF('Maklumat Umum'!D108=\"\",\"\",'Maklumat Umum'!D108)","v":""},null,null,null,null,null,null,null,null,null,null,null,null,null,null,null,null,null,null,null,null,null,null,null,null,null,null,null,null,null,null,null,"","","","","",null,0,0,0]
[87,{"$f":"IF('Maklumat Umum'!B109=\"\",\"\",'Maklumat Umum'!B109)","v":""},{"$f":"IF('Maklumat Umum'!C109=\"\",\"\",'Maklumat Umum'!C109)","v":""},null,null,null,null,null,null,null,null,null,null,null,null,null,null,null,null,null,null,null,null,null,null,null,null,null,null,null,null,null,null,null,null,"","","","","",null,0,0,0]
[88,{"$f":"IF('Maklumat Umum'!B110=\"\",\"\",'Maklumat Umum'!B110)","v":""},{"$f":"IF('Maklumat Umum'!C110=\"\",\"\",'Maklumat Umum'!C110)","v":""},null,null,null,null,null,null,null,null,null,null,null,null,null,null,null,null,null,null,null,null,null,null,null,null,null,null,null,null,null,null,null,null,"","","","","",null,0,0,0]
[89,{"$f":"IF('Maklumat Umum'!B111=\"\",\"\",'Maklumat Umum'!B111)","v":""},{"$f":"IF('Maklumat Umum'!C111=\"\",\"\",'Maklumat Umum'!C111)","v":""},null,null,null,null,null,null,null,null,null,null,null,null,null,null,null,null,null,null,null,null,null,null,null,null,null,null,null,null,null,null,null,null,"","","","","",null,0,0,0]
[90,{"$f":"IF('Maklumat Umum'!B112=\"\",\"\",'Maklumat Umum'!B112)","v":""},{"$f":"IF('Maklumat Umum'!C112=\"\",\"\",'Maklumat Umum'!C112)","v":""},null,null,null,null,null,null,null,null,null,null,null,null,null,null,null,null,null,null,null,null,null,null,null,null,null,null,null,null,null,null,null,null,"","","","","",null,0,0,0]
[91,{"$f":"IF('Maklumat Umum'!B113=\"\",\"\",'Maklumat Umum'!B113)","v":""},{"$f":"IF('Maklumat Umum'!C113=\"\",\"\",'Maklumat Umum'!C113)","v":""},{"$f":"IF('Maklumat Umum'!D113=\"\",\"\",'Maklumat Umum'!D113)","v":""},null,null,null,null,null,null,null,null,null,null,null,null,null,null,null,null,null,null,null,null,null,null,null,null,null,null,null,null,null,null,null,"","","","","",null,0,0,0]
[92,{"$f":"IF('Maklumat Umum'!B114=\"\",\"\",'Maklumat Umum'!B114)","v":""},{"$f":"IF('Maklumat Umum'!C114=\"\",\"\",'Maklumat Umum'!C114)","v":""},null,null,null,null,null,null,null,null,null,null,null,null,null,null,null,null,null,null,null,null,null,null,null,null,null,null,null,null,null,null,null,null,"","","","","",null,0,0,0]
[93,{"$f":"IF('Maklumat Umum'!B115=\"\",\"\",'Maklumat Umum'!B115)","v":""},{"$f":"IF('Maklumat Umum'!C115=\"\",\"\",'Maklumat Umum'!C115)","v":""},null,null,null,null,null,null,null,null,null,null,null,null,null,null,null,null,null,null,null,null,null,null,null,null,null,null,null,null,null,null,null,null,"","","","","",null,0,0,0]
[94,{"$f":"IF('Maklumat Umum'!B116=\"\",\"\",'Maklumat Umum'!B116)","v":""},{"$f":"IF('Maklumat Umum'!C116=\"\",\"\",'Maklumat Umum'!C116)","v":""},null,null,null,null,null,null,null,null,null,null,null,null,null,null,null,null,null,null,null,null,null,null,null,null,null,null,null,null,null,null,null,null,"","","","","",null,0,0,0]
[95,{"$f":"IF('Maklumat Umum'!B117=\"\",\"\",'Maklumat Umum'!B117)","v":""},{"$f":"IF('Maklumat Umum'!C117=\"\",\"\",'Maklumat Umum'!C117)","v":""},null,null,null,null,null,null,null,null,null,null,null,null,null,null,null,null,null,null,null,null,null,null,null,null,null,null,null,null,null,null,null,null,"","","","","",null,0,0,0]
[96,{"$f":"IF('Maklumat Umum'!B118=\"\",\"\",'Maklumat Umum'!B118)","v":""},{"$f":"IF('Maklumat Umum'!C118=\"\",\"\",'Maklumat Umum'!C118)","v":""},{"$f":"IF('Maklumat Umum'!D118=\"\",\"\",'Maklumat Umum'!D118)","v":""},null,null,null,null,null,null,null,null,null,null,null,null,null,null,null,null,null,null,null,null,null,null,null,null,null,null,null,null,null,null,null,"","","","","",null,0,0,0]
[97,{"$f":"IF('Maklumat Umum'!B119=\"\",\"\",'Maklumat Umum'!B119)","v":""},{"$f":"IF('Maklumat Umum'!C119=\"\",\"\",'Maklumat Umum'!C119)","v":""},null,null,null,null,null,null,null,null,null,null,null,null,null,null,null,null,null,null,null,null,null,null,null,null,null,null,null,null,null,null,null,null,"","","","","",null,0,0,0]
[98,{"$f":"IF('Maklumat Umum'!B120=\"\",\"\",'Maklumat Umum'!B120)","v":""},{"$f":"IF('Maklumat Umum'!C120=\"\",\"\",'Maklumat Umum'!C120)","v":""},null,null,null,null,null,null,null,null,null,null,null,null,null,null,null,null,null,null,null,null,null,null,null,null,null,null,null,null,null,null,null,null,"","","","","",null,0,0,0]
[99,{"$f":"IF('Maklumat Umum'!B121=\"\",\"\",'Maklumat Umum'!B121)","v":""},{"$f":"IF('Maklumat Umum'!C121=\"\",\"\",'Maklumat Umum'!C121)","v":""},null,null,null,null,null,null,null,null,null,null,null,null,null,null,null,null,null,null,null,null,null,null,null,null,null,null,null,null,null,null,null,null,{"$f":"IF(COUNTBLANK(E121:AI121)=31,\"\",AP121+AQ121+AR121)","v":""},{"$f":"IF(COUNTBLANK(E121:AI121)=31,\"\",IF(SUM(E121:AI121)+AJ121>20,20,SUM(E121:AI121)+AJ121))","v":""},"","","",null,0,0,0]
[100,{"$f":"IF('Maklumat Umum'!B122=\"\",\"\",'Maklumat Umum'!B122)","v":""},{"$f":"IF('Maklumat Umum'!C122=\"\",\"\",'Maklumat Umum'!C122)","v":""},null,null,null,null,null,null,null,null,null,null,null,null,null,null,null,null,null,null,null,null,null,null,null,null,null,null,null,null,null,null,null,null,{"$f":"IF(COUNTBLANK(E122:AI122)=31,\"\",AP122+AQ122+AR122)","v":""},{"$f":"IF(COUNTBLANK(E122:AI122)=31,\"\",IF(SUM(E122:AI122)+AJ122>20,20,SUM(E122:AI122)+AJ122))","v":""},"","","",null,{"$f":"IF(COUNTIF(E122:AI122,\"CS\")>14,14,COUNTIF(E122:AI122,\"CS\"))","v":0},{"$f":"COUNTIF(E122:AI122,\"CK\")","v":0},{"$f":"COUNTIF(E122:AI122,\"CU\")","v":0}]
["Nota: PL perlu pastikan maklumat adalah tepat dan nama perantis mengikut Kad Pengenalan serta turutan dalam Pengesahan Pendaftaran Perantis SLDN",null,null,null,null,null,null,null,null,null,null,null,null,null,null,null,null,null,null,null,null,null,null,null,null,null,null,null,null,null,null,null,null,null,null,"JUM TUNTUTAN",null,{"$f":"SUM(AL23:AL122)","v":0},{"$f":"SUM(AM23:AM122)","v":0},{"$f":"SUM(AN23:AN122)","v":0},null,null,null,null,"Pejabat Wilayah hendaklah memindahkan Jumlah tuntutan elaun perantis ini ke dalam MySPIKE bagi tujuan pembayaran "]
[null,null,null,null,null,null,null,null,null,null,null,null,null,null,null,null,null,null,null,null,null,null,null,null,null,null,null,null,null,null,null,null,null,null,null,null,null,{"$f":"SUM(AL123:AN123)","v":0}]
["Dengan ini kami mengesahkan bahawa maklumat di atas adalah benar dan perantis sedang menjalani latihan di syarikat kerjasama/ penyedia latihan seperti yang telah ditetapkan."]
[]
["Disediakan oleh",null,null,null,null,null,null,null,null,null,null,null,null,null,"Disahkan oleh"]
[]
["…………………………………………….",null,null,null,null,null,null,null,null,null,null,null,null,null,"……………………………………………."]
["(Tandatangan Penyelaras Pusat Latihan)",null,null,null,null,null,null,null,null,null,null,null,"(Tandatangan Penyelaras Syarikat 1)",null,null,null,null,null,null,null,null,null,null,null,null,null,null,null,null,null,"(Tandatangan Penyelaras Syarikat 2)"]
["Nama:  ",null,null,null,null,null,null,null,null,null,null,null,"Nama:",null,null,null,null,null,null,null,null,null,null,null,null,null,null,null,null,null,"Nama:"]
["Tarikh:",null,null,null,null,null,null,null,null,null,null,null,"Tarikh:",null,null,null,null,null,null,null,null,null,null,null,null,null,null,null,null,null,"Tarikh:"]
[]
["PENGESAHAN PENGURUS PUSAT LATIHAN:",null,null,null,null,null,null,null,null,null,null,null,"(Tandatangan Penyelaras Syarikat 3)",null,null,null,null,null,null,null,null,null,null,null,null,null,null,null,null,null,"(Tandatangan Penyelaras Syarikat 4)"]
["Saya memperakukan kenyataan di atas adalah  benar",null,null,null,null,null,null,null,null,null,null,null,"Nama:",null,null,null,null,null,null,null,null,null,null,null,null,null,null,null,null,null,"Nama:"]
[null,null,null,null,null,null,null,null,null,null,null,null,"Tarikh:",null,null,null,null,null,null,null,null,null,null,null,null,null,null,null,null,null,"Tarikh:"]
["……………………………………………."]
["(Tandatangan Pengurus Pusat Latihan)",null,null,null,null,null,null,null,null,null,null,null,"(Tandatangan Penyelaras Syarikat 5)"]
[null,null,null,null,null,null,null,null,null,null,null,null,"Nama:"]
["Nama ",null,null,null,null,null,null,null,null,null,null,null,"Tarikh:"]
["No Kad Pengenalan (Pengurus Pusat Latihan)"]
["Tarikh:",null,null,"Cop Rasmi Pusat Latihan:"]

{"sheet":"Claim_page1_Dec23","index":24,"n_rows":24,"n_cols":5,"rows_kept":24,"cut":false,"hidden":false,"merged":[[0,0,0,3],[0,4,7,9],[1,1,1,2],[3,1,3,3],[4,1,4,3],[5,1,5,3],[6,0,6,3],[7,1,7,3],[18,0,18,3],[8,1,8,3],[9,1,9,3],[10,1,10,3],[11,1,11,3],[12,0,12,3],[13,1,13,3],[13,4,17,4],[14,1,14,3],[15,1,15,3],[16,1,16,3],[17,1,17,3]]}
[{"$f":"\"BORANG PERMOHONAN TUNTUTAN INSENTIF \" & CHAR(10)& 'Maklumat Umum'!H1000","v":"BORANG PERMOHONAN TUNTUTAN INSENTIF \nSISTEM LATIHAN DUAL NASIONAL (SLDN) BERINSENTIF 2023"}]
["BULAN:","DEC 2023"]
[]
["No Pengambilan:",{"$f":"'Maklumat Umum'!C11","v":0}]
["Tarikh Mula Latihan",{"$f":"'Maklumat Umum'!C13","v":"00:00:00"}]
["Tarikh Tamat Latihan",{"$f":"'Maklumat Umum'!C14","v":"2024-01-26"}]
["BAHAGIAN A. MAKLUMAT PEMOHON"]
["Nama Pusat Latihan / Syarikat Inhouse (seperti dalam Surat Tawaran/ Perjanjian)",{"$f":"FebXX!C5","v":0}]
["Kod Pusat Latihan / Syarikat Inhouse",{"$f":"FebXX!C6","v":0}]
["ID Rujukan Tawaran SLDN Plus ",{"$f":"'Maklumat Tuntutan'!B5","v":0},null,null,"Cth. JPK/SP/7099"]
["Nama Penyelaras Pusat Latihan/ Syarikat Inhouse",{"$f":"'Maklumat Tuntutan'!B6","v":0}]
["No. Kad Pengenalan",{"$f":"'Maklumat Tuntutan'!B7","v":0}]
["BAHAGIAN B. MAKLUMAT PENERIMA DAN AKAUN BAYARAN INSENTIF"]
["Nama Penerima Bayaran (Pusat Latihan / Syarikat Inhouse)",{"$f":"'Maklumat Tuntutan'!B9","v":0},null,null,"Akaun Bank Mesti Sama Dengan Akaun Yang Dinyatakan Dalam Dokumen Perjanjian"]
["Nama Bank Penerima",{"$f":"'Maklumat Tuntutan'!B10","v":0}]
["Nombor Akaun Bank Penerima",{"$f":"'Maklumat Tuntutan'!B11","v":0}]
["Cawangan Bank",{"$f":"'Maklumat Tuntutan'!B12","v":0}]
["Salinan Penyata Akaun Bank (Sila pastikan maklumat pada dokumen jelas dan terang)","Dilampirkan"]
["BAHAGIAN C. MAKLUMAT TUNTUTAN INSENTIF (BERDASARKAN REKOD KEHADIRAN PERANTIS)"]
["Butiran","Kadar sehari (RM)","%","Jumlah \n(RM)"]
["i.  Insentif Pusat Latihan",15,{"$f":"B21/(B$21+B$22+B$23)","v":0.3},{"$f":"'Dec23'!AM123","v":0}]
["ii.  Insentif Syarikat Kerjasama",10,{"$f":"B22/(B$21+B$22+B$23)","v":0.2},{"$f":"'Dec23'!AN123","v":0}]
["iii. Elaun Perantis",25,{"$f":"B23/(B$21+B$22+B$23)","v":0.5},{"$f":"'Dec23'!AL123","v":0}]
["JUMLAH",null,null,{"$f":"SUM(D21:D23)","v":0}]

{"sheet":"Jan24","index":25,"n_rows":142,"n_cols":45,"rows_kept":142,"cut":false,"hidden":false,"merged":[[0,0,0,40],[1,0,1,40],[2,16,2,20],[5,12,8,35],[15,1,16,2],[16,4,16,33],[17,0,21,0],[17,1,21,1],[17,2,21,2],[17,3,21,3],[17,4,17,33],[19,4,19,33],[47,3,51,3],[17,36,21,36],[17,37,17,39],[17,40,21,40],[18,37,21,37],[18,38,21,38],[18,39,21,39],[17,35,21,35],[22,3,26,3],[27,3,31,3],[32,3,36,3],[37,3,41,3],[42,3,46,3],[107,3,111,3],[52,3,56,3],[57,3,61,3],[62,3,66,3],[67,3,71,3],[72,3,76,3],[77,3,81,3],[82,3,86,3],[87,3,91,3],[92,3,96,3],[97,3,101,3],[102,3,106,3],[112,3,116,3],[117,3,121,3],[122,35,123,36],[122,44,126,50],[123,37,123,39]]}
["BORANG KEHADIRAN PERANTIS"]
[{"$f":"'Maklumat Umum'!H1000","v":"SISTEM LATIHAN DUAL NASIONAL (SLDN) BERINSENTIF 2023"}]
[null,null,null,null,null,null,null,null,null,null,null,null,null,"BULAN",null,null,"JAN 2024",null,null,null,null,null,null,null,null,null,null,null,null,null,null,null,null,null,null,null,"JPK/SP/02"]
[]
[null,"NAMA PUSAT LATIHAN",{"$f":"'Maklumat Umum'!C8","v":0},null,null,null,null,null,null,null,null,null,"Nota: "]
[null,"KOD PUSAT LATIHAN",{"$f":"'Maklumat Umum'!C9","v":0},null,null,null,null,null,null,null,null,null,"1. Bil maksimum hari latihan sebulan yang layak dibayar insentif adalah 20 hari termasuklah:\n(1) Cuti Sakit terhad kepada 14 hari sahaja  - Perlu sertakan Perakuan dari Klinik/Hospital\n(2) Cuti Kecemasan seperti kematian ahli keluarga, kebakaran, banjir dan lain-lain -  Perlu sertakan Surat Pihak Berkuasa Berkaitan (Klinik/Hospital, polis dll) \n(3) Cuti Umum Negeri atau Nasional\n(4) Cuti Kuarantin - Perlu sertakan kelulusan"]
[null,"NAMA PROGRAM",{"$f":"'Maklumat Umum'!C10","v":0}]
[null,"NO PENGAMBILAN",{"$f":"'Maklumat Umum'!C11","v":0}]
[null,"TARIKH MULA LATIHAN",{"$f":"'Maklumat Umum'!C13","v":"00:00:00"}]
[null,"TARIKH TAMAT LATIHAN",{"$f":"'Maklumat Umum'!C14","v":"2024-01-26"},null,null,null,null,null,null,null,null,null,"2. Kadar sehari elaun perantis adalah RM25"]
[null,"TEMPOH LATIHAN DILULUSKAN (BULAN)",{"$f":"'Maklumat Umum'!C12","v":0},null,null,null,null,null,null,null,null,null,"3. Perantis hanya layak dibayar jika kehadiran sekurang-kurangnya 80% (16 hari). PL dan syarikat dibayar mengikut bil hari perantis hadir"]
[]
[]
[]
[]
[null,"TARIKH BELUM DIISI"]
[null,null,null,null,"1 = Hadir            Kosongkan (Blank) = Tidak Hadir            CS = Cuti Sakit             CK = Cuti Kecemasan/Kurantin          CU = Cuti Umum"]
["BIL","Nama Perantis","No Kad \nPengenalan","Syarikat","BIL HARI LATIHAN",null,null,null,null,null,null,null,null,null,null,null,null,null,null,null,null,null,null,null,null,null,null,null,null,null,null,null,null,null,null,"Bil Hari\nCS,CK,\nCU Layak","Bil \nHari Boleh Dibayar","Tuntutan (RM)",null,null,"Tandatangan Perantis"]
[null,null,null,null,1,2,3,4,5,6,7,8,9,10,11,12,13,14,15,16,17,18,19,20,21,22,23,24,25,26,27,28,29,30,31,null,null,"Perantis","Pusat Latihan","Syarikat"]
[null,null,null,null,"TARIKH & HARI"]
[]
[]
[1,{"$f":"IF('Maklumat Umum'!B23=\"\",\"\",'Maklumat Umum'!B23)","v":""},{"$f":"IF('Maklumat Umum'!C23=\"\",\"\",'Maklumat Umum'!C23)","v":""},{"$f":"IF('Maklumat Umum'!D23=\"\",\"\",'Maklumat Umum'!D23)","v":""},null,null,null,null,null,null,null,null,null,null,null,null,null,null,null,null,null,null,null,null,null,null,null,null,null,null,null,null,null,null,null,{"$f":"IF(COUNTBLANK(E23:AI23)=31,\"\",AP23+AQ23+AR23)","v":""},{"$f":"IF(COUNTBLANK(E23:AI23)=31,\"\",IF(SUM(E23:AI23)+AJ23>20,20,SUM(E23:AI23)+AJ23))","v":""},{"$f":"IF(COUNTBLANK(E23:AI23)=31,\"\",IF(AK23<16,0,AK23*25))","v":""},{"$f":"IF(AL23=\"\",\"\",IF(AL23=0,AK23*15,(AL23/0.5)*0.3))","v":""},{"$f":"IF(AL23=\"\",\"\",IF(AL23=0,AK23*10,(AL23/0.5)*0.2))","v":""},null,{"$f":"IF(COUNTIF(E23:AI23,\"CS\")>14,14,COUNTIF(E23:AI23,\"CS\"))","v":0},{"$f":"COUNTIF(E23:AI23,\"CK\")","v":0},{"$f":"COUNTIF(E23:AI23,\"CU\")","v":0}]
[2,{"$f":"IF('Maklumat Umum'!B24=\"\",\"\",'Maklumat Umum'!B24)","v":""},{"$f":"IF('Maklumat Umum'!C24=\"\",\"\",'Maklumat Umum'!C24)","v":""},null,null,null,null,null,null,null,null,null,null,null,null,null,null,null,null,null,null,null,null,null,null,null,null,null,null,null,null,null,null,null,null,{"$f":"IF(COUNTBLANK(E24:AI24)=31,\"\",AP24+AQ24+AR24)","v":""},{"$f":"IF(COUNTBLANK(E24:AI24)=31,\"\",IF(SUM(E24:AI24)+AJ24>20,20,SUM(E24:AI24)+AJ24))","v":""},"","","",null,{"$f":"IF(COUNTIF(E24:AI24,\"CS\")>14,14,COUNTIF(E24:AI24,\"CS\"))","v":0},{"$f":"COUNTIF(E24:AI24,\"CK\")","v":0},{"$f":"COUNTIF(E24:AI24,\"CU\")","v":0}]
[3,{"$f":"IF('Maklumat Umum'!B25=\"\",\"\",'Maklumat Umum'!B25)","v":""},{"$f":"IF('Maklumat Umum'!C25=\"\",\"\",'Maklumat Umum'!C25)","v":""},null,null,null,null,null,null,null,null,null,null,null,null,null,null,null,null,null,null,null,null,null,null,null,null,null,null,null,null,null,null,null,null,"","","","","",null,0,0,0]
[4,{"$f":"IF('Maklumat Umum'!B26=\"\",\"\",'Maklumat Umum'!B26)","v":""},{"$f":"IF('Maklumat Umum'!C26=\"\",\"\",'Maklumat Umum'!C26)","v":""},null,null,null,null,null,null,null,null,null,null,null,null,null,null,null,null,null,null,null,null,null,null,null,null,null,null,null,null,null,null,null,null,"","","","","",null,0,0,0]
[5,{"$f":"IF('Maklumat Umum'!B27=\"\",\"\",'Maklumat Umum'!B27)","v":""},{"$f":"IF('Maklumat Umum'!C27=\"\",\"\",'Maklumat Umum'!C27)","v":""},null,null,null,null,null,null,null,null,null,null,null,null,null,null,null,null,null,null,null,null,null,null,null,null,null,null,null,null,null,null,null,null,"","","","","",null,0,0,0]
[6,{"$f":"IF('Maklumat Umum'!B28=\"\",\"\",'Maklumat Umum'!B28)","v":""},{"$f":"IF('Maklumat Umum'!C28=\"\",\"\",'Maklumat Umum'!C28)","v":""},{"$f":"IF('Maklumat Umum'!D28=\"\",\"\",'Maklumat Umum'!D28)","v":""},null,null,null,null,null,null,null,null,null,null,null,null,null,null,null,null,null,null,null,null,null,null,null,null,null,null,null,null,null,null,null,"","","","","",null,0,0,0]
[7,{"$f":"IF('Maklumat Umum'!B29=\"\",\"\",'Maklumat Umum'!B29)","v":""},{"$f":"IF('Maklumat Umum'!C29=\"\",\"\",'Maklumat Umum'!C29)","v":""},null,null,null,null,null,null,null,null,null,null,null,null,null,null,null,null,null,null,null,null,null,null,null,null,null,null,null,null,null,null,null,null,"","","","","",null,0,0,0]
[8,{"$f":"IF('Maklumat Umum'!B30=\"\",\"\",'Maklumat Umum'!B30)","v":""},{"$f":"IF('Maklumat Umum'!C30=\"\",\"\",'Maklumat Umum'!C30)","v":""},null,null,null,null,null,null,null,null,null,null,null,null,null,null,null,null,null,null,null,null,null,null,null,null,null,null,null,null,null,null,null,null,"","","","","",null,0,0,0]
[9,{"$f":"IF('Maklumat Umum'!B31=\"\",\"\",'Maklumat Umum'!B31)","v":""},{"$f":"IF('Maklumat Umum'!C31=\"\",\"\",'Maklumat Umum'!C31)","v":""},null,null,null,null,null,null,null,null,null,null,null,null,null,null,null,null,null,null,null,null,null,null,null,null,null,null,null,null,null,null,null,null,"","","","","",null,0,0,0]
[10,{"$f":"IF('Maklumat Umum'!B32=\"\",\"\",'Maklumat Umum'!B32)","v":""},{"$f":"IF('Maklumat Umum'!C32=\"\",\"\",'Maklumat Umum'!C32)","v":""},null,null,null,null,null,null,null,null,null,null,null,null,null,null,null,null,null,null,null,null,null,null,null,null,null,null,null,null,null,null,null,null,"","","","","",null,0,0,0]
[11,{"$f":"IF('Maklumat Umum'!B33=\"\",\"\",'Maklumat Umum'!B33)","v":""},{"$f":"IF('Maklumat Umum'!C33=\"\",\"\",'Maklumat Umum'!C33)","v":""},{"$f":"IF('Maklumat Umum'!D33=\"\",\"\",'Maklumat Umum'!D33)","v":""},null,null,null,null,null,null,null,null,null,null,null,null,null,null,null,null,null,null,null,null,null,null,null,null,null,null,null,null,null,null,null,"","","","","",null,0,0,0]
[12,{"$f":"IF('Maklumat Umum'!B34=\"\",\"\",'Maklumat Umum'!B34)","v":""},{"$f":"IF('Maklumat Umum'!C34=\"\",\"\",'Maklumat Umum'!C34)","v":""},null,null,null,null,null,null,null,null,null,null,null,null,null,null,null,null,null,null,null,null,null,null,null,null,null,null,null,null,null,null,null,null,"","","","","",null,0,0,0]
[13,{"$f":"IF('Maklumat Umum'!B35=\"\",\"\",'Maklumat Umum'!B35)","v":""},{"$f":"IF('Maklumat Umum'!C35=\"\",\"\",'Maklumat Umum'!C35)","v":""},null,null,null,null,null,null,null,null,null,null,null,null,null,null,null,null,null,null,null,null,null,null,null,null,null,null,null,null,null,null,null,null,"","","","","",null,0,0,0]
[14,{"$f":"IF('Maklumat Umum'!B36=\"\",\"\",'Maklumat Umum'!B36)","v":""},{"$f":"IF('Maklumat Umum'!C36=\"\",\"\",'Maklumat Umum'!C36)","v":""},null,null,null,null,null,null,null,null,null,null,null,null,null,null,null,null,null,null,null,null,null,null,null,null,null,null,null,null,null,null,null,null,"","","","","",null,0,0,0]
[15,{"$f":"IF('Maklumat Umum'!B37=\"\",\"\",'Maklumat Umum'!B37)","v":""},{"$f":"IF('Maklumat Umum'!C37=\"\",\"\",'Maklumat Umum'!C37)","v":""},null,null,null,null,null,null,null,null,null,null,null,null,null,null,null,null,null,null,null,null,null,null,null,null,null,null,null,null,null,null,null,null,"","","","","",null,0,0,0]
[16,{"$f":"IF('Maklumat Umum'!B38=\"\",\"\",'Maklumat Umum'!B38)","v":""},{"$f":"IF('Maklumat Umum'!C38=\"\",\"\",'Maklumat Umum'!C38)","v":""},{"$f":"IF('Maklumat Umum'!D38=\"\",\"\",'Maklumat Umum'!D38)","v":""},null,null,null,null,null,null,null,null,null,null,null,null,null,null,null,null,null,null,null,null,null,null,null,null,null,null,null,null,null,null,null,"","","","","",null,0,0,0]
[17,{"$f":"IF('Maklumat Umum'!B39=\"\",\"\",'Maklumat Umum'!B39)","v":""},{"$f":"IF('Maklumat Umum'!C39=\"\",\"\",'Maklumat Umum'!C39)","v":""},null,null,null,null,null,null,null,null,null,null,null,null,null,null,null,null,null,null,null,null,null,null,null,null,null,null,null,null,null,null,null,null,"","","","","",null,0,0,0]
[18,{"$f":"IF('Maklumat Umum'!B40=\"\",\"\",'Maklumat Umum'!B40)","v":""},{"$f":"IF('Maklumat Umum'!C40=\"\",\"\",'Maklumat Umum'!C40)","v":""},null,null,null,null,null,null,null,null,null,null,null,null,null,null,null,null,null,null,null,null,null,null,null,null,null,null,null,null,null,null,null,null,"","","","","",null,0,0,0]
[19,{"$f":"IF('Maklumat Umum'!B41=\"\",\"\",'Maklumat Umum'!B41)","v":""},{"$f":"IF('Maklumat Umum'!C41=\"\",\"\",'Maklumat Umum'!C41)","v":""},null,null,null,null,null,null,null,null,null,null,null,null,null,null,null,null,null,null,null,null,null,null,null,null,null,null,null,null,null,null,null,null,"","","","","",null,0,0,0]
[20,{"$f":"IF('Maklumat Umum'!B42=\"\",\"\",'Maklumat Umum'!B42)","v":""},{"$f":"IF('Maklumat Umum'!C42=\"\",\"\",'Maklumat Umum'!C42)","v":""},null,null,null,null,null,null,null,null,null,null,null,null,null,null,null,null,null,null,null,null,null,null,null,null,null,null,null,null,null,null,null,null,"","","","","",null,0,0,0]
[21,{"$f":"IF('Maklumat Umum'!B43=\"\",\"\",'Maklumat Umum'!B43)","v":""},{"$f":"IF('Maklumat Umum'!C43=\"\",\"\",'Maklumat Umum'!C43)","v":""},{"$f":"IF('Maklumat Umum'!D43=\"\",\"\",'Maklumat Umum'!D43)","v":""},null,null,null,null,null,null,null,null,null,null,null,null,null,null,null,null,null,null,null,null,null,null,null,null,null,null,null,null,null,null,null,"","","","","",null,0,0,0]
[22,{"$f":"IF('Maklumat Umum'!B44=\"\",\"\",'Maklumat Umum'!B44)","v":""},{"$f":"IF('Maklumat Umum'!C44=\"\",\"\",'Maklumat Umum'!C44)","v":""},null,null,null,null,null,null,null,null,null,null,null,null,null,null,null,null,null,null,null,null,null,null,null,null,null,null,null,null,null,null,null,null,"","","","","",null,0,0,0]
[23,{"$f":"IF('Maklumat Umum'!B45=\"\",\"\",'Maklumat Umum'!B45)","v":""},{"$f":"IF('Maklumat Umum'!C45=\"\",\"\",'Maklumat Umum'!C45)","v":""},null,null,null,null,null,null,null,null,null,null,null,null,null,null,null,null,null,null,null,null,null,null,null,null,null,null,null,null,null,null,null,null,"","","","","",null,0,0,0]
[24,{"$f":"IF('Maklumat Umum'!B46=\"\",\"\",'Maklumat Umum'!B46)","v":""},{"$f":"IF('Maklumat Umum'!C46=\"\",\"\",'Maklumat Umum'!C46)","v":""},null,null,null,null,null,null,null,null,null,null,null,null,null,null,null,null,null,null,null,null,null,null,null,null,null,null,null,null,null,null,null,null,{"$f":"IF(COUNTBLANK(E46:AI46)=31,\"\",AP46+AQ46+AR46)","v":""},{"$f":"IF(COUNTBLANK(E46:AI46)=31,\"\",IF(SUM(E46:AI46)+AJ46>20,20,SUM(E46:AI46)+AJ46))","v":""},"","","",null,0,0,0]
[25,{"$f":"IF('Maklumat Umum'!B47=\"\",\"\",'Maklumat Umum'!B47)","v":""},{"$f":"IF('Maklumat Umum'!C47=\"\",\"\",'Maklumat Umum'!C47)","v":""},null,null,null,null,null,null,null,null,null,null,null,null,null,null,null,null,null,null,null,null,null,null,null,null,null,null,null,null,null,null,null,null,{"$f":"IF(COUNTBLANK(E47:AI47)=31,\"\",AP47+AQ47+AR47)","v":""},{"$f":"IF(COUNTBLANK(E47:AI47)=31,\"\",IF(SUM(E47:AI47)+AJ47>20,20,SUM(E47:AI47)+AJ47))","v":""},"","","",null,{"$f":"IF(COUNTIF(E47:AI47,\"CS\")>14,14,COUNTIF(E47:AI47,\"CS\"))","v":0},{"$f":"COUNTIF(E47:AI47,\"CK\")","v":0},{"$f":"COUNTIF(E47:AI47,\"CU\")","v":0}]
[26,{"$f":"IF('Maklumat Umum'!B48=\"\",\"\",'Maklumat Umum'!B48)","v":""},{"$f":"IF('Maklumat Umum'!C48=\"\",\"\",'Maklumat Umum'!C48)","v":""},{"$f":"IF('Maklumat Umum'!D48=\"\",\"\",'Maklumat Umum'!D48)","v":""},null,null,null,null,null,null,null,null,null,null,null,null,null,null,null,null,null,null,null,null,null,null,null,null,null,null,null,null,null,null,null,{"$f":"IF(COUNTBLANK(E48:AI48)=31,\"\",AP48+AQ48+AR48)","v":""},{"$f":"IF(COUNTBLANK(E48:AI48)=31,\"\",IF(SUM(E48:AI48)+AJ48>20,20,SUM(E48:AI48)+AJ48))","v":""},"","","",null,{"$f":"IF(COUNTIF(E48:AI48,\"CS\")>14,14,COUNTIF(E48:AI48,\"CS\"))","v":0},{"$f":"COUNTIF(E48:AI48,\"CK\")","v":0},{"$f":"COUNTIF(E48:AI48,\"CU\")","v":0}]
[27,{"$f":"IF('Maklumat Umum'!B49=\"\",\"\",'Maklumat Umum'!B49)","v":""},{"$f":"IF('Maklumat Umum'!C49=\"\",\"\",'Maklumat Umum'!C49)","v":""},null,null,null,null,null,null,null,null,null,null,null,null,null,null,null,null,null,null,null,null,null,null,null,null,null,null,null,null,null,null,null,null,{"$f":"IF(COUNTBLANK(E49:AI49)=31,\"\",AP49+AQ49+AR49)","v":""},{"$f":"IF(COUNTBLANK(E49:AI49)=31,\"\",IF(SUM(E49:AI49)+AJ49>20,20,SUM(E49:AI49)+AJ49))","v":""},"","","",null,{"$f":"IF(COUNTIF(E49:AI49,\"CS\")>14,14,COUNTIF(E49:AI49,\"CS\"))","v":0},{"$f":"COUNTIF(E49:AI49,\"CK\")","v":0},{"$f":"COUNTIF(E49:AI49,\"CU\")","v":0}]
[28,{"$f":"IF('Maklumat Umum'!B50=\"\",\"\",'Maklumat Umum'!B50)","v":""},{"$f":"IF('Maklumat Umum'!C50=\"\",\"\",'Maklumat Umum'!C50)","v":""},null,null,null,null,null,null,null,null,null,null,null,null,null,null,null,null,null,null,null,null,null,null,null,null,null,null,null,null,null,null,null,null,"","","","","",null,0,0,0]
[29,{"$f":"IF('Maklumat Umum'!B51=\"\",\"\",'Maklumat Umum'!B51)","v":""},{"$f":"IF('Maklumat Umum'!C51=\"\",\"\",'Maklumat Umum'!C51)","v":""},null,null,null,null,null,null,null,null,null,null,null,null,null,null,null,null,null,null,null,null,null,null,null,null,null,null,null,null,null,null,null,null,"","","","","",null,0,0,0]
[30,{"$f":"IF('Maklumat Umum'!B52=\"\",\"\",'Maklumat Umum'!B52)","v":""},{"$f":"IF('Maklumat Umum'!C52=\"\",\"\",'Maklumat Umum'!C52)","v":""},null,null,null,null,null,null,null,null,null,null,null,null,null,null,null,null,null,null,null,null,null,null,null,null,null,null,null,null,null,null,null,null,"","","","","",null,0,0,0]
[31,{"$f":"IF('Maklumat Umum'!B53=\"\",\"\",'Maklumat Umum'!B53)","v":""},{"$f":"IF('Maklumat Umum'!C53=\"\",\"\",'Maklumat Umum'!C53)","v":""},{"$f":"IF('Maklumat Umum'!D53=\"\",\"\",'Maklumat Umum'!D53)","v":""},null,null,null,null,null,null,null,null,null,null,null,null,null,null,null,null,null,null,null,null,null,null,null,null,null,null,null,null,null,null,null,"","","","","",null,0,0,0]
[32,{"$f":"IF('Maklumat Umum'!B54=\"\",\"\",'Maklumat Umum'!B54)","v":""},{"$f":"IF('Maklumat Umum'!C54=\"\",\"\",'Maklumat Umum'!C54)","v":""},null,null,null,null,null,null,null,null,null,null,null,null,null,null,null,null,null,null,null,null,null,null,null,null,null,null,null,null,null,null,null,null,"","","","","",null,0,0,0]
[33,{"$f":"IF('Maklumat Umum'!B55=\"\",\"\",'Maklumat Umum'!B55)","v":""},{"$f":"IF('Maklumat Umum'!C55=\"\",\"\",'Maklumat Umum'!C55)","v":""},null,null,null,null,null,null,null,null,null,null,null,null,null,null,null,null,null,null,null,null,null,null,null,null,null,null,null,null,null,null,null,null,"","","","","",null,0,0,0]
[34,{"$f":"IF('Maklumat Umum'!B56=\"\",\"\",'Maklumat Umum'!B56)","v":""},{"$f":"IF('Maklumat Umum'!C56=\"\",\"\",'Maklumat Umum'!C56)","v":""},null,null,null,null,null,null,null,null,null,null,null,null,null,null,null,null,null,null,null,null,null,null,null,null,null,null,null,null,null,null,null,null,"","","","","",null,0,0,0]
[35,{"$f":"IF('Maklumat Umum'!B57=\"\",\"\",'Maklumat Umum'!B57)","v":""},{"$f":"IF('Maklumat Umum'!C57=\"\",\"\",'Maklumat Umum'!C57)","v":""},null,null,null,null,null,null,null,null,null,null,null,null,null,null,null,null,null,null,null,null,null,null,null,null,null,null,null,null,null,null,null,null,"","","","","",null,0,0,0]
[36,{"$f":"IF('Maklumat Umum'!B58=\"\",\"\",'Maklumat Umum'!B58)","v":""},{"$f":"IF('Maklumat Umum'!C58=\"\",\"\",'Maklumat Umum'!C58)","v":""},{"$f":"IF('Maklumat Umum'!D58=\"\",\"\",'Maklumat Umum'!D58)","v":""},null,null,null,null,null,null,null,null,null,null,null,null,null,null,null,null,null,null,null,null,null,null,null,null,null,null,null,null,null,null,null,"","","","","",null,0,0,0]
[37,{"$f":"IF('Maklumat Umum'!B59=\"\",\"\",'Maklumat Umum'!B59)","v":""},{"$f":"IF('Maklumat Umum'!C59=\"\",\"\",'Maklumat Umum'!C59)","v":""},null,null,null,null,null,null,null,null,null,null,null,null,null,null,null,null,null,null,null,null,null,null,null,null,null,null,null,null,null,null,null,null,"","","","","",null,0,0,0]
[38,{"$f":"IF('Maklumat Umum'!B60=\"\",\"\",'Maklumat Umum'!B60)","v":""},{"$f":"IF('Maklumat Umum'!C60=\"\",\"\",'Maklumat Umum'!C60)","v":""},null,null,null,null,null,null,null,null,null,null,null,null,null,null,null,null,null,null,null,null,null,null,null,null,null,null,null,null,null,null,null,null,"","","","","",null,0,0,0]
[39,{"$f":"IF('Maklumat Umum'!B61=\"\",\"\",'Maklumat Umum'!B61)","v":""},{"$f":"IF('Maklumat Umum'!C61=\"\",\"\",'Maklumat Umum'!C61)","v":""},null,null,null,null,null,null,null,null,null,null,null,null,null,null,null,null,null,null,null,null,null,null,null,null,null,null,null,null,null,null,null,null,"","","","","",null,0,0,0]
[40,{"$f":"IF('Maklumat Umum'!B62=\"\",\"\",'Maklumat Umum'!B62)","v":""},{"$f":"IF('Maklumat Umum'!C62=\"\",\"\",'Maklumat Umum'!C62)","v":""},null,null,null,null,null,null,null,null,null,null,null,null,null,null,null,null,null,null,null,null,null,null,null,null,null,null,null,null,null,null,null,null,"","","","","",null,0,0,0]
[41,{"$f":"IF('Maklumat Umum'!B63=\"\",\"\",'Maklumat Umum'!B63)","v":""},{"$f":"IF('Maklumat Umum'!C63=\"\",\"\",'Maklumat Umum'!C63)","v":""},{"$f":"IF('Maklumat Umum'!D63=\"\",\"\",'Maklumat Umum'!D63)","v":""},null,null,null,null,null,null,null,null,null,null,null,null,null,null,null,null,null,null,null,null,null,null,null,null,null,null,null,null,null,null,null,"","","","","",null,0,0,0]
[42,{"$f":"IF('Maklumat Umum'!B64=\"\",\"\",'Maklumat Umum'!B64)","v":""},{"$f":"IF('Maklumat Umum'!C64=\"\",\"\",'Maklumat Umum'!C64)","v":""},null,null,null,null,null,null,null,null,null,null,null,null,null,null,null,null,null,null,null,null,null,null,null,null,null,null,null,null,null,null,null,null,"","","","","",null,0,0,0]
[43,{"$f":"IF('Maklumat Umum'!B65=\"\",\"\",'Maklumat Umum'!B65)","v":""},{"$f":"IF('Maklumat Umum'!C65=\"\",\"\",'Maklumat Umum'!C65)","v":""},null,null,null,null,null,null,null,null,null,null,null,null,null,null,null,null,null,null,null,null,null,null,null,null,null,null,null,null,null,null,null,null,"","","","","",null,0,0,0]
[44,{"$f":"IF('Maklumat Umum'!B66=\"\",\"\",'Maklumat Umum'!B66)","v":""},{"$f":"IF('Maklumat Umum'!C66=\"\",\"\",'Maklumat Umum'!C66)","v":""},null,null,null,null,null,null,null,null,null,null,null,null,null,null,null,null,null,null,null,null,null,null,null,null,null,null,null,null,null,null,null,null,"","","","","",null,0,0,0]
[45,{"$f":"IF('Maklumat Umum'!B67=\"\",\"\",'Maklumat Umum'!B67)","v":""},{"$f":"IF('Maklumat Umum'!C67=\"\",\"\",'Maklumat Umum'!C67)","v":""},null,null,null,null,null,null,null,null,null,null,null,null,null,null,null,null,null,null,null,null,null,null,null,null,null,null,null,null,null,null,null,null,"","","","","",null,0,0,0]
[46,{"$f":"IF('Maklumat Umum'!B68=\"\",\"\",'Maklumat Umum'!B68)","v":""},{"$f":"IF('Maklumat Umum'!C68=\"\",\"\",'Maklumat Umum'!C68)","v":""},{"$f":"IF('Maklumat Umum'!D68=\"\",\"\",'Maklumat Umum'!D68)","v":""},null,null,null,null,null,null,null,null,null,null,null,null,null,null,null,null,null,null,null,null,null,null,null,null,null,null,null,null,null,null,null,"","","","","",null,0,0,0]
[47,{"$f":"IF('Maklumat Umum'!B69=\"\",\"\",'Maklumat Umum'!B69)","v":""},{"$f":"IF('Maklumat Umum'!C69=\"\",\"\",'Maklumat Umum'!C69)","v":""},null,null,null,null,null,null,null,null,null,null,null,null,null,null,null,null,null,null,null,null,null,null,null,null,null,null,null,null,null,null,null,null,"","","","","",null,0,0,0]
[48,{"$f":"IF('Maklumat Umum'!B70=\"\",\"\",'Maklumat Umum'!B70)","v":""},{"$f":"IF('Maklumat Umum'!C70=\"\",\"\",'Maklumat Umum'!C70)","v":""},null,null,null,null,null,null,null,null,null,null,null,null,null,null,null,null,null,null,null,null,null,null,null,null,null,null,null,null,null,null,null,null,"","","","","",null,0,0,0]
[49,{"$f":"IF('Maklumat Umum'!B71=\"\",\"\",'Maklumat Umum'!B71)","v":""},{"$f":"IF('Maklumat Umum'!C71=\"\",\"\",'Maklumat Umum'!C71)","v":""},null,null,null,null,null,null,null,null,null,null,null,null,null,null,null,null,null,null,null,null,null,null,null,null,null,null,null,null,null,null,null,null,{"$f":"IF(COUNTBLANK(E71:AI71)=31,\"\",AP71+AQ71+AR71)","v":""},{"$f":"IF(COUNTBLANK(E71:AI71)=31,\"\",IF(SUM(E71:AI71)+AJ71>20,20,SUM(E71:AI71)+AJ71))","v":""},"","","",null,0,0,0]
[50,{"$f":"IF('Maklumat Umum'!B72=\"\",\"\",'Maklumat Umum'!B72)","v":""},{"$f":"IF('Maklumat Umum'!C72=\"\",\"\",'Maklumat Umum'!C72)","v":""},null,null,null,null,null,null,null,null,null,null,null,null,null,null,null,null,null,null,null,null,null,null,null,null,null,null,null,null,null,null,null,null,{"$f":"IF(COUNTBLANK(E72:AI72)=31,\"\",AP72+AQ72+AR72)","v":""},{"$f":"IF(COUNTBLANK(E72:AI72)=31,\"\",IF(SUM(E72:AI72)+AJ72>20,20,SUM(E72:AI72)+AJ72))","v":""},"","","",null,{"$f":"IF(COUNTIF(E72:AI72,\"CS\")>14,14,COUNTIF(E72:AI72,\"CS\"))","v":0},{"$f":"COUNTIF(E72:AI72,\"CK\")","v":0},{"$f":"COUNTIF(E72:AI72,\"CU\")","v":0}]
[51,{"$f":"IF('Maklumat Umum'!B73=\"\",\"\",'Maklumat Umum'!B73)","v":""},{"$f":"IF('Maklumat Umum'!C73=\"\",\"\",'Maklumat Umum'!C73)","v":""},{"$f":"IF('Maklumat Umum'!D73=\"\",\"\",'Maklumat Umum'!D73)","v":""},null,null,null,null,null,null,null,null,null,null,null,null,null,null,null,null,null,null,null,null,null,null,null,null,null,null,null,null,null,null,null,{"$f":"IF(COUNTBLANK(E73:AI73)=31,\"\",AP73+AQ73+AR73)","v":""},{"$f":"IF(COUNTBLANK(E73:AI73)=31,\"\",IF(SUM(E73:AI73)+AJ73>20,20,SUM(E73:AI73)+AJ73))","v":""},"","","",null,{"$f":"IF(COUNTIF(E73:AI73,\"CS\")>14,14,COUNTIF(E73:AI73,\"CS\"))","v":0},{"$f":"COUNTIF(E73:AI73,\"CK\")","v":0},{"$f":"COUNTIF(E73:AI73,\"CU\")","v":0}]
[52,{"$f":"IF('Maklumat Umum'!B74=\"\",\"\",'Maklumat Umum'!B74)","v":""},{"$f":"IF('Maklumat Umum'!C74=\"\",\"\",'Maklumat Umum'!C74)","v":""},null,null,null,null,null,null,null,null,null,null,null,null,null,null,null,null,null,null,null,null,null,null,null,null,null,null,null,null,null,null,null,null,{"$f":"IF(COUNTBLANK(E74:AI74)=31,\"\",AP74+AQ74+AR74)","v":""},{"$f":"IF(COUNTBLANK(E74:AI74)=31,\"\",IF(SUM(E74:AI74)+AJ74>20,20,SUM(E74:AI74)+AJ74))","v":""},"","","",null,{"$f":"IF(COUNTIF(E74:AI74,\"CS\")>14,14,COUNTIF(E74:AI74,\"CS\"))","v":0},{"$f":"COUNTIF(E74:AI74,\"CK\")","v":0},{"$f":"COUNTIF(E74:AI74,\"CU\")","v":0}]
[53,{"$f":"IF('Maklumat Umum'!B75=\"\",\"\",'Maklumat Umum'!B75)","v":""},{"$f":"IF('Maklumat Umum'!C75=\"\",\"\",'Maklumat Umum'!C75)","v":""},null,null,null,null,null,null,null,null,null,null,null,null,null,null,null,null,null,null,null,null,null,null,null,null,null,null,null,null,null,null,null,null,"","","","","",null,0,0,0]
[54,{"$f":"IF('Maklumat Umum'!B76=\"\",\"\",'Maklumat Umum'!B76)","v":""},{"$f":"IF('Maklumat Umum'!C76=\"\",\"\",'Maklumat Umum'!C76)","v":""},null,null,null,null,null,null,null,null,null,null,null,null,null,null,null,null,null,null,null,null,null,null,null,null,null,null,null,null,null,null,null,null,"","","","","",null,0,0,0]
[55,{"$f":"IF('Maklumat Umum'!B77=\"\",\"\",'Maklumat Umum'!B77)","v":""},{"$f":"IF('Maklumat Umum'!C77=\"\",\"\",'Maklumat Umum'!C77)","v":""},null,null,null,null,null,null,null,null,null,null,null,null,null,null,null,null,null,null,null,null,null,null,null,null,null,null,null,null,null,null,null,null,"","","","","",null,0,0,0]
[56,{"$f":"IF('Maklumat Umum'!B78=\"\",\"\",'Maklumat Umum'!B78)","v":""},{"$f":"IF('Maklumat Umum'!C78=\"\",\"\",'Maklumat Umum'!C78)","v":""},{"$f":"IF('Maklumat Umum'!D78=\"\",\"\",'Maklumat Umum'!D78)","v":""},null,null,null,null,null,null,null,null,null,null,null,null,null,null,null,null,null,null,null,null,null,null,null,null,null,null,null,null,null,null,null,"","","","","",null,0,0,0]
[57,{"$f":"IF('Maklumat Umum'!B79=\"\",\"\",'Maklumat Umum'!B79)","v":""},{"$f":"IF('Maklumat Umum'!C79=\"\",\"\",'Maklumat Umum'!C79)","v":""},null,null,null,null,null,null,null,null,null,null,null,null,null,null,null,null,null,null,null,null,null,null,null,null,null,null,null,null,null,null,null,null,"","","","","",null,0,0,0]
[58,{"$f":"IF('Maklumat Umum'!B80=\"\",\"\",'Maklumat Umum'!B80)","v":""},{"$f":"IF('Maklumat Umum'!C80=\"\",\"\",'Maklumat Umum'!C80)","v":""},null,null,null,null,null,null,null,null,null,null,null,null,null,null,null,null,null,null,null,null,null,null,null,null,null,null,null,null,null,null,null,null,"","","","","",null,0,0,0]
[59,{"$f":"IF('Maklumat Umum'!B81=\"\",\"\",'Maklumat Umum'!B81)","v":""},{"$f":"IF('Maklumat Umum'!C81=\"\",\"\",'Maklumat Umum'!C81)","v":""},null,null,null,null,null,null,null,null,null,null,null,null,null,null,null,null,null,null,null,null,null,null,null,null,null,null,null,null,null,null,null,null,"","","","","",null,0,0,0]
[60,{"$f":"IF('Maklumat Umum'!B82=\"\",\"\",'Maklumat Umum'!B82)","v":""},{"$f":"IF('Maklumat Umum'!C82=\"\",\"\",'Maklumat Umum'!C82)","v":""},null,null,null,null,null,null,null,null,null,null,null,null,null,null,null,null,null,null,null,null,null,null,null,null,null,null,null,null,null,null,null,null,"","","","","",null,0,0,0]
[61,{"$f":"IF('Maklumat Umum'!B83=\"\",\"\",'Maklumat Umum'!B83)","v":""},{"$f":"IF('Maklumat Umum'!C83=\"\",\"\",'Maklumat Umum'!C83)","v":""},{"$f":"IF('Maklumat Umum'!D83=\"\",\"\",'Maklumat Umum'!D83)","v":""},null,null,null,null,null,null,null,null,null,null,null,null,null,null,null,null,null,null,null,null,null,null,null,null,null,null,null,null,null,null,null,"","","","","",null,0,0,0]
[62,{"$f":"IF('Maklumat Umum'!B84=\"\",\"\",'Maklumat Umum'!B84)","v":""},{"$f":"IF('Maklumat Umum'!C84=\"\",\"\",'Maklumat Umum'!C84)","v":""},null,null,null,null,null,null,null,null,null,null,null,null,null,null,null,null,null,null,null,null,null,null,null,null,null,null,null,null,null,null,null,null,"","","","","",null,0,0,0]
[63,{"$f":"IF('Maklumat Umum'!B85=\"\",\"\",'Maklumat Umum'!B85)","v":""},{"$f":"IF('Maklumat Umum'!C85=\"\",\"\",'Maklumat Umum'!C85)","v":""},null,null,null,null,null,null,null,null,null,null,null,null,null,null,null,null,null,null,null,null,null,null,null,null,null,null,null,null,null,null,null,null,"","","","","",null,0,0,0]
[64,{"$f":"IF('Maklumat Umum'!B86=\"\",\"\",'Maklumat Umum'!B86)","v":""},{"$f":"IF('Maklumat Umum'!C86=\"\",\"\",'Maklumat Umum'!C86)","v":""},null,null,null,null,null,null,null,null,null,null,null,null,null,null,null,null,null,null,null,null,null,null,null,null,null,null,null,null,null,null,null,null,"","","","","",null,0,0,0]
[65,{"$f":"IF('Maklumat Umum'!B87=\"\",\"\",'Maklumat Umum'!B87)","v":""},{"$f":"IF('Maklumat Umum'!C87=\"\",\"\",'Maklumat Umum'!C87)","v":""},null,null,null,null,null,null,null,null,null,null,null,null,null,null,null,null,null,null,null,null,null,null,null,null,null,null,null,null,null,null,null,null,"","",{"$f":"IF(COUNTBLANK(E87:AI87)=31,\"\",IF(AK87<16,0,AK87*25))","v":""},{"$f":"IF(AL87=\"\",\"\",IF(AL87=0,AK87*15,(AL87/0.5)*0.3))","v":""},{"$f":"IF(AL87=\"\",\"\",IF(AL87=0,AK87*10,(AL87/0.5)*0.2))","v":""},null,0,0,0]
[66,{"$f":"IF('Maklumat Umum'!B88=\"\",\"\",'Maklumat Umum'!B88)","v":""},{"$f":"IF('Maklumat Umum'!C88=\"\",\"\",'Maklumat Umum'!C88)","v":""},{"$f":"IF('Maklumat Umum'!D88=\"\",\"\",'Maklumat Umum'!D88)","v":""},null,null,null,null,null,null,null,null,null,null,null,null,null,null,null,null,null,null,null,null,null,null,null,null,null,null,null,null,null,null,null,"","","","","",null,0,0,0]
[67,{"$f":"IF('Maklumat Umum'!B89=\"\",\"\",'Maklumat Umum'!B89)","v":""},{"$f":"IF('Maklumat Umum'!C89=\"\",\"\",'Maklumat Umum'!C89)","v":""},null,null,null,null,null,null,null,null,null,null,null,null,null,null,null,null,null,null,null,null,null,null,null,null,null,null,null,null,null,null,null,null,"","","","","",null,0,0,0]
[68,{"$f":"IF('Maklumat Umum'!B90=\"\",\"\",'Maklumat Umum'!B90)","v":""},{"$f":"IF('Maklumat Umum'!C90=\"\",\"\",'Maklumat Umum'!C90)","v":""},null,null,null,null,null,null,null,null,null,null,null,null,null,null,null,null,null,null,null,null,null,null,null,null,null,null,null,null,null,null,null,null,"","","","","",null,0,0,0]
[69,{"$f":"IF('Maklumat Umum'!B91=\"\",\"\",'Maklumat Umum'!B91)","v":""},{"$f":"IF('Maklumat Umum'!C91=\"\",\"\",'Maklumat Umum'!C91)","v":""},null,null,null,null,null,null,null,null,null,null,null,null,null,null,null,null,null,null,null,null,null,null,null,null,null,null,null,null,null,null,null,null,"","","","","",null,0,0,0]
[70,{"$f":"IF('Maklumat Umum'!B92=\"\",\"\",'Maklumat Umum'!B92)","v":""},{"$f":"IF('Maklumat Umum'!C92=\"\",\"\",'Maklumat Umum'!C92)","v":""},null,null,null,null,null,null,null,null,null,null,null,null,null,null,null,null,null,null,null,null,null,null,null,null,null,null,null,null,null,null,null,null,"","","","","",null,0,0,0]
[71,{"$f":"IF('Maklumat Umum'!B93=\"\",\"\",'Maklumat Umum'!B93)","v":""},{"$f":"IF('Maklumat Umum'!C93=\"\",\"\",'Maklumat Umum'!C93)","v":""},{"$f":"IF('Maklumat Umum'!D93=\"\",\"\",'Maklumat Umum'!D93)","v":""},null,null,null,null,null,null,null,null,null,null,null,null,null,null,null,null,null,null,null,null,null,null,null,null,null,null,null,null,null,null,null,"","","","","",null,0,0,0]
[72,{"$f":"IF('Maklumat Umum'!B94=\"\",\"\",'Maklumat Umum'!B94)","v":""},{"$f":"IF('Maklumat Umum'!C94=\"\",\"\",'Maklumat Umum'!C94)","v":""},null,null,null,null,null,null,null,null,null,null,null,null,null,null,null,null,null,null,null,null,null,null,null,null,null,null,null,null,null,null,null,null,"","","","","",null,0,0,0]
[73,{"$f":"IF('Maklumat Umum'!B95=\"\",\"\",'Maklumat Umum'!B95)","v":""},{"$f":"IF('Maklumat Umum'!C95=\"\",\"\",'Maklumat Umum'!C95)","v":""},null,null,null,null,null,null,null,null,null,null,null,null,null,null,null,null,null,null,null,null,null,null,null,null,null,null,null,null,null,null,null,null,"","","","","",null,0,0,0]
[74,{"$f":"IF('Maklumat Umum'!B96=\"\",\"\",'Maklumat Umum'!B96)","v":""},{"$f":"IF('Maklumat Umum'!C96=\"\",\"\",'Maklumat Umum'!C96)","v":""},null,null,null,null,null,null,null,null,null,null,null,null,null,null,null,null,null,null,null,null,null,null,null,null,null,null,null,null,null,null,null,null,{"$f":"IF(COUNTBLANK(E96:AI96)=31,\"\",AP96+AQ96+AR96)","v":""},{"$f":"IF(COUNTBLANK(E96:AI96)=31,\"\",IF(SUM(E96:AI96)+AJ96>20,20,SUM(E96:AI96)+AJ96))","v":""},"","","",null,0,0,0]
[75,{"$f":"IF('Maklumat Umum'!B97=\"\",\"\",'Maklumat Umum'!B97)","v":""},{"$f":"IF('Maklumat Umum'!C97=\"\",\"\",'Maklumat Umum'!C97)","v":""},null,null,null,null,null,null,null,null,null,null,null,null,null,null,null,null,null,null,null,null,null,null,null,null,null,null,null,null,null,null,null,null,{"$f":"IF(COUNTBLANK(E97:AI97)=31,\"\",AP97+AQ97+AR97)","v":""},{"$f":"IF(COUNTBLANK(E97:AI97)=31,\"\",IF(SUM(E97:AI97)+AJ97>20,20,SUM(E97:AI97)+AJ97))","v":""},"","","",null,{"$f":"IF(COUNTIF(E97:AI97,\"CS\")>14,14,COUNTIF(E97:AI97,\"CS\"))","v":0},{"$f":"COUNTIF(E97:AI97,\"CK\")","v":0},{"$f":"COUNTIF(E97:AI97,\"CU\")","v":0}]
[76,{"$f":"IF('Maklumat Umum'!B98=\"\",\"\",'Maklumat Umum'!B98)","v":""},{"$f":"IF('Maklumat Umum'!C98=\"\",\"\",'Maklumat Umum'!C98)","v":""},{"$f":"IF('Maklumat Umum'!D98=\"\",\"\",'Maklumat Umum'!D98)","v":""},null,null,null,null,null,null,null,null,null,null,null,null,null,null,null,null,null,null,null,null,null,null,null,null,null,null,null,null,null,null,null,{"$f":"IF(COUNTBLANK(E98:AI98)=31,\"\",AP98+AQ98+AR98)","v":""},{"$f":"IF(COUNTBLANK(E98:AI98)=31,\"\",IF(SUM(E98:AI98)+AJ98>20,20,SUM(E98:AI98)+AJ98))","v":""},"","","",null,{"$f":"IF(COUNTIF(E98:AI98,\"CS\")>14,14,COUNTIF(E98:AI98,\"CS\"))","v":0},{"$f":"COUNTIF(E98:AI98,\"CK\")","v":0},{"$f":"COUNTIF(E98:AI98,\"CU\")","v":0}]
[77,{"$f":"IF('Maklumat Umum'!B99=\"\",\"\",'Maklumat Umum'!B99)","v":""},{"$f":"IF('Maklumat Umum'!C99=\"\",\"\",'Maklumat Umum'!C99)","v":""},null,null,null,null,null,null,null,null,null,null,null,null,null,null,null,null,null,null,null,null,null,null,null,null,null,null,null,null,null,null,null,null,{"$f":"IF(COUNTBLANK(E99:AI99)=31,\"\",AP99+AQ99+AR99)","v":""},{"$f":"IF(COUNTBLANK(E99:AI99)=31,\"\",IF(SUM(E99:AI99)+AJ99>20,20,SUM(E99:AI99)+AJ99))","v":""},"","","",null,{"$f":"IF(COUNTIF(E99:AI99,\"CS\")>14,14,COUNTIF(E99:AI99,\"CS\"))","v":0},{"$f":"COUNTIF(E99:AI99,\"CK\")","v":0},{"$f":"COUNTIF(E99:AI99,\"CU\")","v":0}]
[78,{"$f":"IF('Maklumat Umum'!B100=\"\",\"\",'Maklumat Umum'!B100)","v":""},{"$f":"IF('Maklumat Umum'!C100=\"\",\"\",'Maklumat Umum'!C100)","v":""},null,null,null,null,null,null,null,null,null,null,null,null,null,null,null,null,null,null,null,null,null,null,null,null,null,null,null,null,null,null,null,null,"","","","","",null,0,0,0]
[79,{"$f":"IF('Maklumat Umum'!B101=\"\",\"\",'Maklumat Umum'!B101)","v":""},{"$f":"IF('Maklumat Umum'!C101=\"\",\"\",'Maklumat Umum'!C101)","v":""},null,null,null,null,null,null,null,null,null,null,null,null,null,null,null,null,null,null,null,null,null,null,null,null,null,null,null,null,null,null,null,null,"","","","","",null,0,0,0]
[80,{"$f":"IF('Maklumat Umum'!B102=\"\",\"\",'Maklumat Umum'!B102)","v":""},{"$f":"IF('Maklumat Umum'!C102=\"\",\"\",'Maklumat Umum'!C102)","v":""},null,null,null,null,null,null,null,null,null,null,null,null,null,null,null,null,null,null,null,null,null,null,null,null,null,null,null,null,null,null,null,null,"","","","","",null,0,0,0]
[81,{"$f":"IF('Maklumat Umum'!B103=\"\",\"\",'Maklumat Umum'!B103)","v":""},{"$f":"IF('Maklumat Umum'!C103=\"\",\"\",'Maklumat Umum'!C103)","v":""},{"$f":"IF('Maklumat Umum'!D103=\"\",\"\",'Maklumat Umum'!D103)","v":""},null,null,null,null,null,null,null,null,null,null,null,null,null,null,null,null,null,null,null,null,null,null,null,null,null,null,null,null,null,null,null,"","","","","",null,0,0,0]
[82,{"$f":"IF('Maklumat Umum'!B104=\"\",\"\",'Maklumat Umum'!B104)","v":""},{"$f":"IF('Maklumat Umum'!C104=\"\",\"\",'Maklumat Umum'!C104)","v":""},null,null,null,null,null,null,null,null,null,null,null,null,null,null,null,null,null,null,null,null,null,null,null,null,null,null,null,null,null,null,null,null,"","","","","",null,0,0,0]
[83,{"$f":"IF('Maklumat Umum'!B105=\"\",\"\",'Maklumat Umum'!B105)","v":""},{"$f":"IF('Maklumat Umum'!C105=\"\",\"\",'Maklumat Umum'!C105)","v":""},null,null,null,null,null,null,null,null,null,null,null,null,null,null,null,null,null,null,null,null,null,null,null,null,null,null,null,null,null,null,null,null,"","","","","",null,0,0,0]
[84,{"$f":"IF('Maklumat Umum'!B106=\"\",\"\",'Maklumat Umum'!B106)","v":""},{"$f":"IF('Maklumat Umum'!C106=\"\",\"\",'Maklumat Umum'!C106)","v":""},null,null,null,null,null,null,null,null,null,null,null,null,null,null,null,null,null,null,null,null,null,null,null,null,null,null,null,null,null,null,null,null,"","","","","",null,0,0,0]
[85,{"$f":"IF('Maklumat Umum'!B107=\"\",\"\",'Maklumat Umum'!B107)","v":""},{"$f":"IF('Maklumat Umum'!C107=\"\",\"\",'Maklumat Umum'!C107)","v":""},null,null,null,null,null,null,null,null,null,null,null,null,null,null,null,null,null,null,null,null,null,null,null,null,null,null,null,null,null,null,null,null,"","","","","",null,0,0,0]
[86,{"$f":"IF('Maklumat Umum'!B108=\"\",\"\",'Maklumat Umum'!B108)","v":""},{"$f":"IF('Maklumat Umum'!C108=\"\",\"\",'Maklumat Umum'!C108)","v":""},{"$f":"IF('Maklumat Umum'!D108=\"\",\"\",'Maklumat Umum'!D108)","v":""},null,null,null,null,null,null,null,null,null,null,null,null,null,null,null,null,null,null,null,null,null,null,null,null,null,null,null,null,null,null,null,"","","","","",null,0,0,0]
[87,{"$f":"IF('Maklumat Umum'!B109=\"\",\"\",'Maklumat Umum'!B109)","v":""},{"$f":"IF('Maklumat Umum'!C109=\"\",\"\",'Maklumat Umum'!C109)","v":""},null,null,null,null,null,null,null,null,null,null,null,null,null,null,null,null,null,null,null,null,null,null,null,null,null,null,null,null,null,null,null,null,"","","","","",null,0,0,0]
[88,{"$f":"IF('Maklumat Umum'!B110=\"\",\"\",'Maklumat Umum'!B110)","v":""},{"$f":"IF('Maklumat Umum'!C110=\"\",\"\",'Maklumat Umum'!C110)","v":""},null,null,null,null,null,null,null,null,null,null,null,null,null,null,null,null,null,null,null,null,null,null,null,null,null,null,null,null,null,null,null,null,"","","","","",null,0,0,0]
[89,{"$f":"IF('Maklumat Umum'!B111=\"\",\"\",'Maklumat Umum'!B111)","v":""},{"$f":"IF('Maklumat Umum'!C111=\"\",\"\",'Maklumat Umum'!C111)","v":""},null,null,null,null,null,null,null,null,null,null,null,null,null,null,null,null,null,null,null,null,null,null,null,null,null,null,null,null,null,null,null,null,"","","","","",null,0,0,0]
[90,{"$f":"IF('Maklumat Umum'!B112=\"\",\"\",'Maklumat Umum'!B112)","v":""},{"$f":"IF('Maklumat Umum'!C112=\"\",\"\",'Maklumat Umum'!C112)","v":""},null,null,null,null,null,null,null,null,null,null,null,null,null,null,null,null,null,null,null,null,null,null,null,null,null,null,null,null,null,null,null,null,"","","","","",null,0,0,0]
[91,{"$f":"IF('Maklumat Umum'!B113=\"\",\"\",'Maklumat Umum'!B113)","v":""},{"$f":"IF('Maklumat Umum'!C113=\"\",\"\",'Maklumat Umum'!C113)","v":""},{"$f":"IF('Maklumat Umum'!D113=\"\",\"\",'Maklumat Umum'!D113)","v":""},null,null,null,null,null,null,null,null,null,null,null,null,null,null,null,null,null,null,null,null,null,null,null,null,null,null,null,null,null,null,null,"","","","","",null,0,0,0]
[92,{"$f":"IF('Maklumat Umum'!B114=\"\",\"\",'Maklumat Umum'!B114)","v":""},{"$f":"IF('Maklumat Umum'!C114=\"\",\"\",'Maklumat Umum'!C114)","v":""},null,null,null,null,null,null,null,null,null,null,null,null,null,null,null,null,null,null,null,null,null,null,null,null,null,null,null,null,null,null,null,null,"","","","","",null,0,0,0]
[93,{"$f":"IF('Maklumat Umum'!B115=\"\",\"\",'Maklumat Umum'!B115)","v":""},{"$f":"IF('Maklumat Umum'!C115=\"\",\"\",'Maklumat Umum'!C115)","v":""},null,null,null,null,null,null,null,null,null,null,null,null,null,null,null,null,null,null,null,null,null,null,null,null,null,null,null,null,null,null,null,null,"","","","","",null,0,0,0]
[94,{"$f":"IF('Maklumat Umum'!B116=\"\",\"\",'Maklumat Umum'!B116)","v":""},{"$f":"IF('Maklumat Umum'!C116=\"\",\"\",'Maklumat Umum'!C116)","v":""},null,null,null,null,null,null,null,null,null,null,null,null,null,null,null,null,null,null,null,null,null,null,null,null,null,null,null,null,null,null,null,null,"","","","","",null,0,0,0]
[95,{"$f":"IF('Maklumat Umum'!B117=\"\",\"\",'Maklumat Umum'!B117)","v":""},{"$f":"IF('Maklumat Umum'!C117=\"\",\"\",'Maklumat Umum'!C117)","v":""},null,null,null,null,null,null,null,null,null,null,null,null,null,null,null,null,null,null,null,null,null,null,null,null,null,null,null,null,null,null,null,null,"","","","","",null,0,0,0]
[96,{"$f":"IF('Maklumat Umum'!B118=\"\",\"\",'Maklumat Umum'!B118)","v":""},{"$f":"IF('Maklumat Umum'!C118=\"\",\"\",'Maklumat Umum'!C118)","v":""},{"$f":"IF('Maklumat Umum'!D118=\"\",\"\",'Maklumat Umum'!D118)","v":""},null,null,null,null,null,null,null,null,null,null,null,null,null,null,null,null,null,null,null,null,null,null,null,null,null,null,null,null,null,null,null,"","","","","",null,0,0,0]
[97,{"$f":"IF('Maklumat Umum'!B119=\"\",\"\",'Maklumat Umum'!B119)","v":""},{"$f":"IF('Maklumat Umum'!C119=\"\",\"\",'Maklumat Umum'!C119)","v":""},null,null,null,null,null,null,null,null,null,null,null,null,null,null,null,null,null,null,null,null,null,null,null,null,null,null,null,null,null,null,null,null,"","","","","",null,0,0,0]
[98,{"$f":"IF('Maklumat Umum'!B120=\"\",\"\",'Maklumat Umum'!B120)","v":""},{"$f":"IF('Maklumat Umum'!C120=\"\",\"\",'Maklumat Umum'!C120)","v":""},null,null,null,null,null,null,null,null,null,null,null,null,null,null,null,null,null,null,null,null,null,null,null,null,null,null,null,null,null,null,null,null,"","","","","",null,0,0,0]
[99,{"$f":"IF('Maklumat Umum'!B121=\"\",\"\",'Maklumat Umum'!B121)","v":""},{"$f":"IF('Maklumat Umum'!C121=\"\",\"\",'Maklumat Umum'!C121)","v":""},null,null,null,null,null,null,null,null,null,null,null,null,null,null,null,null,null,null,null,null,null,null,null,null,null,null,null,null,null,null,null,null,{"$f":"IF(COUNTBLANK(E121:AI121)=31,\"\",AP121+AQ121+AR121)","v":""},{"$f":"IF(COUNTBLANK(E121:AI121)=31,\"\",IF(SUM(E121:AI121)+AJ121>20,20,SUM(E121:AI121)+AJ121))","v":""},"","","",null,0,0,0]
[100,{"$f":"IF('Maklumat Umum'!B122=\"\",\"\",'Maklumat Umum'!B122)","v":""},{"$f":"IF('Maklumat Umum'!C122=\"\",\"\",'Maklumat Umum'!C122)","v":""},null,null,null,null,null,null,null,null,null,null,null,null,null,null,null,null,null,null,null,null,null,null,null,null,null,null,null,null,null,null,null,null,{"$f":"IF(COUNTBLANK(E122:AI122)=31,\"\",AP122+AQ122+AR122)","v":""},{"$f":"IF(COUNTBLANK(E122:AI122)=31,\"\",IF(SUM(E122:AI122)+AJ122>20,20,SUM(E122:AI122)+AJ122))","v":""},"","","",null,{"$f":"IF(COUNTIF(E122:AI122,\"CS\")>14,14,COUNTIF(E122:AI122,\"CS\"))","v":0},{"$f":"COUNTIF(E122:AI122,\"CK\")","v":0},{"$f":"COUNTIF(E122:AI122,\"CU\")","v":0}]
["Nota: PL perlu pastikan maklumat adalah tepat dan nama perantis mengikut Kad Pengenalan serta turutan dalam Pengesahan Pendaftaran Perantis SLDN",null,null,null,null,null,null,null,null,null,null,null,null,null,null,null,null,null,null,null,null,null,null,null,null,null,null,null,null,null,null,null,null,null,null,"JUM TUNTUTAN",null,{"$f":"SUM(AL23:AL122)","v":0},{"$f":"SUM(AM23:AM122)","v":0},{"$f":"SUM(AN23:AN122)","v":0},null,null,null,null,"Pejabat Wilayah hendaklah memindahkan Jumlah tuntutan elaun perantis ini ke dalam MySPIKE bagi tujuan pembayaran "]
[null,null,null,null,null,null,null,null,null,null,null,null,null,null,null,null,null,null,null,null,null,null,null,null,null,null,null,null,null,null,null,null,null,null,null,null,null,{"$f":"SUM(AL123:AN123)","v":0}]
["Dengan ini kami mengesahkan bahawa maklumat di atas adalah benar dan perantis sedang menjalani latihan di syarikat kerjasama/ penyedia latihan seperti yang telah ditetapkan."]
[]
["Disediakan oleh",null,null,null,null,null,null,null,null,null,null,null,null,null,"Disahkan oleh"]
[]
["…………………………………………….",null,null,null,null,null,null,null,null,null,null,null,null,null,"……………………………………………."]
["(Tandatangan Penyelaras Pusat Latihan)",null,null,null,null,null,null,null,null,null,null,null,"(Tandatangan Penyelaras Syarikat 1)",null,null,null,null,null,null,null,null,null,null,null,null,null,null,null,null,null,"(Tandatangan Penyelaras Syarikat 2)"]
["Nama:  ",null,null,null,null,null,null,null,null,null,null,null,"Nama:",null,null,null,null,null,null,null,null,null,null,null,null,null,null,null,null,null,"Nama:"]
["Tarikh:",null,null,null,null,null,null,null,null,null,null,null,"Tarikh:",null,null,null,null,null,null,null,null,null,null,null,null,null,null,null,null,null,"Tarikh:"]
[]
["PENGESAHAN PENGURUS PUSAT LATIHAN:",null,null,null,null,null,null,null,null,null,null,null,"(Tandatangan Penyelaras Syarikat 3)",null,null,null,null,null,null,null,null,null,null,null,null,null,null,null,null,null,"(Tandatangan Penyelaras Syarikat 4)"]
["Saya memperakukan kenyataan di atas adalah  benar",null,null,null,null,null,null,null,null,null,null,null,"Nama:",null,null,null,null,null,null,null,null,null,null,null,null,null,null,null,null,null,"Nama:"]
[null,null,null,null,null,null,null,null,null,null,null,null,"Tarikh:",null,null,null,null,null,null,null,null,null,null,null,null,null,null,null,null,null,"Tarikh:"]
["……………………………………………."]
["(Tandatangan Pengurus Pusat Latihan)",null,null,null,null,null,null,null,null,null,null,null,"(Tandatangan Penyelaras Syarikat 5)"]
[null,null,null,null,null,null,null,null,null,null,null,null,"Nama:"]
["Nama ",null,null,null,null,null,null,null,null,null,null,null,"Tarikh:"]
["No Kad Pengenalan (Pengurus Pusat Latihan)"]
["Tarikh:",null,null,"Cop Rasmi Pusat Latihan:"]

{"sheet":"Claim_page1_Jan24","index":26,"n_rows":24,"n_cols":5,"rows_kept":24,"cut":false,"hidden":false,"merged":[[0,0,0,3],[0,4,7,9],[1,1,1,2],[3,1,3,3],[4,1,4,3],[5,1,5,3],[6,0,6,3],[7,1,7,3],[18,0,18,3],[8,1,8,3],[9,1,9,3],[10,1,10,3],[11,1,11,3],[12,0,12,3],[13,1,13,3],[13,4,17,4],[14,1,14,3],[15,1,15,3],[16,1,16,3],[17,1,17,3]]}
[{"$f":"\"BORANG PERMOHONAN TUNTUTAN INSENTIF \" & CHAR(10)& 'Maklumat Umum'!H1000","v":"BORANG PERMOHONAN TUNTUTAN INSENTIF \nSISTEM LATIHAN DUAL NASIONAL (SLDN) BERINSENTIF 2023"}]
["BULAN:","JAN 2024"]
[]
["No Pengambilan:",{"$f":"'Maklumat Umum'!C11","v":0}]
["Tarikh Mula Latihan",{"$f":"'Maklumat Umum'!C13","v":"00:00:00"}]
["Tarikh Tamat Latihan",{"$f":"'Maklumat Umum'!C14","v":"2024-01-26"}]
["BAHAGIAN A. MAKLUMAT PEMOHON"]
["Nama Pusat Latihan / Syarikat Inhouse (seperti dalam Surat Tawaran/ Perjanjian)",{"$f":"FebXX!C5","v":0}]
["Kod Pusat Latihan / Syarikat Inhouse",{"$f":"FebXX!C6","v":0}]
["ID Rujukan Tawaran SLDN Plus ",{"$f":"'Maklumat Tuntutan'!B5","v":0},null,null,"Cth. JPK/SP/7099"]
["Nama Penyelaras Pusat Latihan/ Syarikat Inhouse",{"$f":"'Maklumat Tuntutan'!B6","v":0}]
["No. Kad Pengenalan",{"$f":"'Maklumat Tuntutan'!B7","v":0}]
["BAHAGIAN B. MAKLUMAT PENERIMA DAN AKAUN BAYARAN INSENTIF"]
["Nama Penerima Bayaran (Pusat Latihan / Syarikat Inhouse)",{"$f":"'Maklumat Tuntutan'!B9","v":0},null,null,"Akaun Bank Mesti Sama Dengan Akaun Yang Dinyatakan Dalam Dokumen Perjanjian"]
["Nama Bank Penerima",{"$f":"'Maklumat Tuntutan'!B10","v":0}]
["Nombor Akaun Bank Penerima",{"$f":"'Maklumat Tuntutan'!B11","v":0}]
["Cawangan Bank",{"$f":"'Maklumat Tuntutan'!B12","v":0}]
["Salinan Penyata Akaun Bank (Sila pastikan maklumat pada dokumen jelas dan terang)","Dilampirkan"]
["BAHAGIAN C. MAKLUMAT TUNTUTAN INSENTIF (BERDASARKAN REKOD KEHADIRAN PERANTIS)"]
["Butiran","Kadar sehari (RM)","%","Jumlah \n(RM)"]
["i.  Insentif Pusat Latihan",15,{"$f":"B21/(B$21+B$22+B$23)","v":0.3},{"$f":"'Jan24'!AM123","v":0}]
["ii.  Insentif Syarikat Kerjasama",10,{"$f":"B22/(B$21+B$22+B$23)","v":0.2},{"$f":"'Jan24'!AN123","v":0}]
["iii. Elaun Perantis",25,{"$f":"B23/(B$21+B$22+B$23)","v":0.5},{"$f":"'Jan24'!AL123","v":0}]
["JUMLAH",null,null,{"$f":"SUM(D21:D23)","v":0}]